BEGIN:VCALENDAR
VERSION:2.0
PRODID:-//wp-events-plugin.com//7.2.3.1//EN
TZID:Europe/London
X-WR-TIMEZONE:Europe/London
BEGIN:VEVENT
UID:3716@larevistadelapalma.com
DTSTART:20250713T203000Z
DTEND:20250713T220000Z
DTSTAMP:20250713T203714Z
URL:https://www.larevistadelapalma.com/events/concierto-de-luis-fonsi-en-l
 a-palma-fiestas-lustrales/
SUMMARY:Concierto de Luis Fonsi en La Palma- Fiestas Lustrales
DESCRIPTION:Luis Fonsi se incorpora a la programación musical de la LXX ed
 ición de las Fiestas Lustrales de la Bajada de la Virgen de las Nieves 20
 25. El creador de Despacito\, Échame la culpa\, y No me doy por vencido\,
  ofrecerá un concierto en Santa Cruz de La Palma  el 13 de julio.\n\nCan
 tante\, compositor\, productor musical\, y músico de baladas románticas 
 y pop latino que lo han convertido en un ídolo para millones de latinos. 
 El pasado año el puertorriqueño presentó su  disco número once\, ‘E
 l viaje’\, en el que colaboraron Carlos Vives y Laura Pausini\, y con el
  que celebraba sus 25 años sobre los escenarios.\nComprar entradas &gt\;&
 gt\;\n\nNo serán las únicas novedades en la programación de las Fiestas
  Lustrales\, pues también se incorporará un festival para los amantes de
  la zarzuela y el género chico\,  y un especial de humor.\nLas Fiestas L
 ustrales nos darán la oportunidad de asistir a los conciertos de UB 40\, 
 Manuel Carrasco\, Ana Belén\, Valeria Castro\, Los Sabandeños y Olga Ce
 rpa\, el Festival Los 40 Capital POP\, entre otros. Para ver los concierto
 s y espectáculos de La Bajada pincha aquí&gt\;&gt\;
ATTACH;FMTTYPE=image/jpeg:https://www.larevistadelapalma.com/wp-content/up
 loads/2025/04/Luis-Fonsi.jpg
CATEGORIES:Conciertos,Música
LOCATION:Municipio de Santa Cruz de La Palma\, Santa Cruz de La Palma \, Sa
 nta Cruz de La Palma \, 38700\, España
GEO:28.688757;-17.765102
X-APPLE-STRUCTURED-LOCATION;VALUE=URI;X-ADDRESS=Santa Cruz de La Palma \, S
 anta Cruz de La Palma \, 38700\, España;X-APPLE-RADIUS=100;X-TITLE=Munici
 pio de Santa Cruz de La Palma:geo:28.688757,-17.765102
END:VEVENT
END:VCALENDARBEGIN:VCALENDAR
VERSION:2.0
PRODID:-//wp-events-plugin.com//7.2.3.1//EN
TZID:Europe/London
X-WR-TIMEZONE:Europe/London
BEGIN:VEVENT
UID:3716@larevistadelapalma.com
DTSTART:20250713T203000Z
DTEND:20250713T220000Z
DTSTAMP:20250713T203714Z
URL:https://www.larevistadelapalma.com/events/concierto-de-luis-fonsi-en-l
 a-palma-fiestas-lustrales/
SUMMARY:Concierto de Luis Fonsi en La Palma- Fiestas Lustrales
DESCRIPTION:Luis Fonsi se incorpora a la programación musical de la LXX ed
 ición de las Fiestas Lustrales de la Bajada de la Virgen de las Nieves 20
 25. El creador de Despacito\, Échame la culpa\, y No me doy por vencido\,
  ofrecerá un concierto en Santa Cruz de La Palma  el 13 de julio.\n\nCan
 tante\, compositor\, productor musical\, y músico de baladas románticas 
 y pop latino que lo han convertido en un ídolo para millones de latinos. 
 El pasado año el puertorriqueño presentó su  disco número once\, ‘E
 l viaje’\, en el que colaboraron Carlos Vives y Laura Pausini\, y con el
  que celebraba sus 25 años sobre los escenarios.\nComprar entradas &gt\;&
 gt\;\n\nNo serán las únicas novedades en la programación de las Fiestas
  Lustrales\, pues también se incorporará un festival para los amantes de
  la zarzuela y el género chico\,  y un especial de humor.\nLas Fiestas L
 ustrales nos darán la oportunidad de asistir a los conciertos de UB 40\, 
 Manuel Carrasco\, Ana Belén\, Valeria Castro\, Los Sabandeños y Olga Ce
 rpa\, el Festival Los 40 Capital POP\, entre otros. Para ver los concierto
 s y espectáculos de La Bajada pincha aquí&gt\;&gt\;
ATTACH;FMTTYPE=image/jpeg:https://www.larevistadelapalma.com/wp-content/up
 loads/2025/04/Luis-Fonsi.jpg
CATEGORIES:Conciertos,Música
LOCATION:Municipio de Santa Cruz de La Palma\, Santa Cruz de La Palma \, Sa
 nta Cruz de La Palma \, 38700\, España
GEO:28.688757;-17.765102
X-APPLE-STRUCTURED-LOCATION;VALUE=URI;X-ADDRESS=Santa Cruz de La Palma \, S
 anta Cruz de La Palma \, 38700\, España;X-APPLE-RADIUS=100;X-TITLE=Munici
 pio de Santa Cruz de La Palma:geo:28.688757,-17.765102
END:VEVENT
END:VCALENDAR