BEGIN:VCALENDAR
VERSION:2.0
PRODID:-//wp-events-plugin.com//7.2.3.1//EN
TZID:Europe/London
X-WR-TIMEZONE:Europe/London
BEGIN:VEVENT
UID:3512@larevistadelapalma.com
DTSTART:20250104T190000Z
DTEND:20250104T203000Z
DTSTAMP:20241216T214148Z
URL:https://www.larevistadelapalma.com/events/concierto-de-macaca-radiata/
SUMMARY:Concierto de "Macaca Radiata" en la Casa Salazar
DESCRIPTION:Concierto acústico de Macaca Radiata con la colaboración de A
 lba Aceytuno.\nEl dúo Macaca Radiata\, formado por Jorge Pérez y Sonia M
 artell ofrecerán un concierto en la Casa Principal de Salazar\, acompaña
 dos de Alba Aceytuno. Este año han lanzado su primer disco\, «Aún nos 
 queda tiempo»\, que han estado presentando desde el pasado verano\, en Ca
 narias y en la península.\n\n&nbsp\;
ATTACH;FMTTYPE=image/jpeg:https://www.larevistadelapalma.com/wp-content/up
 loads/2024/12/MACACA-salazar.png
CATEGORIES:Conciertos,Música
LOCATION:Casa principal de Salazar\, Calle Odaly\, 22\, Santa Cruz de La Pa
 lma\, 38700\, España
GEO:28.682275;-17.765795
X-APPLE-STRUCTURED-LOCATION;VALUE=URI;X-ADDRESS=Calle Odaly\, 22\, Santa Cr
 uz de La Palma\, 38700\, España;X-APPLE-RADIUS=100;X-TITLE=Casa principal
  de Salazar:geo:28.682275,-17.765795
END:VEVENT
END:VCALENDARBEGIN:VCALENDAR
VERSION:2.0
PRODID:-//wp-events-plugin.com//7.2.3.1//EN
TZID:Europe/London
X-WR-TIMEZONE:Europe/London
BEGIN:VEVENT
UID:3512@larevistadelapalma.com
DTSTART:20250104T190000Z
DTEND:20250104T203000Z
DTSTAMP:20241216T214148Z
URL:https://www.larevistadelapalma.com/events/concierto-de-macaca-radiata/
SUMMARY:Concierto de "Macaca Radiata" en la Casa Salazar
DESCRIPTION:Concierto acústico de Macaca Radiata con la colaboración de A
 lba Aceytuno.\nEl dúo Macaca Radiata\, formado por Jorge Pérez y Sonia M
 artell ofrecerán un concierto en la Casa Principal de Salazar\, acompaña
 dos de Alba Aceytuno. Este año han lanzado su primer disco\, «Aún nos 
 queda tiempo»\, que han estado presentando desde el pasado verano\, en Ca
 narias y en la península.\n\n&nbsp\;
ATTACH;FMTTYPE=image/jpeg:https://www.larevistadelapalma.com/wp-content/up
 loads/2024/12/MACACA-salazar.png
CATEGORIES:Conciertos,Música
LOCATION:Casa principal de Salazar\, Calle Odaly\, 22\, Santa Cruz de La Pa
 lma\, 38700\, España
GEO:28.682275;-17.765795
X-APPLE-STRUCTURED-LOCATION;VALUE=URI;X-ADDRESS=Calle Odaly\, 22\, Santa Cr
 uz de La Palma\, 38700\, España;X-APPLE-RADIUS=100;X-TITLE=Casa principal
  de Salazar:geo:28.682275,-17.765795
END:VEVENT
END:VCALENDAR