BEGIN:VCALENDAR
VERSION:2.0
PRODID:-//wp-events-plugin.com//7.2.3.1//EN
TZID:Europe/London
X-WR-TIMEZONE:Europe/London
BEGIN:VEVENT
UID:3594@larevistadelapalma.com
DTSTART:20250627T200000Z
DTEND:20250627T213000Z
DTSTAMP:20250422T233430Z
URL:https://www.larevistadelapalma.com/events/concierto-de-manuel-carrasco
 -en-la-palma/
SUMMARY:Concierto de Manuel Carrasco en La Palma
DESCRIPTION:“Pueblo Salvaje”\, es su último single\, una muestra de lo
  que será su trabajo en 2025\, y que lleva el nombre del tour de su gira.
ATTACH;FMTTYPE=image/jpeg:https://www.larevistadelapalma.com/wp-content/up
 loads/2025/02/manuel-carrasco.webp
CATEGORIES:Conciertos,Música
LOCATION:Municipio de Santa Cruz de La Palma\, Santa Cruz de La Palma \, Sa
 nta Cruz de La Palma \, 38700\, España
GEO:28.688757;-17.765102
X-APPLE-STRUCTURED-LOCATION;VALUE=URI;X-ADDRESS=Santa Cruz de La Palma \, S
 anta Cruz de La Palma \, 38700\, España;X-APPLE-RADIUS=100;X-TITLE=Munici
 pio de Santa Cruz de La Palma:geo:28.688757,-17.765102
END:VEVENT
END:VCALENDARBEGIN:VCALENDAR
VERSION:2.0
PRODID:-//wp-events-plugin.com//7.2.3.1//EN
TZID:Europe/London
X-WR-TIMEZONE:Europe/London
BEGIN:VEVENT
UID:3594@larevistadelapalma.com
DTSTART:20250627T200000Z
DTEND:20250627T213000Z
DTSTAMP:20250422T233430Z
URL:https://www.larevistadelapalma.com/events/concierto-de-manuel-carrasco
 -en-la-palma/
SUMMARY:Concierto de Manuel Carrasco en La Palma
DESCRIPTION:“Pueblo Salvaje”\, es su último single\, una muestra de lo
  que será su trabajo en 2025\, y que lleva el nombre del tour de su gira.
ATTACH;FMTTYPE=image/jpeg:https://www.larevistadelapalma.com/wp-content/up
 loads/2025/02/manuel-carrasco.webp
CATEGORIES:Conciertos,Música
LOCATION:Municipio de Santa Cruz de La Palma\, Santa Cruz de La Palma \, Sa
 nta Cruz de La Palma \, 38700\, España
GEO:28.688757;-17.765102
X-APPLE-STRUCTURED-LOCATION;VALUE=URI;X-ADDRESS=Santa Cruz de La Palma \, S
 anta Cruz de La Palma \, 38700\, España;X-APPLE-RADIUS=100;X-TITLE=Munici
 pio de Santa Cruz de La Palma:geo:28.688757,-17.765102
END:VEVENT
END:VCALENDAR