BEGIN:VCALENDAR
VERSION:2.0
PRODID:-//wp-events-plugin.com//7.2.3.1//EN
TZID:Europe/London
X-WR-TIMEZONE:Europe/London
BEGIN:VEVENT
UID:4026@larevistadelapalma.com
DTSTART:20251018T180000Z
DTEND:20251018T193000Z
DTSTAMP:20251015T163231Z
URL:https://www.larevistadelapalma.com/events/concierto-de-mara-jaubert-y-
 nacho-sanchez-piano-y-trompa/
SUMMARY:Concierto de Mara Jaubert y Nacho Sánchez (Piano y trompa)
DESCRIPTION:\nEste sábado 18 de octubre\, 19 hs\, tendrá lugar el segundo
  concierto de la Undécima Edición del Ciclo de Cámara “Eustaquio Sici
 lia” en las Antiguas Salinas de Los Cancajos con el dúo formado por Mar
 a Jaubert y Nacho Sánchez\, que nos ofrecerán un repertorio centrado en 
 obras de Chopin\, Rachmaninoff\, Strauss y otros compositores.\n\n\nMara J
 aubert\, pianista tinerfeña y catedrática del Conservatorio Superior de 
 Música de Canarias\, ha actuado en Japón\, México\, Reino Unido\, Austr
 ia así como en distintas capitales españolas\, destacando por su versati
 lidad y dinamismo. Ya ha actuado en ediciones anteriores en Las Salinas de
  Los Cancajos.\nNacho Sánchez\, ha colaborado con orquestas de reconocido
  prestigio como la Orquesta del Gran Teatre del Liceu\, Euskadiko Orkestra
 \, Orquesta Sinfónica de Bilbao\, Orquesta Sinfónica de Madrid y Orquest
 a del Tiroler Festival entre otras. Actualmente es trompa solista de la Or
 questa Filarmónica de Gran Canaria.\n\n\n\nReserva de entradas y abonos e
 n el correo: musicadecamaracancajos@hotmail.com\n\nCuenta con el apoyo pat
 rocinador y organizativo de la concejalía de Cultura del Ayuntamiento de 
 Breña Baja. Otros patrocinios: Farmacia San Antonio\, Hotel Valle Aridane
 \, Óptica Feliciano\, Cabildo Insular de La Palma\, Banana Garden La Palm
 a Hotel-Café y el apoyo publicitario de 7.7 La Palma Radio y TV La Palma.
  Director del Ciclo de Cámara Eustaquio Sicilia: Seca Herrera Sicilia.\n\
 n
ATTACH;FMTTYPE=image/jpeg:https://www.larevistadelapalma.com/wp-content/up
 loads/2025/10/W-Concierto-Salinas-25-PianoTrompa-Cartel2.jpg
CATEGORIES:Conciertos,Música
LOCATION:Antiguas Salinas de Los Cancajos\, P.º del litoral\, Breña Baja\
 , 38712\, España
GEO:28.650095;-17.75849
X-APPLE-STRUCTURED-LOCATION;VALUE=URI;X-ADDRESS=P.º del litoral\, Breña B
 aja\, 38712\, España;X-APPLE-RADIUS=100;X-TITLE=Antiguas Salinas de Los C
 ancajos:geo:28.650095,-17.75849
END:VEVENT
END:VCALENDARBEGIN:VCALENDAR
VERSION:2.0
PRODID:-//wp-events-plugin.com//7.2.3.1//EN
TZID:Europe/London
X-WR-TIMEZONE:Europe/London
BEGIN:VEVENT
UID:4026@larevistadelapalma.com
DTSTART:20251018T180000Z
DTEND:20251018T193000Z
DTSTAMP:20251015T163231Z
URL:https://www.larevistadelapalma.com/events/concierto-de-mara-jaubert-y-
 nacho-sanchez-piano-y-trompa/
SUMMARY:Concierto de Mara Jaubert y Nacho Sánchez (Piano y trompa)
DESCRIPTION:\nEste sábado 18 de octubre\, 19 hs\, tendrá lugar el segundo
  concierto de la Undécima Edición del Ciclo de Cámara “Eustaquio Sici
 lia” en las Antiguas Salinas de Los Cancajos con el dúo formado por Mar
 a Jaubert y Nacho Sánchez\, que nos ofrecerán un repertorio centrado en 
 obras de Chopin\, Rachmaninoff\, Strauss y otros compositores.\n\n\nMara J
 aubert\, pianista tinerfeña y catedrática del Conservatorio Superior de 
 Música de Canarias\, ha actuado en Japón\, México\, Reino Unido\, Austr
 ia así como en distintas capitales españolas\, destacando por su versati
 lidad y dinamismo. Ya ha actuado en ediciones anteriores en Las Salinas de
  Los Cancajos.\nNacho Sánchez\, ha colaborado con orquestas de reconocido
  prestigio como la Orquesta del Gran Teatre del Liceu\, Euskadiko Orkestra
 \, Orquesta Sinfónica de Bilbao\, Orquesta Sinfónica de Madrid y Orquest
 a del Tiroler Festival entre otras. Actualmente es trompa solista de la Or
 questa Filarmónica de Gran Canaria.\n\n\n\nReserva de entradas y abonos e
 n el correo: musicadecamaracancajos@hotmail.com\n\nCuenta con el apoyo pat
 rocinador y organizativo de la concejalía de Cultura del Ayuntamiento de 
 Breña Baja. Otros patrocinios: Farmacia San Antonio\, Hotel Valle Aridane
 \, Óptica Feliciano\, Cabildo Insular de La Palma\, Banana Garden La Palm
 a Hotel-Café y el apoyo publicitario de 7.7 La Palma Radio y TV La Palma.
  Director del Ciclo de Cámara Eustaquio Sicilia: Seca Herrera Sicilia.\n\
 n
ATTACH;FMTTYPE=image/jpeg:https://www.larevistadelapalma.com/wp-content/up
 loads/2025/10/W-Concierto-Salinas-25-PianoTrompa-Cartel2.jpg
CATEGORIES:Conciertos,Música
LOCATION:Antiguas Salinas de Los Cancajos\, P.º del litoral\, Breña Baja\
 , 38712\, España
GEO:28.650095;-17.75849
X-APPLE-STRUCTURED-LOCATION;VALUE=URI;X-ADDRESS=P.º del litoral\, Breña B
 aja\, 38712\, España;X-APPLE-RADIUS=100;X-TITLE=Antiguas Salinas de Los C
 ancajos:geo:28.650095,-17.75849
END:VEVENT
END:VCALENDAR