BEGIN:VCALENDAR
VERSION:2.0
PRODID:-//wp-events-plugin.com//7.2.3.1//EN
TZID:Europe/London
X-WR-TIMEZONE:Europe/London
BEGIN:VEVENT
UID:3461@larevistadelapalma.com
DTSTART:20241229T190000Z
DTEND:20241229T203000Z
DTSTAMP:20241203T194929Z
URL:https://www.larevistadelapalma.com/events/concierto-de-navidad-de-los-
 benahoare/
SUMMARY:Concierto de Navidad de "Los Benahoare"
DESCRIPTION:Contarán con la presencia del acordeonista Noé Pérez y la so
 lista de la agrupación folclórica Tuhoco\, Mercedes Martín.
ATTACH;FMTTYPE=image/jpeg:https://www.larevistadelapalma.com/wp-content/up
 loads/2024/12/Los-Benahoare.jpg
CATEGORIES:Conciertos,Música
LOCATION:Plaza de San Francisco\, Plaza de San Francisco \, Santa Cruz De L
 a Palma\, Santa Cruz de Tenerife\, 38700\, España
GEO:28.683698;-17.767894
X-APPLE-STRUCTURED-LOCATION;VALUE=URI;X-ADDRESS=Plaza de San Francisco \, S
 anta Cruz De La Palma\, Santa Cruz de Tenerife\, 38700\, España;X-APPLE-R
 ADIUS=100;X-TITLE=Plaza de San Francisco:geo:28.683698,-17.767894
END:VEVENT
END:VCALENDARBEGIN:VCALENDAR
VERSION:2.0
PRODID:-//wp-events-plugin.com//7.2.3.1//EN
TZID:Europe/London
X-WR-TIMEZONE:Europe/London
BEGIN:VEVENT
UID:3461@larevistadelapalma.com
DTSTART:20241229T190000Z
DTEND:20241229T203000Z
DTSTAMP:20241203T194929Z
URL:https://www.larevistadelapalma.com/events/concierto-de-navidad-de-los-
 benahoare/
SUMMARY:Concierto de Navidad de "Los Benahoare"
DESCRIPTION:Contarán con la presencia del acordeonista Noé Pérez y la so
 lista de la agrupación folclórica Tuhoco\, Mercedes Martín.
ATTACH;FMTTYPE=image/jpeg:https://www.larevistadelapalma.com/wp-content/up
 loads/2024/12/Los-Benahoare.jpg
CATEGORIES:Conciertos,Música
LOCATION:Plaza de San Francisco\, Plaza de San Francisco \, Santa Cruz De L
 a Palma\, Santa Cruz de Tenerife\, 38700\, España
GEO:28.683698;-17.767894
X-APPLE-STRUCTURED-LOCATION;VALUE=URI;X-ADDRESS=Plaza de San Francisco \, S
 anta Cruz De La Palma\, Santa Cruz de Tenerife\, 38700\, España;X-APPLE-R
 ADIUS=100;X-TITLE=Plaza de San Francisco:geo:28.683698,-17.767894
END:VEVENT
END:VCALENDAR