BEGIN:VCALENDAR
VERSION:2.0
PRODID:-//wp-events-plugin.com//7.2.3.1//EN
TZID:Europe/London
X-WR-TIMEZONE:Europe/London
BEGIN:VEVENT
UID:3047@larevistadelapalma.com
DTSTART:20240615T140000Z
DTEND:20240615T154500Z
DTSTAMP:20240610T215519Z
URL:https://www.larevistadelapalma.com/events/concierto-de-ni-1-pelo-de-to
 nto-en-brena-alta/
SUMMARY:Concierto de «Ni 1 pelo de tonto» en Breña Alta
DESCRIPTION:La banda Ni 1 pelo de tonto estará tocando el próximo sábad
 o 15 de junio\, en  el Parque de Los Álamos\, tras la prueba deportiva B
 reña Alta Trail.\n\nNi 1 pelo de tonto es una banda de rock canario afin
 cada en Santa Cruz de Tenerife desde 2010. Creada inicialmente como una ba
 nda de versiones y cuyo formato es ya un referente en las islas\, cuentan 
 con cuatro discos de temas propios en el mercado.
ATTACH;FMTTYPE=image/jpeg:https://www.larevistadelapalma.com/wp-content/up
 loads/2024/06/Ni-un-poelo-de-tonto.jpg
CATEGORIES:Conciertos,Música
LOCATION:Parque de Los Álamos\, Bodegón Los Alamos\, Breña Alta\, 38710\
 , España
GEO:28.667222;-17.787778
X-APPLE-STRUCTURED-LOCATION;VALUE=URI;X-ADDRESS=Bodegón Los Alamos\, Breñ
 a Alta\, 38710\, España;X-APPLE-RADIUS=100;X-TITLE=Parque de Los Álamos:
 geo:28.667222,-17.787778
END:VEVENT
END:VCALENDARBEGIN:VCALENDAR
VERSION:2.0
PRODID:-//wp-events-plugin.com//7.2.3.1//EN
TZID:Europe/London
X-WR-TIMEZONE:Europe/London
BEGIN:VEVENT
UID:3047@larevistadelapalma.com
DTSTART:20240615T140000Z
DTEND:20240615T154500Z
DTSTAMP:20240610T215519Z
URL:https://www.larevistadelapalma.com/events/concierto-de-ni-1-pelo-de-to
 nto-en-brena-alta/
SUMMARY:Concierto de «Ni 1 pelo de tonto» en Breña Alta
DESCRIPTION:La banda Ni 1 pelo de tonto estará tocando el próximo sábad
 o 15 de junio\, en  el Parque de Los Álamos\, tras la prueba deportiva B
 reña Alta Trail.\n\nNi 1 pelo de tonto es una banda de rock canario afin
 cada en Santa Cruz de Tenerife desde 2010. Creada inicialmente como una ba
 nda de versiones y cuyo formato es ya un referente en las islas\, cuentan 
 con cuatro discos de temas propios en el mercado.
ATTACH;FMTTYPE=image/jpeg:https://www.larevistadelapalma.com/wp-content/up
 loads/2024/06/Ni-un-poelo-de-tonto.jpg
CATEGORIES:Conciertos,Música
LOCATION:Parque de Los Álamos\, Bodegón Los Alamos\, Breña Alta\, 38710\
 , España
GEO:28.667222;-17.787778
X-APPLE-STRUCTURED-LOCATION;VALUE=URI;X-ADDRESS=Bodegón Los Alamos\, Breñ
 a Alta\, 38710\, España;X-APPLE-RADIUS=100;X-TITLE=Parque de Los Álamos:
 geo:28.667222,-17.787778
END:VEVENT
END:VCALENDAR