BEGIN:VCALENDAR
VERSION:2.0
PRODID:-//wp-events-plugin.com//7.2.3.1//EN
TZID:Europe/London
X-WR-TIMEZONE:Europe/London
BEGIN:VEVENT
UID:603@larevistadelapalma.com
DTSTART:20230812T203000Z
DTEND:20230812T225900Z
DTSTAMP:20230809T190840Z
URL:https://www.larevistadelapalma.com/events/concierto-de-ni-1-pelo-de-to
 nto-en-puntagorda/
SUMMARY:Concierto de "Ni 1 pelo de tonto" en Puntagorda
DESCRIPTION:La banda Ni 1 pelo de tonto estará tocando el sábado 12\, en 
 las Fiestas de San Mauro de Puntagorda. Ni 1 pelo de tonto es una banda de
  rock canario afincada en Santa Cruz de Tenerife desde 2010. Creada inicia
 lmente como una banda de versiones y cuyo formato es ya un referente en la
 s islas. 
ATTACH;FMTTYPE=image/jpeg:https://www.larevistadelapalma.com/wp-content/up
 loads/2023/08/Ni-1-pelo-de-tonto.jpg
CATEGORIES:Conciertos,Música
LOCATION:Municipio de Puntagorda\, Puntagorda\, Puntagorda\, 38789\, Españ
 a
GEO:28.774265;-17.977666
X-APPLE-STRUCTURED-LOCATION;VALUE=URI;X-ADDRESS=Puntagorda\, Puntagorda\, 3
 8789\, España;X-APPLE-RADIUS=100;X-TITLE=Municipio de Puntagorda:geo:28.7
 74265,-17.977666
END:VEVENT
END:VCALENDARBEGIN:VCALENDAR
VERSION:2.0
PRODID:-//wp-events-plugin.com//7.2.3.1//EN
TZID:Europe/London
X-WR-TIMEZONE:Europe/London
BEGIN:VEVENT
UID:603@larevistadelapalma.com
DTSTART:20230812T203000Z
DTEND:20230812T225900Z
DTSTAMP:20230809T190840Z
URL:https://www.larevistadelapalma.com/events/concierto-de-ni-1-pelo-de-to
 nto-en-puntagorda/
SUMMARY:Concierto de "Ni 1 pelo de tonto" en Puntagorda
DESCRIPTION:La banda Ni 1 pelo de tonto estará tocando el sábado 12\, en 
 las Fiestas de San Mauro de Puntagorda. Ni 1 pelo de tonto es una banda de
  rock canario afincada en Santa Cruz de Tenerife desde 2010. Creada inicia
 lmente como una banda de versiones y cuyo formato es ya un referente en la
 s islas. 
ATTACH;FMTTYPE=image/jpeg:https://www.larevistadelapalma.com/wp-content/up
 loads/2023/08/Ni-1-pelo-de-tonto.jpg
CATEGORIES:Conciertos,Música
LOCATION:Municipio de Puntagorda\, Puntagorda\, Puntagorda\, 38789\, Españ
 a
GEO:28.774265;-17.977666
X-APPLE-STRUCTURED-LOCATION;VALUE=URI;X-ADDRESS=Puntagorda\, Puntagorda\, 3
 8789\, España;X-APPLE-RADIUS=100;X-TITLE=Municipio de Puntagorda:geo:28.7
 74265,-17.977666
END:VEVENT
END:VCALENDAR