BEGIN:VCALENDAR
VERSION:2.0
PRODID:-//wp-events-plugin.com//7.2.3.1//EN
TZID:Europe/London
X-WR-TIMEZONE:Europe/London
BEGIN:VEVENT
UID:4440@larevistadelapalma.com
DTSTART:20251227T200000Z
DTEND:20251227T213000Z
DTSTAMP:20251226T194114Z
URL:https://www.larevistadelapalma.com/events/concierto-de-olga-cerpa-y-me
 stisay-barlovento/
SUMMARY:Concierto de Olga Cerpa y Mestisay. Barlovento
DESCRIPTION:Concierto de Olga Cerpa y Mestisay sábado 27 de diciembre a la
 s 21:00 horas en el Recinto del Drago.
ATTACH;FMTTYPE=image/jpeg:https://www.larevistadelapalma.com/wp-content/up
 loads/2025/12/27-diciembre-olga-cerpa-y-mestisay.jpg
CATEGORIES:Conciertos,Música
LOCATION:Municipio de Barlovento\, Barlovento\, Barlovento\, 38726\, Españ
 a
GEO:28.834132;-17.805077
X-APPLE-STRUCTURED-LOCATION;VALUE=URI;X-ADDRESS=Barlovento\, Barlovento\, 3
 8726\, España;X-APPLE-RADIUS=100;X-TITLE=Municipio de Barlovento:geo:28.8
 34132,-17.805077
END:VEVENT
END:VCALENDARBEGIN:VCALENDAR
VERSION:2.0
PRODID:-//wp-events-plugin.com//7.2.3.1//EN
TZID:Europe/London
X-WR-TIMEZONE:Europe/London
BEGIN:VEVENT
UID:4440@larevistadelapalma.com
DTSTART:20251227T200000Z
DTEND:20251227T213000Z
DTSTAMP:20251226T194114Z
URL:https://www.larevistadelapalma.com/events/concierto-de-olga-cerpa-y-me
 stisay-barlovento/
SUMMARY:Concierto de Olga Cerpa y Mestisay. Barlovento
DESCRIPTION:Concierto de Olga Cerpa y Mestisay sábado 27 de diciembre a la
 s 21:00 horas en el Recinto del Drago.
ATTACH;FMTTYPE=image/jpeg:https://www.larevistadelapalma.com/wp-content/up
 loads/2025/12/27-diciembre-olga-cerpa-y-mestisay.jpg
CATEGORIES:Conciertos,Música
LOCATION:Municipio de Barlovento\, Barlovento\, Barlovento\, 38726\, Españ
 a
GEO:28.834132;-17.805077
X-APPLE-STRUCTURED-LOCATION;VALUE=URI;X-ADDRESS=Barlovento\, Barlovento\, 3
 8726\, España;X-APPLE-RADIUS=100;X-TITLE=Municipio de Barlovento:geo:28.8
 34132,-17.805077
END:VEVENT
END:VCALENDAR