BEGIN:VCALENDAR
VERSION:2.0
PRODID:-//wp-events-plugin.com//7.2.3.1//EN
TZID:Europe/London
X-WR-TIMEZONE:Europe/London
BEGIN:VEVENT
UID:3531@larevistadelapalma.com
DTSTART:20250103T190000Z
DTEND:20250103T203000Z
DTSTAMP:20241221T174216Z
URL:https://www.larevistadelapalma.com/events/concierto-de-olga-cerpa-y-me
 stisay-tazacorte-2/
SUMMARY:Concierto de Olga Cerpa y Mestisay\, Tazacorte
DESCRIPTION:Una nueva fecha para el concierto que fue aplazado el pasado 14
  de diciembre por motivos meteorológicos.\n\nOlga Cerpa y Mestisay estar
 án en el municipio de Tazacorte\, en la Avenida el Emigrante\, en un conc
 ierto que se enmarca dentro de la programación navideña del municipio.\n
 \nEl último trabajo de la artista canaria lleva por título  «Atlantic 
 Sounds»\, y se trata de un recopilatorio que comprende canciones de su c
 atálogo discográfico de los últimos quince años.\n\n&nbsp\;
ATTACH;FMTTYPE=image/jpeg:https://www.larevistadelapalma.com/wp-content/up
 loads/2024/12/Olga-Cerpa-y-Mestisay-Tazacorte.jpg
CATEGORIES:Conciertos,Música
LOCATION:Paseo del Puerto de Tazacorte\, playa tazacorte\, Tazacorte\, 3877
 0\, España
GEO:28.650997;-17.946173
X-APPLE-STRUCTURED-LOCATION;VALUE=URI;X-ADDRESS=playa tazacorte\, Tazacorte
 \, 38770\, España;X-APPLE-RADIUS=100;X-TITLE=Paseo del Puerto de Tazacort
 e:geo:28.650997,-17.946173
END:VEVENT
END:VCALENDARBEGIN:VCALENDAR
VERSION:2.0
PRODID:-//wp-events-plugin.com//7.2.3.1//EN
TZID:Europe/London
X-WR-TIMEZONE:Europe/London
BEGIN:VEVENT
UID:3531@larevistadelapalma.com
DTSTART:20250103T190000Z
DTEND:20250103T203000Z
DTSTAMP:20241221T174216Z
URL:https://www.larevistadelapalma.com/events/concierto-de-olga-cerpa-y-me
 stisay-tazacorte-2/
SUMMARY:Concierto de Olga Cerpa y Mestisay\, Tazacorte
DESCRIPTION:Una nueva fecha para el concierto que fue aplazado el pasado 14
  de diciembre por motivos meteorológicos.\n\nOlga Cerpa y Mestisay estar
 án en el municipio de Tazacorte\, en la Avenida el Emigrante\, en un conc
 ierto que se enmarca dentro de la programación navideña del municipio.\n
 \nEl último trabajo de la artista canaria lleva por título  «Atlantic 
 Sounds»\, y se trata de un recopilatorio que comprende canciones de su c
 atálogo discográfico de los últimos quince años.\n\n&nbsp\;
ATTACH;FMTTYPE=image/jpeg:https://www.larevistadelapalma.com/wp-content/up
 loads/2024/12/Olga-Cerpa-y-Mestisay-Tazacorte.jpg
CATEGORIES:Conciertos,Música
LOCATION:Paseo del Puerto de Tazacorte\, playa tazacorte\, Tazacorte\, 3877
 0\, España
GEO:28.650997;-17.946173
X-APPLE-STRUCTURED-LOCATION;VALUE=URI;X-ADDRESS=playa tazacorte\, Tazacorte
 \, 38770\, España;X-APPLE-RADIUS=100;X-TITLE=Paseo del Puerto de Tazacort
 e:geo:28.650997,-17.946173
END:VEVENT
END:VCALENDAR