BEGIN:VCALENDAR
VERSION:2.0
PRODID:-//wp-events-plugin.com//7.2.3.1//EN
TZID:Europe/London
X-WR-TIMEZONE:Europe/London
BEGIN:VEVENT
UID:3439@larevistadelapalma.com
DTSTART:20241214T190000Z
DTEND:20241214T203000Z
DTSTAMP:20241214T201819Z
URL:https://www.larevistadelapalma.com/events/concierto-de-olga-cerpa-y-me
 stisay-tazacorte/
SUMMARY:APLAZADO - Concierto de Olga Cerpa y Mestisay\, Tazacorte
DESCRIPTION:Aplazado por motivos meteorológicos\n\nOlga Cerpa y Mestisay e
 starán en el municipio de Tazacorte\, en la Avenida el Emigrante\, en un 
 concierto que se enmarca dentro de la programación navideña del municipi
 o.\n\nEl último trabajo de la artista canaria lleva por título  «Atlan
 tic Sounds»\, y se trata de un recopilatorio que comprende canciones de 
 su catálogo discográfico de los últimos quince años.\n\n 	Imagen de su
  último concierto en La Palma en el municipio de Garafía\, (Festival de 
 La Palabra)\n
ATTACH;FMTTYPE=image/jpeg:https://www.larevistadelapalma.com/wp-content/up
 loads/2024/11/Olga-Cerpa-y-Mestisay.jpg
CATEGORIES:Conciertos,Música
LOCATION:Paseo del Puerto de Tazacorte\, playa tazacorte\, Tazacorte\, 3877
 0\, España
GEO:28.650997;-17.946173
X-APPLE-STRUCTURED-LOCATION;VALUE=URI;X-ADDRESS=playa tazacorte\, Tazacorte
 \, 38770\, España;X-APPLE-RADIUS=100;X-TITLE=Paseo del Puerto de Tazacort
 e:geo:28.650997,-17.946173
END:VEVENT
END:VCALENDARBEGIN:VCALENDAR
VERSION:2.0
PRODID:-//wp-events-plugin.com//7.2.3.1//EN
TZID:Europe/London
X-WR-TIMEZONE:Europe/London
BEGIN:VEVENT
UID:3439@larevistadelapalma.com
DTSTART:20241214T190000Z
DTEND:20241214T203000Z
DTSTAMP:20241214T201819Z
URL:https://www.larevistadelapalma.com/events/concierto-de-olga-cerpa-y-me
 stisay-tazacorte/
SUMMARY:APLAZADO - Concierto de Olga Cerpa y Mestisay\, Tazacorte
DESCRIPTION:Aplazado por motivos meteorológicos\n\nOlga Cerpa y Mestisay e
 starán en el municipio de Tazacorte\, en la Avenida el Emigrante\, en un 
 concierto que se enmarca dentro de la programación navideña del municipi
 o.\n\nEl último trabajo de la artista canaria lleva por título  «Atlan
 tic Sounds»\, y se trata de un recopilatorio que comprende canciones de 
 su catálogo discográfico de los últimos quince años.\n\n 	Imagen de su
  último concierto en La Palma en el municipio de Garafía\, (Festival de 
 La Palabra)\n
ATTACH;FMTTYPE=image/jpeg:https://www.larevistadelapalma.com/wp-content/up
 loads/2024/11/Olga-Cerpa-y-Mestisay.jpg
CATEGORIES:Conciertos,Música
LOCATION:Paseo del Puerto de Tazacorte\, playa tazacorte\, Tazacorte\, 3877
 0\, España
GEO:28.650997;-17.946173
X-APPLE-STRUCTURED-LOCATION;VALUE=URI;X-ADDRESS=playa tazacorte\, Tazacorte
 \, 38770\, España;X-APPLE-RADIUS=100;X-TITLE=Paseo del Puerto de Tazacort
 e:geo:28.650997,-17.946173
END:VEVENT
END:VCALENDAR