BEGIN:VCALENDAR
VERSION:2.0
PRODID:-//wp-events-plugin.com//7.2.3.1//EN
TZID:Europe/London
X-WR-TIMEZONE:Europe/London
BEGIN:VEVENT
UID:3650@larevistadelapalma.com
DTSTART:20250322T103000Z
DTEND:20250322T133000Z
DTSTAMP:20250317T165637Z
URL:https://www.larevistadelapalma.com/events/concierto-de-orillas-del-son
 -en-el-dia-del-padre-brena-baja/
SUMMARY:Concierto de Orillas del Son en el Día del Padre\, Breña Baja
DESCRIPTION:Con motivo del Día del Padre el sábado 22 de marzo habrá var
 ias actividades para celebrar este gran día en la Plaza de Las Madres de 
 San José\, que organizan las Concejalías de Cultura y Comercio del Ayunt
 amiento de Breña Baja\; y que cuenta con la colaboración de la Asociaci
 ón de Empresarios "Breña Baja Emprende" y el Kiosko de la Plaza de Las M
 adres.\n\nDe esta manera\, desde las 11.30 horas habrá colchonetas\, lueg
 o a las 12.30 horas tendrá lugar el sorteo de la campaña del Día del Pa
 dre de los empresarios y se culminara con un Concierto del grupo “Orilla
 s del Son” de Santa Cruz de La Palma a las 13 horas.Una mañana para tod
 a la familia en un ambiente distendido y donde se podrá disfrutar de la b
 uena música tradicional cubana.\n\nCabe recordar que el Día del Padre (1
 9 de Marzo) es también Día de San José y patrón del municipio de Breñ
 a Baja.\n\n
ATTACH;FMTTYPE=image/jpeg:https://www.larevistadelapalma.com/wp-content/up
 loads/2025/03/orillas-del-son-dia-Padre-25-Concierto.jpg
CATEGORIES:Conciertos,Música
LOCATION:Plaza de las Madres\, San José\, Breña Baja\, 38712\, España
GEO:28.642202;-17.775828
X-APPLE-STRUCTURED-LOCATION;VALUE=URI;X-ADDRESS=San José\, Breña Baja\, 3
 8712\, España;X-APPLE-RADIUS=100;X-TITLE=Plaza de las Madres:geo:28.64220
 2,-17.775828
END:VEVENT
END:VCALENDARBEGIN:VCALENDAR
VERSION:2.0
PRODID:-//wp-events-plugin.com//7.2.3.1//EN
TZID:Europe/London
X-WR-TIMEZONE:Europe/London
BEGIN:VEVENT
UID:3650@larevistadelapalma.com
DTSTART:20250322T103000Z
DTEND:20250322T133000Z
DTSTAMP:20250317T165637Z
URL:https://www.larevistadelapalma.com/events/concierto-de-orillas-del-son
 -en-el-dia-del-padre-brena-baja/
SUMMARY:Concierto de Orillas del Son en el Día del Padre\, Breña Baja
DESCRIPTION:Con motivo del Día del Padre el sábado 22 de marzo habrá var
 ias actividades para celebrar este gran día en la Plaza de Las Madres de 
 San José\, que organizan las Concejalías de Cultura y Comercio del Ayunt
 amiento de Breña Baja\; y que cuenta con la colaboración de la Asociaci
 ón de Empresarios "Breña Baja Emprende" y el Kiosko de la Plaza de Las M
 adres.\n\nDe esta manera\, desde las 11.30 horas habrá colchonetas\, lueg
 o a las 12.30 horas tendrá lugar el sorteo de la campaña del Día del Pa
 dre de los empresarios y se culminara con un Concierto del grupo “Orilla
 s del Son” de Santa Cruz de La Palma a las 13 horas.Una mañana para tod
 a la familia en un ambiente distendido y donde se podrá disfrutar de la b
 uena música tradicional cubana.\n\nCabe recordar que el Día del Padre (1
 9 de Marzo) es también Día de San José y patrón del municipio de Breñ
 a Baja.\n\n
ATTACH;FMTTYPE=image/jpeg:https://www.larevistadelapalma.com/wp-content/up
 loads/2025/03/orillas-del-son-dia-Padre-25-Concierto.jpg
CATEGORIES:Conciertos,Música
LOCATION:Plaza de las Madres\, San José\, Breña Baja\, 38712\, España
GEO:28.642202;-17.775828
X-APPLE-STRUCTURED-LOCATION;VALUE=URI;X-ADDRESS=San José\, Breña Baja\, 3
 8712\, España;X-APPLE-RADIUS=100;X-TITLE=Plaza de las Madres:geo:28.64220
 2,-17.775828
END:VEVENT
END:VCALENDAR