BEGIN:VCALENDAR
VERSION:2.0
PRODID:-//wp-events-plugin.com//7.2.3.1//EN
TZID:Europe/London
X-WR-TIMEZONE:Europe/London
BEGIN:VEVENT
UID:2970@larevistadelapalma.com
DTSTART:20240511T210000Z
DTEND:20240511T223000Z
DTSTAMP:20240506T225237Z
URL:https://www.larevistadelapalma.com/events/concierto-de-rayden-como-bro
 che-de-la-transvulcania/
SUMMARY:Concierto de Rayden como broche de la Transvulcania
DESCRIPTION:El artista de Alcalá de Henares\, que se retirará de los esce
 narios este año\, le pondrá el broche final a la prueba palmera con un r
 ecital con entrada libre en la Plaza de España de Los Llanos de Aridane.\
 n\nLa edición de 2024 de la Transvulcania tendrá un final de fiesta de a
 lto nivel con el concierto que Rayden ofrecerá el sábado\, 11 de mayo\, 
 desde las 22:00 horas\, en la Plaza de España de Los Llanos de Aridane.\n
 \nEl artista de Alcalá de Henares\, que ya ha dejado caer en alguna ocasi
 ón que le gustaría cerrar su trayectoria musical en directo con un conci
 erto en su ciudad natal este 2024\, será el encargado de cerrar el evento
  de la Isla Bonita con un recital con entrada libre.\n\nRayden\, cuyo nomb
 re es David Martínez Álvarez\, es un rapero nacido en 1985 que también 
 ha trabajado géneros como la poesía para componer sus temas. El artista 
 complutense se inició en la música en 2001\, con apenas 15 años de edad
  y fue en 2006 cuando dio el verdadero salto a la fama con Crew Cuervos\, 
 la formación con la que lanzó varios discos y participó en varias giras
  por el territorio nacional.\n\nhttps://www.youtube.com/watch?v=ixQS3YqrAy
 I\n\nEn 2010 Rayden decidió caminar por su cuenta y como artista\, ya de 
 forma individual\, lanzó su disco Estaba Escrito\, el primero de seis ál
 bumes. Durante esa etapa Rayden publicó varios libros y también generó 
 unas cuantas publicaciones de poesía. Fue en abril de 2023 cuando sacó s
 u último trabajo musical La Victoria Imposible.\n\nEn el mismo año que p
 retende decir adiós a su carrera musical en directo\, Rayden ofrecerá un
  concierto cargado de emotividad en Los Llanos como clausura de la Transvu
 lcania 2024 y de las\nactividades que se generarán durante un gran fin de
  semana deportivo y lúdico en La Palma.\n\n&nbsp\;
ATTACH;FMTTYPE=image/jpeg:https://www.larevistadelapalma.com/wp-content/up
 loads/2024/05/RRSS-Rayden-scaled.jpg
CATEGORIES:Conciertos,Música
LOCATION:Plaza de España en Los Llanos de Aridane\, Plaza de España\, Los
  Llanos de Aridane\, 38760\, España
GEO:28.658934;-17.913174
X-APPLE-STRUCTURED-LOCATION;VALUE=URI;X-ADDRESS=Plaza de España\, Los Llan
 os de Aridane\, 38760\, España;X-APPLE-RADIUS=100;X-TITLE=Plaza de Españ
 a en Los Llanos de Aridane:geo:28.658934,-17.913174
END:VEVENT
END:VCALENDARBEGIN:VCALENDAR
VERSION:2.0
PRODID:-//wp-events-plugin.com//7.2.3.1//EN
TZID:Europe/London
X-WR-TIMEZONE:Europe/London
BEGIN:VEVENT
UID:2970@larevistadelapalma.com
DTSTART:20240511T210000Z
DTEND:20240511T223000Z
DTSTAMP:20240506T225237Z
URL:https://www.larevistadelapalma.com/events/concierto-de-rayden-como-bro
 che-de-la-transvulcania/
SUMMARY:Concierto de Rayden como broche de la Transvulcania
DESCRIPTION:El artista de Alcalá de Henares\, que se retirará de los esce
 narios este año\, le pondrá el broche final a la prueba palmera con un r
 ecital con entrada libre en la Plaza de España de Los Llanos de Aridane.\
 n\nLa edición de 2024 de la Transvulcania tendrá un final de fiesta de a
 lto nivel con el concierto que Rayden ofrecerá el sábado\, 11 de mayo\, 
 desde las 22:00 horas\, en la Plaza de España de Los Llanos de Aridane.\n
 \nEl artista de Alcalá de Henares\, que ya ha dejado caer en alguna ocasi
 ón que le gustaría cerrar su trayectoria musical en directo con un conci
 erto en su ciudad natal este 2024\, será el encargado de cerrar el evento
  de la Isla Bonita con un recital con entrada libre.\n\nRayden\, cuyo nomb
 re es David Martínez Álvarez\, es un rapero nacido en 1985 que también 
 ha trabajado géneros como la poesía para componer sus temas. El artista 
 complutense se inició en la música en 2001\, con apenas 15 años de edad
  y fue en 2006 cuando dio el verdadero salto a la fama con Crew Cuervos\, 
 la formación con la que lanzó varios discos y participó en varias giras
  por el territorio nacional.\n\nhttps://www.youtube.com/watch?v=ixQS3YqrAy
 I\n\nEn 2010 Rayden decidió caminar por su cuenta y como artista\, ya de 
 forma individual\, lanzó su disco Estaba Escrito\, el primero de seis ál
 bumes. Durante esa etapa Rayden publicó varios libros y también generó 
 unas cuantas publicaciones de poesía. Fue en abril de 2023 cuando sacó s
 u último trabajo musical La Victoria Imposible.\n\nEn el mismo año que p
 retende decir adiós a su carrera musical en directo\, Rayden ofrecerá un
  concierto cargado de emotividad en Los Llanos como clausura de la Transvu
 lcania 2024 y de las\nactividades que se generarán durante un gran fin de
  semana deportivo y lúdico en La Palma.\n\n&nbsp\;
ATTACH;FMTTYPE=image/jpeg:https://www.larevistadelapalma.com/wp-content/up
 loads/2024/05/RRSS-Rayden-scaled.jpg
CATEGORIES:Conciertos,Música
LOCATION:Plaza de España en Los Llanos de Aridane\, Plaza de España\, Los
  Llanos de Aridane\, 38760\, España
GEO:28.658934;-17.913174
X-APPLE-STRUCTURED-LOCATION;VALUE=URI;X-ADDRESS=Plaza de España\, Los Llan
 os de Aridane\, 38760\, España;X-APPLE-RADIUS=100;X-TITLE=Plaza de Españ
 a en Los Llanos de Aridane:geo:28.658934,-17.913174
END:VEVENT
END:VCALENDAR