BEGIN:VCALENDAR
VERSION:2.0
PRODID:-//wp-events-plugin.com//7.2.3.1//EN
TZID:Europe/London
X-WR-TIMEZONE:Europe/London
BEGIN:VEVENT
UID:3791@larevistadelapalma.com
DTSTART:20250606T193000Z
DTEND:20250606T210000Z
DTSTAMP:20250604T215114Z
URL:https://www.larevistadelapalma.com/events/concierto-de-tres-a-pel-zaid
 a-almeida/
SUMMARY:Concierto de Tres a Pèl & Zaida Almeida
DESCRIPTION:\nLa combinación de Tres a Pèl &amp\; Zaida Almeida\, posee t
 odos los ingredientes para disfrutar con canciones que seguro que nos llev
 arán a los recuerdos de nuestra infancia. \nLa voz de Zaida Almeida es c
 apaz de acariciar con su sonido y sus matices\, y emocionarnos con su sinc
 era interpretación. Se suma la versatilidad del trio “Tres a Pèl”\, 
 que acompañará a Zaida proporcionando sus pinceladas jazzísticas\, dán
 dole un giro a las melodías y armonía de cada canción.\n\n\n\n\n\n
ATTACH;FMTTYPE=image/jpeg:https://www.larevistadelapalma.com/wp-content/up
 loads/2025/06/Concierto-Zaida-Almeida.jpg
CATEGORIES:Conciertos,Música
LOCATION:Plaza de San Vicente Ferrer. Velhoco\, Velhoco \, 69\, Santa Cruz 
 de La Palma\, 38713\, España
GEO:28.689939;-17.78422
X-APPLE-STRUCTURED-LOCATION;VALUE=URI;X-ADDRESS=Velhoco \, 69\, Santa Cruz 
 de La Palma\, 38713\, España;X-APPLE-RADIUS=100;X-TITLE=Plaza de San Vice
 nte Ferrer. Velhoco:geo:28.689939,-17.78422
END:VEVENT
END:VCALENDARBEGIN:VCALENDAR
VERSION:2.0
PRODID:-//wp-events-plugin.com//7.2.3.1//EN
TZID:Europe/London
X-WR-TIMEZONE:Europe/London
BEGIN:VEVENT
UID:3791@larevistadelapalma.com
DTSTART:20250606T193000Z
DTEND:20250606T210000Z
DTSTAMP:20250604T215114Z
URL:https://www.larevistadelapalma.com/events/concierto-de-tres-a-pel-zaid
 a-almeida/
SUMMARY:Concierto de Tres a Pèl & Zaida Almeida
DESCRIPTION:\nLa combinación de Tres a Pèl &amp\; Zaida Almeida\, posee t
 odos los ingredientes para disfrutar con canciones que seguro que nos llev
 arán a los recuerdos de nuestra infancia. \nLa voz de Zaida Almeida es c
 apaz de acariciar con su sonido y sus matices\, y emocionarnos con su sinc
 era interpretación. Se suma la versatilidad del trio “Tres a Pèl”\, 
 que acompañará a Zaida proporcionando sus pinceladas jazzísticas\, dán
 dole un giro a las melodías y armonía de cada canción.\n\n\n\n\n\n
ATTACH;FMTTYPE=image/jpeg:https://www.larevistadelapalma.com/wp-content/up
 loads/2025/06/Concierto-Zaida-Almeida.jpg
CATEGORIES:Conciertos,Música
LOCATION:Plaza de San Vicente Ferrer. Velhoco\, Velhoco \, 69\, Santa Cruz 
 de La Palma\, 38713\, España
GEO:28.689939;-17.78422
X-APPLE-STRUCTURED-LOCATION;VALUE=URI;X-ADDRESS=Velhoco \, 69\, Santa Cruz 
 de La Palma\, 38713\, España;X-APPLE-RADIUS=100;X-TITLE=Plaza de San Vice
 nte Ferrer. Velhoco:geo:28.689939,-17.78422
END:VEVENT
END:VCALENDAR