BEGIN:VCALENDAR
VERSION:2.0
PRODID:-//wp-events-plugin.com//7.2.3.1//EN
TZID:Europe/London
X-WR-TIMEZONE:Europe/London
BEGIN:VEVENT
UID:2816@larevistadelapalma.com
DTSTART;VALUE=DATE:20240805
DTEND;VALUE=DATE:20240806
DTSTAMP:20240729T151514Z
URL:https://www.larevistadelapalma.com/events/concierto-de-ub40-en-la-palm
 a/
SUMMARY:CANCELADO- Concierto de UB40 en La Palma
DESCRIPTION:UB40 feat. Ali Campbell cancela su gira en España\, incluida s
 u fecha en La Palma\, por problemas de salud del cantante.
ATTACH;FMTTYPE=image/jpeg:https://www.larevistadelapalma.com/wp-content/up
 loads/2024/03/Ub-40.jpg
CATEGORIES:Conciertos,Música
LOCATION:Mercadillo El Paso\, C. a Paso de Abajo\, 1B\, El Paso\, 38750\, E
 spaña
GEO:28.651896;-17.8814
X-APPLE-STRUCTURED-LOCATION;VALUE=URI;X-ADDRESS=C. a Paso de Abajo\, 1B\, E
 l Paso\, 38750\, España;X-APPLE-RADIUS=100;X-TITLE=Mercadillo El Paso:geo
 :28.651896,-17.8814
END:VEVENT
END:VCALENDARBEGIN:VCALENDAR
VERSION:2.0
PRODID:-//wp-events-plugin.com//7.2.3.1//EN
TZID:Europe/London
X-WR-TIMEZONE:Europe/London
BEGIN:VEVENT
UID:2816@larevistadelapalma.com
DTSTART;VALUE=DATE:20240805
DTEND;VALUE=DATE:20240806
DTSTAMP:20240729T151514Z
URL:https://www.larevistadelapalma.com/events/concierto-de-ub40-en-la-palm
 a/
SUMMARY:CANCELADO- Concierto de UB40 en La Palma
DESCRIPTION:UB40 feat. Ali Campbell cancela su gira en España\, incluida s
 u fecha en La Palma\, por problemas de salud del cantante.
ATTACH;FMTTYPE=image/jpeg:https://www.larevistadelapalma.com/wp-content/up
 loads/2024/03/Ub-40.jpg
CATEGORIES:Conciertos,Música
LOCATION:Mercadillo El Paso\, C. a Paso de Abajo\, 1B\, El Paso\, 38750\, E
 spaña
GEO:28.651896;-17.8814
X-APPLE-STRUCTURED-LOCATION;VALUE=URI;X-ADDRESS=C. a Paso de Abajo\, 1B\, E
 l Paso\, 38750\, España;X-APPLE-RADIUS=100;X-TITLE=Mercadillo El Paso:geo
 :28.651896,-17.8814
END:VEVENT
END:VCALENDAR