BEGIN:VCALENDAR
VERSION:2.0
PRODID:-//wp-events-plugin.com//7.2.3.1//EN
TZID:Europe/London
X-WR-TIMEZONE:Europe/London
BEGIN:VEVENT
UID:3577@larevistadelapalma.com
DTSTART:20250207T193000Z
DTEND:20250207T210000Z
DTSTAMP:20250203T193317Z
URL:https://www.larevistadelapalma.com/events/concierto-del-duo-amitie-en-
 el-circo-de-marte/
SUMMARY:Concierto del Dúo Amitié en el Circo de Marte
DESCRIPTION:\nConcierto de Nieves Teresa Nieto y Goretty Peña\, a favor de
  Cruz Roja.\nEl Dúo Amitié ofrece este viernes 7 de febrero en el Teatro
  Circo de Marte a las 20:30 horas un concierto benéfico a favor de la org
 anización sin ánimo de lucro\, Cruz Roja.\n\n\n\nNieves Teresa Nieto y G
 oretty Peña serán las encargadas de tocar al piano piezas de Ravel\, Ger
 shwin\, Piazzolla o Holst\, entre otros. Un concierto solidario con un men
 saje de optimismo\, en reconocimiento a la labor social que realiza la Cru
 z Roja en La Palma.\nLas entradas ya están disponibles en la taquilla del
  teatro así como en la tiquetera online.\nComprar entradas &gt\;&gt\;\n\n
ATTACH;FMTTYPE=image/jpeg:https://www.larevistadelapalma.com/wp-content/up
 loads/2025/02/Duo-Amitie.jpg
CATEGORIES:Conciertos,Música
LOCATION:Teatro Circo de Marte\, Calle Virgen de La Luz\, 5\, Santa Cruz de
  La Palma\, 38700\, España
GEO:28.682989;-17.765755
X-APPLE-STRUCTURED-LOCATION;VALUE=URI;X-ADDRESS=Calle Virgen de La Luz\, 5\
 , Santa Cruz de La Palma\, 38700\, España;X-APPLE-RADIUS=100;X-TITLE=Teat
 ro Circo de Marte:geo:28.682989,-17.765755
END:VEVENT
END:VCALENDARBEGIN:VCALENDAR
VERSION:2.0
PRODID:-//wp-events-plugin.com//7.2.3.1//EN
TZID:Europe/London
X-WR-TIMEZONE:Europe/London
BEGIN:VEVENT
UID:3577@larevistadelapalma.com
DTSTART:20250207T193000Z
DTEND:20250207T210000Z
DTSTAMP:20250203T193317Z
URL:https://www.larevistadelapalma.com/events/concierto-del-duo-amitie-en-
 el-circo-de-marte/
SUMMARY:Concierto del Dúo Amitié en el Circo de Marte
DESCRIPTION:\nConcierto de Nieves Teresa Nieto y Goretty Peña\, a favor de
  Cruz Roja.\nEl Dúo Amitié ofrece este viernes 7 de febrero en el Teatro
  Circo de Marte a las 20:30 horas un concierto benéfico a favor de la org
 anización sin ánimo de lucro\, Cruz Roja.\n\n\n\nNieves Teresa Nieto y G
 oretty Peña serán las encargadas de tocar al piano piezas de Ravel\, Ger
 shwin\, Piazzolla o Holst\, entre otros. Un concierto solidario con un men
 saje de optimismo\, en reconocimiento a la labor social que realiza la Cru
 z Roja en La Palma.\nLas entradas ya están disponibles en la taquilla del
  teatro así como en la tiquetera online.\nComprar entradas &gt\;&gt\;\n\n
ATTACH;FMTTYPE=image/jpeg:https://www.larevistadelapalma.com/wp-content/up
 loads/2025/02/Duo-Amitie.jpg
CATEGORIES:Conciertos,Música
LOCATION:Teatro Circo de Marte\, Calle Virgen de La Luz\, 5\, Santa Cruz de
  La Palma\, 38700\, España
GEO:28.682989;-17.765755
X-APPLE-STRUCTURED-LOCATION;VALUE=URI;X-ADDRESS=Calle Virgen de La Luz\, 5\
 , Santa Cruz de La Palma\, 38700\, España;X-APPLE-RADIUS=100;X-TITLE=Teat
 ro Circo de Marte:geo:28.682989,-17.765755
END:VEVENT
END:VCALENDAR