BEGIN:VCALENDAR
VERSION:2.0
PRODID:-//wp-events-plugin.com//7.2.3.1//EN
TZID:Europe/London
X-WR-TIMEZONE:Europe/London
BEGIN:VEVENT
UID:4547@larevistadelapalma.com
DTSTART:20260313T180000Z
DTEND:20260313T193000Z
DTSTAMP:20260303T200759Z
URL:https://www.larevistadelapalma.com/events/concierto-del-palmero-manolo
 -brito-en-la-casa-del-conde/
SUMMARY:Concierto del palmero Manolo Brito en La Casa del Conde
DESCRIPTION:El pianista palmero Manolo Brito dará un concierto en la Casa 
 del Conde de Argual el día 13 de marzo. Unas bellas melodías a manos de 
 un veterano compositor.
ATTACH;FMTTYPE=image/jpeg:https://www.larevistadelapalma.com/wp-content/up
 loads/2026/03/3-13-manolo-brito.jpg
CATEGORIES:Conciertos,Música
LOCATION:Casa del Conde\, Los Llanos de Aridane\, C/San Antonio\, 35 - Llan
 o de Argual\, Los Llanos de Aridane\, 38760\, España
GEO:28.655333;-17.926641
X-APPLE-STRUCTURED-LOCATION;VALUE=URI;X-ADDRESS=C/San Antonio\, 35 - Llano 
 de Argual\, Los Llanos de Aridane\, 38760\, España;X-APPLE-RADIUS=100;X-T
 ITLE=Casa del Conde\, Los Llanos de Aridane:geo:28.655333,-17.926641
END:VEVENT
END:VCALENDARBEGIN:VCALENDAR
VERSION:2.0
PRODID:-//wp-events-plugin.com//7.2.3.1//EN
TZID:Europe/London
X-WR-TIMEZONE:Europe/London
BEGIN:VEVENT
UID:4547@larevistadelapalma.com
DTSTART:20260313T180000Z
DTEND:20260313T193000Z
DTSTAMP:20260303T200759Z
URL:https://www.larevistadelapalma.com/events/concierto-del-palmero-manolo
 -brito-en-la-casa-del-conde/
SUMMARY:Concierto del palmero Manolo Brito en La Casa del Conde
DESCRIPTION:El pianista palmero Manolo Brito dará un concierto en la Casa 
 del Conde de Argual el día 13 de marzo. Unas bellas melodías a manos de 
 un veterano compositor.
ATTACH;FMTTYPE=image/jpeg:https://www.larevistadelapalma.com/wp-content/up
 loads/2026/03/3-13-manolo-brito.jpg
CATEGORIES:Conciertos,Música
LOCATION:Casa del Conde\, Los Llanos de Aridane\, C/San Antonio\, 35 - Llan
 o de Argual\, Los Llanos de Aridane\, 38760\, España
GEO:28.655333;-17.926641
X-APPLE-STRUCTURED-LOCATION;VALUE=URI;X-ADDRESS=C/San Antonio\, 35 - Llano 
 de Argual\, Los Llanos de Aridane\, 38760\, España;X-APPLE-RADIUS=100;X-T
 ITLE=Casa del Conde\, Los Llanos de Aridane:geo:28.655333,-17.926641
END:VEVENT
END:VCALENDAR