BEGIN:VCALENDAR
VERSION:2.0
PRODID:-//wp-events-plugin.com//7.2.3.1//EN
TZID:Europe/London
X-WR-TIMEZONE:Europe/London
BEGIN:VEVENT
UID:4090@larevistadelapalma.com
DTSTART:20251212T193000Z
DTEND:20251212T210000Z
DTSTAMP:20251212T161852Z
URL:https://www.larevistadelapalma.com/events/concierto-en-acustico-de-fla
 via-cruz/
SUMMARY:APLAZADO - “Al Cielo”: Concierto en acústico de Flavia Cruz en
  Breña Baja
DESCRIPTION:A causa de condiciones meteorológicas adversas\, el concierto 
 se aplaza al 10 de enero de 2026.\n\nFlavia Cruz presenta su concierto en 
 acústico “Al Cielo” en la Plaza de Las Madres de San José con motivo
  del Programa de Navidad del municipio que viene organizando el Ayuntamien
 to de Breña Baja.\n\nFlavia Cruz es una cantautora palmera que ha ido con
 struyendo su camino entre la sensibilidad y la fuerza de su voz. En diciem
 bre de 2024 publicó su primer álbum\, "Al Cielo"\, un proyecto íntimo q
 ue recoge vivencias\, búsquedas y cicatrices transformadas en música.
ATTACH;FMTTYPE=image/jpeg:https://www.larevistadelapalma.com/wp-content/up
 loads/2025/12/Navidad-25-Flavia-Cartel.png
CATEGORIES:Conciertos,Música
LOCATION:Plaza de las Madres\, San José\, Breña Baja\, 38712\, España
GEO:28.642202;-17.775828
X-APPLE-STRUCTURED-LOCATION;VALUE=URI;X-ADDRESS=San José\, Breña Baja\, 3
 8712\, España;X-APPLE-RADIUS=100;X-TITLE=Plaza de las Madres:geo:28.64220
 2,-17.775828
END:VEVENT
END:VCALENDARBEGIN:VCALENDAR
VERSION:2.0
PRODID:-//wp-events-plugin.com//7.2.3.1//EN
TZID:Europe/London
X-WR-TIMEZONE:Europe/London
BEGIN:VEVENT
UID:4090@larevistadelapalma.com
DTSTART:20251212T193000Z
DTEND:20251212T210000Z
DTSTAMP:20251212T161852Z
URL:https://www.larevistadelapalma.com/events/concierto-en-acustico-de-fla
 via-cruz/
SUMMARY:APLAZADO - “Al Cielo”: Concierto en acústico de Flavia Cruz en
  Breña Baja
DESCRIPTION:A causa de condiciones meteorológicas adversas\, el concierto 
 se aplaza al 10 de enero de 2026.\n\nFlavia Cruz presenta su concierto en 
 acústico “Al Cielo” en la Plaza de Las Madres de San José con motivo
  del Programa de Navidad del municipio que viene organizando el Ayuntamien
 to de Breña Baja.\n\nFlavia Cruz es una cantautora palmera que ha ido con
 struyendo su camino entre la sensibilidad y la fuerza de su voz. En diciem
 bre de 2024 publicó su primer álbum\, "Al Cielo"\, un proyecto íntimo q
 ue recoge vivencias\, búsquedas y cicatrices transformadas en música.
ATTACH;FMTTYPE=image/jpeg:https://www.larevistadelapalma.com/wp-content/up
 loads/2025/12/Navidad-25-Flavia-Cartel.png
CATEGORIES:Conciertos,Música
LOCATION:Plaza de las Madres\, San José\, Breña Baja\, 38712\, España
GEO:28.642202;-17.775828
X-APPLE-STRUCTURED-LOCATION;VALUE=URI;X-ADDRESS=San José\, Breña Baja\, 3
 8712\, España;X-APPLE-RADIUS=100;X-TITLE=Plaza de las Madres:geo:28.64220
 2,-17.775828
END:VEVENT
END:VCALENDAR