BEGIN:VCALENDAR
VERSION:2.0
PRODID:-//wp-events-plugin.com//7.2.3.1//EN
TZID:Europe/London
X-WR-TIMEZONE:Europe/London
BEGIN:VEVENT
UID:3903@larevistadelapalma.com
DTSTART:20250815T210000Z
DTEND:20250815T225900Z
DTSTAMP:20250812T214658Z
URL:https://www.larevistadelapalma.com/events/concierto-en-la-concepcion/
SUMMARY:Concierto en La Concepción
DESCRIPTION:\nConcierto con motivo de las fiestas de La Concepción\, que c
 ontará con la banda Atlantis y con Sonido Bujás. Puro ritmo\, sonido y t
 alento local.\n\n\n\nA partir de las 22:00 horas en la Plaza de La Gloriet
 a.\n\n
ATTACH;FMTTYPE=image/jpeg:https://www.larevistadelapalma.com/wp-content/up
 loads/2025/08/WhatsApp-Image-2025-08-11-at-11.59.59.jpeg
CATEGORIES:Conciertos,Música
LOCATION:Plaza de La Glorieta\, Breña Alta\, Plaza de la Glorieta\, Breña
  Alta\, 38710\, España
GEO:28.675493;-17.780948
X-APPLE-STRUCTURED-LOCATION;VALUE=URI;X-ADDRESS=Plaza de la Glorieta\, Bre
 ña Alta\, 38710\, España;X-APPLE-RADIUS=100;X-TITLE=Plaza de La Glorieta
 \, Breña Alta:geo:28.675493,-17.780948
END:VEVENT
END:VCALENDARBEGIN:VCALENDAR
VERSION:2.0
PRODID:-//wp-events-plugin.com//7.2.3.1//EN
TZID:Europe/London
X-WR-TIMEZONE:Europe/London
BEGIN:VEVENT
UID:3903@larevistadelapalma.com
DTSTART:20250815T210000Z
DTEND:20250815T225900Z
DTSTAMP:20250812T214658Z
URL:https://www.larevistadelapalma.com/events/concierto-en-la-concepcion/
SUMMARY:Concierto en La Concepción
DESCRIPTION:\nConcierto con motivo de las fiestas de La Concepción\, que c
 ontará con la banda Atlantis y con Sonido Bujás. Puro ritmo\, sonido y t
 alento local.\n\n\n\nA partir de las 22:00 horas en la Plaza de La Gloriet
 a.\n\n
ATTACH;FMTTYPE=image/jpeg:https://www.larevistadelapalma.com/wp-content/up
 loads/2025/08/WhatsApp-Image-2025-08-11-at-11.59.59.jpeg
CATEGORIES:Conciertos,Música
LOCATION:Plaza de La Glorieta\, Breña Alta\, Plaza de la Glorieta\, Breña
  Alta\, 38710\, España
GEO:28.675493;-17.780948
X-APPLE-STRUCTURED-LOCATION;VALUE=URI;X-ADDRESS=Plaza de la Glorieta\, Bre
 ña Alta\, 38710\, España;X-APPLE-RADIUS=100;X-TITLE=Plaza de La Glorieta
 \, Breña Alta:geo:28.675493,-17.780948
END:VEVENT
END:VCALENDAR