BEGIN:VCALENDAR
VERSION:2.0
PRODID:-//wp-events-plugin.com//7.2.3.1//EN
TZID:Europe/London
X-WR-TIMEZONE:Europe/London
BEGIN:VEVENT
UID:3132@larevistadelapalma.com
DTSTART:20240713T180000Z
DTEND:20240713T224500Z
DTSTAMP:20240710T225158Z
URL:https://www.larevistadelapalma.com/events/concierto-en-santa-cruz-de-l
 a-palma/
SUMMARY:Concierto múltiple en Santa Cruz de La Palma
DESCRIPTION:Un concierto con motivo de las Fiestas del Carmen\, que tendrá
  diversas actuaciones musicales como ‘Contrastes’\, "Full de copas"\, 
 ‘Escuela de Calor’ y DJ T3nax.
ATTACH;FMTTYPE=image/jpeg:https://www.larevistadelapalma.com/wp-content/up
 loads/2024/07/Concierto-Fiestas-Carmen.jpg
CATEGORIES:Conciertos,Música
LOCATION:Trasera del Cabildo Insular de La Palma\, C. Álvarez de Abreu\, 7
 7\, Santa Cruz De La Palma\, 38700\, España
GEO:28.681457;-17.765928
X-APPLE-STRUCTURED-LOCATION;VALUE=URI;X-ADDRESS=C. Álvarez de Abreu\, 77\,
  Santa Cruz De La Palma\, 38700\, España;X-APPLE-RADIUS=100;X-TITLE=Trase
 ra del Cabildo Insular de La Palma:geo:28.681457,-17.765928
END:VEVENT
END:VCALENDARBEGIN:VCALENDAR
VERSION:2.0
PRODID:-//wp-events-plugin.com//7.2.3.1//EN
TZID:Europe/London
X-WR-TIMEZONE:Europe/London
BEGIN:VEVENT
UID:3132@larevistadelapalma.com
DTSTART:20240713T180000Z
DTEND:20240713T224500Z
DTSTAMP:20240710T225158Z
URL:https://www.larevistadelapalma.com/events/concierto-en-santa-cruz-de-l
 a-palma/
SUMMARY:Concierto múltiple en Santa Cruz de La Palma
DESCRIPTION:Un concierto con motivo de las Fiestas del Carmen\, que tendrá
  diversas actuaciones musicales como ‘Contrastes’\, "Full de copas"\, 
 ‘Escuela de Calor’ y DJ T3nax.
ATTACH;FMTTYPE=image/jpeg:https://www.larevistadelapalma.com/wp-content/up
 loads/2024/07/Concierto-Fiestas-Carmen.jpg
CATEGORIES:Conciertos,Música
LOCATION:Trasera del Cabildo Insular de La Palma\, C. Álvarez de Abreu\, 7
 7\, Santa Cruz De La Palma\, 38700\, España
GEO:28.681457;-17.765928
X-APPLE-STRUCTURED-LOCATION;VALUE=URI;X-ADDRESS=C. Álvarez de Abreu\, 77\,
  Santa Cruz De La Palma\, 38700\, España;X-APPLE-RADIUS=100;X-TITLE=Trase
 ra del Cabildo Insular de La Palma:geo:28.681457,-17.765928
END:VEVENT
END:VCALENDAR