BEGIN:VCALENDAR
VERSION:2.0
PRODID:-//wp-events-plugin.com//7.2.3.1//EN
TZID:Europe/London
X-WR-TIMEZONE:Europe/London
BEGIN:VEVENT
UID:3794@larevistadelapalma.com
DTSTART:20250613T203000Z
DTEND:20250613T220000Z
DTSTAMP:20250605T211926Z
URL:https://www.larevistadelapalma.com/events/concierto-escuela-sinfonica-
 eim/
SUMMARY:Concierto de Orquesta Sinfónica de La Escuela Insular de Música d
 e La Palma (Fuencaliente)
DESCRIPTION:\nLa música y el cine se dan la mano.\nLa Orquesta Sinfónica 
 de la Escuela Insular de Música\, pone el broche final al IV Orquest Camp
  con dos conciertos que te harán vibrar. El primero de ellos será el 13 
 de junio\, en el Hotel Teneguía Princess de Fuencaliente y el segundo en 
 Villa de Mazo.\nEntrada libre hasta completar aforo.\n\n
ATTACH;FMTTYPE=image/jpeg:https://www.larevistadelapalma.com/wp-content/up
 loads/2025/06/Concierto-clausura-Orquest-Camp-EIM.jpg
CATEGORIES:Conciertos,Música
LOCATION:Municipio de Fuencaliente\, Fuencaliente\, Fuencaliente\, 38740\, 
 España
GEO:28.479676;-17.840616
X-APPLE-STRUCTURED-LOCATION;VALUE=URI;X-ADDRESS=Fuencaliente\, Fuencaliente
 \, 38740\, España;X-APPLE-RADIUS=100;X-TITLE=Municipio de Fuencaliente:ge
 o:28.479676,-17.840616
END:VEVENT
END:VCALENDARBEGIN:VCALENDAR
VERSION:2.0
PRODID:-//wp-events-plugin.com//7.2.3.1//EN
TZID:Europe/London
X-WR-TIMEZONE:Europe/London
BEGIN:VEVENT
UID:3794@larevistadelapalma.com
DTSTART:20250613T203000Z
DTEND:20250613T220000Z
DTSTAMP:20250605T211926Z
URL:https://www.larevistadelapalma.com/events/concierto-escuela-sinfonica-
 eim/
SUMMARY:Concierto de Orquesta Sinfónica de La Escuela Insular de Música d
 e La Palma (Fuencaliente)
DESCRIPTION:\nLa música y el cine se dan la mano.\nLa Orquesta Sinfónica 
 de la Escuela Insular de Música\, pone el broche final al IV Orquest Camp
  con dos conciertos que te harán vibrar. El primero de ellos será el 13 
 de junio\, en el Hotel Teneguía Princess de Fuencaliente y el segundo en 
 Villa de Mazo.\nEntrada libre hasta completar aforo.\n\n
ATTACH;FMTTYPE=image/jpeg:https://www.larevistadelapalma.com/wp-content/up
 loads/2025/06/Concierto-clausura-Orquest-Camp-EIM.jpg
CATEGORIES:Conciertos,Música
LOCATION:Municipio de Fuencaliente\, Fuencaliente\, Fuencaliente\, 38740\, 
 España
GEO:28.479676;-17.840616
X-APPLE-STRUCTURED-LOCATION;VALUE=URI;X-ADDRESS=Fuencaliente\, Fuencaliente
 \, 38740\, España;X-APPLE-RADIUS=100;X-TITLE=Municipio de Fuencaliente:ge
 o:28.479676,-17.840616
END:VEVENT
END:VCALENDAR