BEGIN:VCALENDAR
VERSION:2.0
PRODID:-//wp-events-plugin.com//7.2.3.1//EN
TZID:Europe/London
X-WR-TIMEZONE:Europe/London
BEGIN:VEVENT
UID:965@larevistadelapalma.com
DTSTART:20231230T190000Z
DTEND:20231230T203000Z
DTSTAMP:20231227T235539Z
URL:https://www.larevistadelapalma.com/events/concierto-flamenco-entre-ami
 gos-tazacorte/
SUMMARY:Concierto "Flamenco entre amigos"\, Tazacorte
DESCRIPTION:Iosune Lizarte + Pedro Sanz + Eremiot Rodríguez + Fran Moreno 
 + artistas invitados. \nMas info \n\n&nbsp\;\n\n&nbsp\;\n\n&nbsp\;
ATTACH;FMTTYPE=image/jpeg:https://www.larevistadelapalma.com/wp-content/up
 loads/2023/12/Flamenco-entre-amigos.jpg
CATEGORIES:Conciertos,Música
LOCATION:Casa de la cultura de Tazacorte\, C. Primero de Mayo\, 7\, Tazacor
 te\, 38770\, España
GEO:28.640111;-17.932736
X-APPLE-STRUCTURED-LOCATION;VALUE=URI;X-ADDRESS=C. Primero de Mayo\, 7\, Ta
 zacorte\, 38770\, España;X-APPLE-RADIUS=100;X-TITLE=Casa de la cultura de
  Tazacorte:geo:28.640111,-17.932736
END:VEVENT
END:VCALENDARBEGIN:VCALENDAR
VERSION:2.0
PRODID:-//wp-events-plugin.com//7.2.3.1//EN
TZID:Europe/London
X-WR-TIMEZONE:Europe/London
BEGIN:VEVENT
UID:965@larevistadelapalma.com
DTSTART:20231230T190000Z
DTEND:20231230T203000Z
DTSTAMP:20231227T235539Z
URL:https://www.larevistadelapalma.com/events/concierto-flamenco-entre-ami
 gos-tazacorte/
SUMMARY:Concierto "Flamenco entre amigos"\, Tazacorte
DESCRIPTION:Iosune Lizarte + Pedro Sanz + Eremiot Rodríguez + Fran Moreno 
 + artistas invitados. \nMas info \n\n&nbsp\;\n\n&nbsp\;\n\n&nbsp\;
ATTACH;FMTTYPE=image/jpeg:https://www.larevistadelapalma.com/wp-content/up
 loads/2023/12/Flamenco-entre-amigos.jpg
CATEGORIES:Conciertos,Música
LOCATION:Casa de la cultura de Tazacorte\, C. Primero de Mayo\, 7\, Tazacor
 te\, 38770\, España
GEO:28.640111;-17.932736
X-APPLE-STRUCTURED-LOCATION;VALUE=URI;X-ADDRESS=C. Primero de Mayo\, 7\, Ta
 zacorte\, 38770\, España;X-APPLE-RADIUS=100;X-TITLE=Casa de la cultura de
  Tazacorte:geo:28.640111,-17.932736
END:VEVENT
END:VCALENDAR