BEGIN:VCALENDAR
VERSION:2.0
PRODID:-//wp-events-plugin.com//7.2.3.1//EN
TZID:Europe/London
X-WR-TIMEZONE:Europe/London
BEGIN:VEVENT
UID:3876@larevistadelapalma.com
DTSTART:20250718T200000Z
DTEND:20250718T224500Z
DTSTAMP:20250716T134741Z
URL:https://www.larevistadelapalma.com/events/concierto-loquillo-cabrito-f
 rito-eremiot/
SUMMARY:Concierto: Tributo a Loquillo + Cabrito Frito + Eremiot
DESCRIPTION:El próximo día 18 de julio\, en el recinto popular de La Baja
 da\, "A por ellos. Tributo a Loquillo" . Una noche de Rock en la que inte
 rpretarán las canciones más icónicas de Loquillo en su etapa con Troglo
 ditas.\n\nQuiero un camión\, El ritmo del garaje\, Besos robados\, El rom
 peolas\, Carne para Linda\, Rock and Roll Star\, Cadillac solitario\, Salu
 d y rock and roll\, Rey del Glam y muchas más...\n\nEstarán también est
 a noche en el escenario la banda de Cabritofrito y  Eremiot Rodríguez y 
 su tripulación.\n\n 
ATTACH;FMTTYPE=image/jpeg:https://www.larevistadelapalma.com/wp-content/up
 loads/2025/07/A-por-ellos-tributo-a-Loquillo.jpg
CATEGORIES:Festivales/Fiestas,Música
LOCATION:Municipio de Santa Cruz de La Palma\, Santa Cruz de La Palma \, Sa
 nta Cruz de La Palma \, 38700\, España
GEO:28.688757;-17.765102
X-APPLE-STRUCTURED-LOCATION;VALUE=URI;X-ADDRESS=Santa Cruz de La Palma \, S
 anta Cruz de La Palma \, 38700\, España;X-APPLE-RADIUS=100;X-TITLE=Munici
 pio de Santa Cruz de La Palma:geo:28.688757,-17.765102
END:VEVENT
END:VCALENDARBEGIN:VCALENDAR
VERSION:2.0
PRODID:-//wp-events-plugin.com//7.2.3.1//EN
TZID:Europe/London
X-WR-TIMEZONE:Europe/London
BEGIN:VEVENT
UID:3876@larevistadelapalma.com
DTSTART:20250718T200000Z
DTEND:20250718T224500Z
DTSTAMP:20250716T134741Z
URL:https://www.larevistadelapalma.com/events/concierto-loquillo-cabrito-f
 rito-eremiot/
SUMMARY:Concierto: Tributo a Loquillo + Cabrito Frito + Eremiot
DESCRIPTION:El próximo día 18 de julio\, en el recinto popular de La Baja
 da\, "A por ellos. Tributo a Loquillo" . Una noche de Rock en la que inte
 rpretarán las canciones más icónicas de Loquillo en su etapa con Troglo
 ditas.\n\nQuiero un camión\, El ritmo del garaje\, Besos robados\, El rom
 peolas\, Carne para Linda\, Rock and Roll Star\, Cadillac solitario\, Salu
 d y rock and roll\, Rey del Glam y muchas más...\n\nEstarán también est
 a noche en el escenario la banda de Cabritofrito y  Eremiot Rodríguez y 
 su tripulación.\n\n 
ATTACH;FMTTYPE=image/jpeg:https://www.larevistadelapalma.com/wp-content/up
 loads/2025/07/A-por-ellos-tributo-a-Loquillo.jpg
CATEGORIES:Festivales/Fiestas,Música
LOCATION:Municipio de Santa Cruz de La Palma\, Santa Cruz de La Palma \, Sa
 nta Cruz de La Palma \, 38700\, España
GEO:28.688757;-17.765102
X-APPLE-STRUCTURED-LOCATION;VALUE=URI;X-ADDRESS=Santa Cruz de La Palma \, S
 anta Cruz de La Palma \, 38700\, España;X-APPLE-RADIUS=100;X-TITLE=Munici
 pio de Santa Cruz de La Palma:geo:28.688757,-17.765102
END:VEVENT
END:VCALENDAR