BEGIN:VCALENDAR
VERSION:2.0
PRODID:-//wp-events-plugin.com//7.2.3.1//EN
TZID:Europe/London
X-WR-TIMEZONE:Europe/London
BEGIN:VEVENT
UID:3379@larevistadelapalma.com
DTSTART:20241109T200000Z
DTEND:20241109T220000Z
DTSTAMP:20241105T190335Z
URL:https://www.larevistadelapalma.com/events/concierto-los-80-principales
 -santa-cruz/
SUMMARY:Concierto de ’Los 80 Principales’ en Santa Cruz de La Palma
DESCRIPTION:La actuación será abierta por Atlantis\, un grupo palmero que
  ofrecerá un espectáculo dinámico y divertido con un set-list en españ
 ol e inglés donde recogen grandes éxitos musicales de los últimos cuare
 nta años\, algunas de las canciones que sonarán son de artistas como Que
 en\, Bon Jovi\, Seguridad social o Miley Cyrus\, entre otros.\n\n\n\nEl es
 pectáculo del grupo ‘Los 80 Principales’\, se considera uno de los me
 jores tributos a los 80s\, un viaje musical que repasa las mejores cancion
 es de la década tanto en ámbito nacional como internacional como AC/DC\,
  Dire Straits\, El Último de la Fila\, Tequila o Alaska\, son algunos de 
 ellos.\nLa banda\, que cuenta con tres premios ARC a la mejor gira en dire
 cto de 2017\, 2021 y 2023\, celebra su décimo aniversario como conjunto m
 usical por ello han incluido versiones de los años 70 y 90.\nEl concierto
  tendrá lugar en la Avenida Marítima\, junto a los balcones típicos.\n\
 n
ATTACH;FMTTYPE=image/jpeg:https://www.larevistadelapalma.com/wp-content/up
 loads/2024/11/CONCIERTO-LOS-80-PRINCIPALES.jpg
CATEGORIES:Conciertos,Música
LOCATION:Playa del Malecón en Santa Cruz de La Palma\, Avenida Marítima\,
  Santa Cruz De La Palma\, Santa Cruz de Tenerife\, 38700\, España
GEO:28.689651;-17.760535
X-APPLE-STRUCTURED-LOCATION;VALUE=URI;X-ADDRESS=Avenida Marítima\, Santa C
 ruz De La Palma\, Santa Cruz de Tenerife\, 38700\, España;X-APPLE-RADIUS=
 100;X-TITLE=Playa del Malecón en Santa Cruz de La Palma:geo:28.689651,-17
 .760535
END:VEVENT
END:VCALENDARBEGIN:VCALENDAR
VERSION:2.0
PRODID:-//wp-events-plugin.com//7.2.3.1//EN
TZID:Europe/London
X-WR-TIMEZONE:Europe/London
BEGIN:VEVENT
UID:3379@larevistadelapalma.com
DTSTART:20241109T200000Z
DTEND:20241109T220000Z
DTSTAMP:20241105T190335Z
URL:https://www.larevistadelapalma.com/events/concierto-los-80-principales
 -santa-cruz/
SUMMARY:Concierto de ’Los 80 Principales’ en Santa Cruz de La Palma
DESCRIPTION:La actuación será abierta por Atlantis\, un grupo palmero que
  ofrecerá un espectáculo dinámico y divertido con un set-list en españ
 ol e inglés donde recogen grandes éxitos musicales de los últimos cuare
 nta años\, algunas de las canciones que sonarán son de artistas como Que
 en\, Bon Jovi\, Seguridad social o Miley Cyrus\, entre otros.\n\n\n\nEl es
 pectáculo del grupo ‘Los 80 Principales’\, se considera uno de los me
 jores tributos a los 80s\, un viaje musical que repasa las mejores cancion
 es de la década tanto en ámbito nacional como internacional como AC/DC\,
  Dire Straits\, El Último de la Fila\, Tequila o Alaska\, son algunos de 
 ellos.\nLa banda\, que cuenta con tres premios ARC a la mejor gira en dire
 cto de 2017\, 2021 y 2023\, celebra su décimo aniversario como conjunto m
 usical por ello han incluido versiones de los años 70 y 90.\nEl concierto
  tendrá lugar en la Avenida Marítima\, junto a los balcones típicos.\n\
 n
ATTACH;FMTTYPE=image/jpeg:https://www.larevistadelapalma.com/wp-content/up
 loads/2024/11/CONCIERTO-LOS-80-PRINCIPALES.jpg
CATEGORIES:Conciertos,Música
LOCATION:Playa del Malecón en Santa Cruz de La Palma\, Avenida Marítima\,
  Santa Cruz De La Palma\, Santa Cruz de Tenerife\, 38700\, España
GEO:28.689651;-17.760535
X-APPLE-STRUCTURED-LOCATION;VALUE=URI;X-ADDRESS=Avenida Marítima\, Santa C
 ruz De La Palma\, Santa Cruz de Tenerife\, 38700\, España;X-APPLE-RADIUS=
 100;X-TITLE=Playa del Malecón en Santa Cruz de La Palma:geo:28.689651,-17
 .760535
END:VEVENT
END:VCALENDAR