BEGIN:VCALENDAR
VERSION:2.0
PRODID:-//wp-events-plugin.com//7.2.3.1//EN
TZID:Europe/London
X-WR-TIMEZONE:Europe/London
BEGIN:VEVENT
UID:749@larevistadelapalma.com
DTSTART:20231014T180000Z
DTEND:20231014T194500Z
DTSTAMP:20231010T161624Z
URL:https://www.larevistadelapalma.com/events/concierto-lucia-veintimilla-
 y-aida-petrossian-en-las-salinas-de-los-cancajos/
SUMMARY:Concierto de Lucía Veintimilla y Aida Petrossian en Las Salinas de
  Los Cancajos
DESCRIPTION: Lucía Veintimilla y Aida Petrossian\, ambas al violín\, ser
 án las invitadas a este concierto de la novena edición del Ciclo de Cám
 ara Eustaquio Sicilia que tendrá lugar en las antiguas Salinas de Los Can
 cajos.\n\nInterpretarán obras de Hindemith\, Milhaud\, J.P. Guignon\, Wie
 niawski\, B. Bartòk.\nLa española Lucía Veintimilla es una violinista r
 econocida internacionalmente por su expresividad y virtuosismo. Actúa reg
 ularmente como solista\, dando recitales y como músico de cámara en las 
 principales salas de conciertos de Europa y Asia y es invitada asiduamente
  a participar en festivales de música de todo el mundo.\nSus interpretaci
 ones han sido retransmitidas por Radio Nacional de España\, la BBC Radio 
 3 de Inglaterra y en Televisión Española\, entre otras. Además\, ha sid
 o seleccionada para formar parte de "Art on the move"\, un libro que retra
 ta a cincuenta de los mejores artistas españoles afincados en Londres.\nS
 u debut álbum en solitario -Origins-\, compuesto por obras para violín s
 olo de Dario Marianelli\, Francisco Coll y Jorge Muñiz\, está teniendo u
 na gran acogida por el público y la crítica. Su anterior álbum con Deco
  Ensemble fue elogiado por la crítica como "Absolutamente maravilloso e i
 ncluso sobrecogedor en ocasiones\, tanto por la excelente selección de ma
 terial como por supuesto\, por la magistral ejecución de estos virtuosos 
 intérpretes".\nLe acompaña en este dúo a violín\, Aida Petrossian\, pr
 ocedente de Armenia\, y residente en Francia.\n\nPara la reserva de entrad
 as y abonos\, pueden escribir al correo musicadecamaracancajos@hotmail.com
 \n\n&nbsp\;
ATTACH;FMTTYPE=image/jpeg:https://www.larevistadelapalma.com/wp-content/up
 loads/2023/10/Lucia-Veintimilla-y-Aida-Petrossian.jpg
CATEGORIES:Conciertos,Música
LOCATION:Antiguas Salinas de Los Cancajos\, P.º del litoral\, Breña Baja\
 , 38712\, España
GEO:28.650095;-17.75849
X-APPLE-STRUCTURED-LOCATION;VALUE=URI;X-ADDRESS=P.º del litoral\, Breña B
 aja\, 38712\, España;X-APPLE-RADIUS=100;X-TITLE=Antiguas Salinas de Los C
 ancajos:geo:28.650095,-17.75849
END:VEVENT
END:VCALENDARBEGIN:VCALENDAR
VERSION:2.0
PRODID:-//wp-events-plugin.com//7.2.3.1//EN
TZID:Europe/London
X-WR-TIMEZONE:Europe/London
BEGIN:VEVENT
UID:749@larevistadelapalma.com
DTSTART:20231014T180000Z
DTEND:20231014T194500Z
DTSTAMP:20231010T161624Z
URL:https://www.larevistadelapalma.com/events/concierto-lucia-veintimilla-
 y-aida-petrossian-en-las-salinas-de-los-cancajos/
SUMMARY:Concierto de Lucía Veintimilla y Aida Petrossian en Las Salinas de
  Los Cancajos
DESCRIPTION: Lucía Veintimilla y Aida Petrossian\, ambas al violín\, ser
 án las invitadas a este concierto de la novena edición del Ciclo de Cám
 ara Eustaquio Sicilia que tendrá lugar en las antiguas Salinas de Los Can
 cajos.\n\nInterpretarán obras de Hindemith\, Milhaud\, J.P. Guignon\, Wie
 niawski\, B. Bartòk.\nLa española Lucía Veintimilla es una violinista r
 econocida internacionalmente por su expresividad y virtuosismo. Actúa reg
 ularmente como solista\, dando recitales y como músico de cámara en las 
 principales salas de conciertos de Europa y Asia y es invitada asiduamente
  a participar en festivales de música de todo el mundo.\nSus interpretaci
 ones han sido retransmitidas por Radio Nacional de España\, la BBC Radio 
 3 de Inglaterra y en Televisión Española\, entre otras. Además\, ha sid
 o seleccionada para formar parte de "Art on the move"\, un libro que retra
 ta a cincuenta de los mejores artistas españoles afincados en Londres.\nS
 u debut álbum en solitario -Origins-\, compuesto por obras para violín s
 olo de Dario Marianelli\, Francisco Coll y Jorge Muñiz\, está teniendo u
 na gran acogida por el público y la crítica. Su anterior álbum con Deco
  Ensemble fue elogiado por la crítica como "Absolutamente maravilloso e i
 ncluso sobrecogedor en ocasiones\, tanto por la excelente selección de ma
 terial como por supuesto\, por la magistral ejecución de estos virtuosos 
 intérpretes".\nLe acompaña en este dúo a violín\, Aida Petrossian\, pr
 ocedente de Armenia\, y residente en Francia.\n\nPara la reserva de entrad
 as y abonos\, pueden escribir al correo musicadecamaracancajos@hotmail.com
 \n\n&nbsp\;
ATTACH;FMTTYPE=image/jpeg:https://www.larevistadelapalma.com/wp-content/up
 loads/2023/10/Lucia-Veintimilla-y-Aida-Petrossian.jpg
CATEGORIES:Conciertos,Música
LOCATION:Antiguas Salinas de Los Cancajos\, P.º del litoral\, Breña Baja\
 , 38712\, España
GEO:28.650095;-17.75849
X-APPLE-STRUCTURED-LOCATION;VALUE=URI;X-ADDRESS=P.º del litoral\, Breña B
 aja\, 38712\, España;X-APPLE-RADIUS=100;X-TITLE=Antiguas Salinas de Los C
 ancajos:geo:28.650095,-17.75849
END:VEVENT
END:VCALENDAR