BEGIN:VCALENDAR
VERSION:2.0
PRODID:-//wp-events-plugin.com//7.2.3.1//EN
TZID:Europe/London
X-WR-TIMEZONE:Europe/London
BEGIN:VEVENT
UID:3274@larevistadelapalma.com
DTSTART:20240929T180000Z
DTEND:20240929T193000Z
DTSTAMP:20240928T183758Z
URL:https://www.larevistadelapalma.com/events/concierto-notas-y-sabores-en
 -mazo/
SUMMARY:Concierto "Notas y sabores" en Mazo
DESCRIPTION:Este domingo 29 de septiembre\,en el Centro de la Cultura Andar
 es\, concierto 11 cuerdas más voz solista.\n\n\n 	Timple: Derque Martín\
 n 	Guitarra: Misael Jordán\n 	Voz solista: Juanma Padrón\n\nDegustación
  de productos locales del municipio con Dulcería D’Maite.\nEntrada grat
 uita hasta completar aforo.
ATTACH;FMTTYPE=image/jpeg:https://www.larevistadelapalma.com/wp-content/up
 loads/2024/09/Notas-y-sabores-en-Mazo.jpg
CATEGORIES:Conciertos,Música
LOCATION:Centro de la Cultura Andares\, Ctra. Dr. Morera Bravo\, 2. El Pueb
 lo.\, Villa de Mazo\, 38730\, España
GEO:28.604882;-17.777431
X-APPLE-STRUCTURED-LOCATION;VALUE=URI;X-ADDRESS=Ctra. Dr. Morera Bravo\, 2.
  El Pueblo.\, Villa de Mazo\, 38730\, España;X-APPLE-RADIUS=100;X-TITLE=C
 entro de la Cultura Andares:geo:28.604882,-17.777431
END:VEVENT
END:VCALENDARBEGIN:VCALENDAR
VERSION:2.0
PRODID:-//wp-events-plugin.com//7.2.3.1//EN
TZID:Europe/London
X-WR-TIMEZONE:Europe/London
BEGIN:VEVENT
UID:3274@larevistadelapalma.com
DTSTART:20240929T180000Z
DTEND:20240929T193000Z
DTSTAMP:20240928T183758Z
URL:https://www.larevistadelapalma.com/events/concierto-notas-y-sabores-en
 -mazo/
SUMMARY:Concierto "Notas y sabores" en Mazo
DESCRIPTION:Este domingo 29 de septiembre\,en el Centro de la Cultura Andar
 es\, concierto 11 cuerdas más voz solista.\n\n\n 	Timple: Derque Martín\
 n 	Guitarra: Misael Jordán\n 	Voz solista: Juanma Padrón\n\nDegustación
  de productos locales del municipio con Dulcería D’Maite.\nEntrada grat
 uita hasta completar aforo.
ATTACH;FMTTYPE=image/jpeg:https://www.larevistadelapalma.com/wp-content/up
 loads/2024/09/Notas-y-sabores-en-Mazo.jpg
CATEGORIES:Conciertos,Música
LOCATION:Centro de la Cultura Andares\, Ctra. Dr. Morera Bravo\, 2. El Pueb
 lo.\, Villa de Mazo\, 38730\, España
GEO:28.604882;-17.777431
X-APPLE-STRUCTURED-LOCATION;VALUE=URI;X-ADDRESS=Ctra. Dr. Morera Bravo\, 2.
  El Pueblo.\, Villa de Mazo\, 38730\, España;X-APPLE-RADIUS=100;X-TITLE=C
 entro de la Cultura Andares:geo:28.604882,-17.777431
END:VEVENT
END:VCALENDAR