BEGIN:VCALENDAR
VERSION:2.0
PRODID:-//wp-events-plugin.com//7.2.3.1//EN
TZID:Europe/London
X-WR-TIMEZONE:Europe/London
BEGIN:VEVENT
UID:3795@larevistadelapalma.com
DTSTART:20250614T193000Z
DTEND:20250614T210000Z
DTSTAMP:20250605T211814Z
URL:https://www.larevistadelapalma.com/events/concierto-orquesta-sinfonica
 -escuela-insular-de-musica-la-palma-mazo/
SUMMARY:Concierto de Orquesta Sinfónica de La Escuela Insular de Música d
 e La Palma (Villa de Mazo)
DESCRIPTION:\nLa música y el cine se dan la mano.\nLa Orquesta Sinfónica 
 de la Escuela Insular de Música\, pone el broche final al IV Orquest Camp
  con dos conciertos que te harán vibrar. El primero de ellos será el dí
 a 13 de junio\, en Fuencaliente y el segundo\, el 14 de junio en el Centro
  Cultural Andares de Villa de Mazo.\nEntrada libre hasta completar aforo.\
 n\n
ATTACH;FMTTYPE=image/jpeg:https://www.larevistadelapalma.com/wp-content/up
 loads/2025/06/Concierto-clausura-Orquest-Camp-EIM.jpg
CATEGORIES:Conciertos,Música
LOCATION:Centro de la Cultura Andares\, Ctra. Dr. Morera Bravo\, 2. El Pueb
 lo.\, Villa de Mazo\, 38730\, España
GEO:28.604882;-17.777431
X-APPLE-STRUCTURED-LOCATION;VALUE=URI;X-ADDRESS=Ctra. Dr. Morera Bravo\, 2.
  El Pueblo.\, Villa de Mazo\, 38730\, España;X-APPLE-RADIUS=100;X-TITLE=C
 entro de la Cultura Andares:geo:28.604882,-17.777431
END:VEVENT
END:VCALENDARBEGIN:VCALENDAR
VERSION:2.0
PRODID:-//wp-events-plugin.com//7.2.3.1//EN
TZID:Europe/London
X-WR-TIMEZONE:Europe/London
BEGIN:VEVENT
UID:3795@larevistadelapalma.com
DTSTART:20250614T193000Z
DTEND:20250614T210000Z
DTSTAMP:20250605T211814Z
URL:https://www.larevistadelapalma.com/events/concierto-orquesta-sinfonica
 -escuela-insular-de-musica-la-palma-mazo/
SUMMARY:Concierto de Orquesta Sinfónica de La Escuela Insular de Música d
 e La Palma (Villa de Mazo)
DESCRIPTION:\nLa música y el cine se dan la mano.\nLa Orquesta Sinfónica 
 de la Escuela Insular de Música\, pone el broche final al IV Orquest Camp
  con dos conciertos que te harán vibrar. El primero de ellos será el dí
 a 13 de junio\, en Fuencaliente y el segundo\, el 14 de junio en el Centro
  Cultural Andares de Villa de Mazo.\nEntrada libre hasta completar aforo.\
 n\n
ATTACH;FMTTYPE=image/jpeg:https://www.larevistadelapalma.com/wp-content/up
 loads/2025/06/Concierto-clausura-Orquest-Camp-EIM.jpg
CATEGORIES:Conciertos,Música
LOCATION:Centro de la Cultura Andares\, Ctra. Dr. Morera Bravo\, 2. El Pueb
 lo.\, Villa de Mazo\, 38730\, España
GEO:28.604882;-17.777431
X-APPLE-STRUCTURED-LOCATION;VALUE=URI;X-ADDRESS=Ctra. Dr. Morera Bravo\, 2.
  El Pueblo.\, Villa de Mazo\, 38730\, España;X-APPLE-RADIUS=100;X-TITLE=C
 entro de la Cultura Andares:geo:28.604882,-17.777431
END:VEVENT
END:VCALENDAR