BEGIN:VCALENDAR
VERSION:2.0
PRODID:-//wp-events-plugin.com//7.2.3.1//EN
TZID:Europe/London
X-WR-TIMEZONE:Europe/London
BEGIN:VEVENT
UID:3375@larevistadelapalma.com
DTSTART:20241109T180000Z
DTEND:20241109T193000Z
DTSTAMP:20241031T173446Z
URL:https://www.larevistadelapalma.com/events/concierto-piano-lara-taboada
 -salinas/
SUMMARY:Concierto de piano de Lara Taboada en las Salinas de Los Cancajos
DESCRIPTION:\nEl sábado 9 de noviembre\, 19 hs\, tendrá lugar el quinto c
 oncierto de la décima edición del Ciclo de Cámara “Eustaquio Sicilia
 ” en las Antiguas Salinas de Los Cancajos\, con Lara Taboada (piano)\, b
 ajo el título de “Soirées españolas”\, un repertorio con obras de C
 hopin en su mayor parte.\n\n\nEsta pianista gallega ya posee una trayector
 ia sólida. En su carrera como solista\, ha sido finalista en el concurso 
 orensano Piano Meeting en 2018\, que la lleva a participar en el festival 
 ese mismo año. En 2022 es invitada para tocar en la octava edición del C
 iclo de Cámara Salinas (La Palma). Además\, ha tenido la oportunidad de 
 debutar en diferentes auditorios\, entre los que podemos destacar Tivoli V
 redenburg (Utrecht\, Países Bajos)\, Piano Salón Steinway&amp\;Sons (Var
 sovia\, Polonia)\, Auditorio de Felanitx (Palma de Mallorca) y Sala Euther
 pe (León).\nHa colaborado con orquestas como Filharmonía de Madrid\, Orq
 uesta Madrid Sinfónica Décimo Arte\, Orquesta Sinfónica de Rivas Alma M
 ahler\, Orquesta JOECOM\, Joven Orquesta de la Sierra de Madrid\, Orquesta
  Sinfónica de la Universidad Politécnica de Madrid y orquesta JOCSMAB\, 
 con las que ha tocado en diferentes auditorios como el Teatro Real de Madr
 id\, el Auditorio Nacional de Música o el Auditorio Pilar Bardem. Ha cola
 borado también como pianista repertorista con el Coro Filharmonía de Mad
 rid y con el Coro Italiano en España.\n\nPara reserva de entradas y abono
 s en el correo: musicadecamaracancajos@hotmail.com\nApoyo patrocinador y o
 rganizativo de la Concejalía de Cultura del Ayuntamiento de Breña Baja. 
 Otros patrocinios: Farmacia San Antonio\, Hotel Valle Aridane\, Óptica Fe
 liciano\, el Cabildo Insular de La Palma\, Banana Garden La Palma Hotel-Ca
 fé y el apoyo publicitario de 7.7 La Palma Radio y TV La Palma. Director 
 del Ciclo de Cámara Eustaquio Sicilia: Seca Herrera Sicilia.\n\n
ATTACH;FMTTYPE=image/jpeg:https://www.larevistadelapalma.com/wp-content/up
 loads/2024/10/Lara-taboada.jpg
CATEGORIES:Conciertos,Música
LOCATION:Antiguas Salinas de Los Cancajos\, P.º del litoral\, Breña Baja\
 , 38712\, España
GEO:28.650095;-17.75849
X-APPLE-STRUCTURED-LOCATION;VALUE=URI;X-ADDRESS=P.º del litoral\, Breña B
 aja\, 38712\, España;X-APPLE-RADIUS=100;X-TITLE=Antiguas Salinas de Los C
 ancajos:geo:28.650095,-17.75849
END:VEVENT
END:VCALENDARBEGIN:VCALENDAR
VERSION:2.0
PRODID:-//wp-events-plugin.com//7.2.3.1//EN
TZID:Europe/London
X-WR-TIMEZONE:Europe/London
BEGIN:VEVENT
UID:3375@larevistadelapalma.com
DTSTART:20241109T180000Z
DTEND:20241109T193000Z
DTSTAMP:20241031T173446Z
URL:https://www.larevistadelapalma.com/events/concierto-piano-lara-taboada
 -salinas/
SUMMARY:Concierto de piano de Lara Taboada en las Salinas de Los Cancajos
DESCRIPTION:\nEl sábado 9 de noviembre\, 19 hs\, tendrá lugar el quinto c
 oncierto de la décima edición del Ciclo de Cámara “Eustaquio Sicilia
 ” en las Antiguas Salinas de Los Cancajos\, con Lara Taboada (piano)\, b
 ajo el título de “Soirées españolas”\, un repertorio con obras de C
 hopin en su mayor parte.\n\n\nEsta pianista gallega ya posee una trayector
 ia sólida. En su carrera como solista\, ha sido finalista en el concurso 
 orensano Piano Meeting en 2018\, que la lleva a participar en el festival 
 ese mismo año. En 2022 es invitada para tocar en la octava edición del C
 iclo de Cámara Salinas (La Palma). Además\, ha tenido la oportunidad de 
 debutar en diferentes auditorios\, entre los que podemos destacar Tivoli V
 redenburg (Utrecht\, Países Bajos)\, Piano Salón Steinway&amp\;Sons (Var
 sovia\, Polonia)\, Auditorio de Felanitx (Palma de Mallorca) y Sala Euther
 pe (León).\nHa colaborado con orquestas como Filharmonía de Madrid\, Orq
 uesta Madrid Sinfónica Décimo Arte\, Orquesta Sinfónica de Rivas Alma M
 ahler\, Orquesta JOECOM\, Joven Orquesta de la Sierra de Madrid\, Orquesta
  Sinfónica de la Universidad Politécnica de Madrid y orquesta JOCSMAB\, 
 con las que ha tocado en diferentes auditorios como el Teatro Real de Madr
 id\, el Auditorio Nacional de Música o el Auditorio Pilar Bardem. Ha cola
 borado también como pianista repertorista con el Coro Filharmonía de Mad
 rid y con el Coro Italiano en España.\n\nPara reserva de entradas y abono
 s en el correo: musicadecamaracancajos@hotmail.com\nApoyo patrocinador y o
 rganizativo de la Concejalía de Cultura del Ayuntamiento de Breña Baja. 
 Otros patrocinios: Farmacia San Antonio\, Hotel Valle Aridane\, Óptica Fe
 liciano\, el Cabildo Insular de La Palma\, Banana Garden La Palma Hotel-Ca
 fé y el apoyo publicitario de 7.7 La Palma Radio y TV La Palma. Director 
 del Ciclo de Cámara Eustaquio Sicilia: Seca Herrera Sicilia.\n\n
ATTACH;FMTTYPE=image/jpeg:https://www.larevistadelapalma.com/wp-content/up
 loads/2024/10/Lara-taboada.jpg
CATEGORIES:Conciertos,Música
LOCATION:Antiguas Salinas de Los Cancajos\, P.º del litoral\, Breña Baja\
 , 38712\, España
GEO:28.650095;-17.75849
X-APPLE-STRUCTURED-LOCATION;VALUE=URI;X-ADDRESS=P.º del litoral\, Breña B
 aja\, 38712\, España;X-APPLE-RADIUS=100;X-TITLE=Antiguas Salinas de Los C
 ancajos:geo:28.650095,-17.75849
END:VEVENT
END:VCALENDAR