BEGIN:VCALENDAR
VERSION:2.0
PRODID:-//wp-events-plugin.com//7.2.3.1//EN
TZID:Europe/London
X-WR-TIMEZONE:Europe/London
BEGIN:VEVENT
UID:3728@larevistadelapalma.com
DTSTART:20250528T173000Z
DTEND:20250528T190000Z
DTSTAMP:20250430T211539Z
URL:https://www.larevistadelapalma.com/events/concierto-sitar-musica-clasi
 ca-de-la-india/
SUMMARY:Concierto de Subrata De y su Sitar (Música clásica de la India)
DESCRIPTION:\nEste 28 de mayo\, la Escuela Insular de Música de La Palma\,
  para celebrar los 30 años de la Escuela\, te invita a un viaje sonoro po
 r la India con el maestro Shri Subrata De y su sitar. Una oportunidad úni
 ca de escuchar música clásica india en directo.\nSubrata De es un virtuo
 so del Sitar\, el instrumento de cuerda más importante en la música clá
 sica de la India. Nacido en Calcuta\, India\, en 1966\, Subrata creció en
  una familia de músicos donde desde temprana edad descubrió su amor por 
 la música. Inicialmente aprendió a tocar el violín y la flauta\, pero m
 ás tarde\, a la edad de 12 años\, se sintió atraído por el Sitar\, un 
 instrumento que terminaría definiendo su carrera. El Sitar es uno de los 
 instrumentos más importantes para la música clásica indostánica y Subr
 ata De es uno de los músicos más talentosos en este género.\nEl concier
 to será en el Patio del Princesa Acerina\, en Los Llanos de Aridane\, y l
 a entrada será libre hasta completar el aforo.\n\n\n\n\n
ATTACH;FMTTYPE=image/jpeg:https://www.larevistadelapalma.com/wp-content/up
 loads/2025/04/Concierto-Sitar-Escuela-Insular-de-Musica.jpg
CATEGORIES:Conciertos,Música
LOCATION:Municipio de Los Llanos de Aridane\, Los Llanos de Aridane\, Los L
 lanos de Aridane\, 38760\, España
GEO:28.660236;-17.913187
X-APPLE-STRUCTURED-LOCATION;VALUE=URI;X-ADDRESS=Los Llanos de Aridane\, Los
  Llanos de Aridane\, 38760\, España;X-APPLE-RADIUS=100;X-TITLE=Municipio 
 de Los Llanos de Aridane:geo:28.660236,-17.913187
END:VEVENT
END:VCALENDARBEGIN:VCALENDAR
VERSION:2.0
PRODID:-//wp-events-plugin.com//7.2.3.1//EN
TZID:Europe/London
X-WR-TIMEZONE:Europe/London
BEGIN:VEVENT
UID:3728@larevistadelapalma.com
DTSTART:20250528T173000Z
DTEND:20250528T190000Z
DTSTAMP:20250430T211539Z
URL:https://www.larevistadelapalma.com/events/concierto-sitar-musica-clasi
 ca-de-la-india/
SUMMARY:Concierto de Subrata De y su Sitar (Música clásica de la India)
DESCRIPTION:\nEste 28 de mayo\, la Escuela Insular de Música de La Palma\,
  para celebrar los 30 años de la Escuela\, te invita a un viaje sonoro po
 r la India con el maestro Shri Subrata De y su sitar. Una oportunidad úni
 ca de escuchar música clásica india en directo.\nSubrata De es un virtuo
 so del Sitar\, el instrumento de cuerda más importante en la música clá
 sica de la India. Nacido en Calcuta\, India\, en 1966\, Subrata creció en
  una familia de músicos donde desde temprana edad descubrió su amor por 
 la música. Inicialmente aprendió a tocar el violín y la flauta\, pero m
 ás tarde\, a la edad de 12 años\, se sintió atraído por el Sitar\, un 
 instrumento que terminaría definiendo su carrera. El Sitar es uno de los 
 instrumentos más importantes para la música clásica indostánica y Subr
 ata De es uno de los músicos más talentosos en este género.\nEl concier
 to será en el Patio del Princesa Acerina\, en Los Llanos de Aridane\, y l
 a entrada será libre hasta completar el aforo.\n\n\n\n\n
ATTACH;FMTTYPE=image/jpeg:https://www.larevistadelapalma.com/wp-content/up
 loads/2025/04/Concierto-Sitar-Escuela-Insular-de-Musica.jpg
CATEGORIES:Conciertos,Música
LOCATION:Municipio de Los Llanos de Aridane\, Los Llanos de Aridane\, Los L
 lanos de Aridane\, 38760\, España
GEO:28.660236;-17.913187
X-APPLE-STRUCTURED-LOCATION;VALUE=URI;X-ADDRESS=Los Llanos de Aridane\, Los
  Llanos de Aridane\, 38760\, España;X-APPLE-RADIUS=100;X-TITLE=Municipio 
 de Los Llanos de Aridane:geo:28.660236,-17.913187
END:VEVENT
END:VCALENDAR