BEGIN:VCALENDAR
VERSION:2.0
PRODID:-//wp-events-plugin.com//7.2.3.1//EN
TZID:Europe/London
X-WR-TIMEZONE:Europe/London
BEGIN:VEVENT
UID:3332@larevistadelapalma.com
DTSTART:20241026T190000Z
DTEND:20241026T203000Z
DTSTAMP:20241016T221549Z
URL:https://www.larevistadelapalma.com/events/concierto-solidario-los-saba
 ndenos/
SUMMARY:"Memorias del ayer"\, concierto solidario con Los Sabandeños
DESCRIPTION:La Asociación Cultural Nuestra Señora de las Nieves\, en su 3
 0º aniversario\, y la Asociación de Niños Especiales de La Palma\, le i
 nvitan a un evento muy especial. Un festival con Los Sabandeños\, que tie
 ne como objetivo recaudar fondos para apoyar las actividades y proyectos d
 e la Asociación de Niños Especiales de La Palma\, que trabaja incansable
 mente para mejorar la calidad de vida de los niños con necesidades especi
 ales en nuestra comunidad.\nComprar entradas &gt\;&gt\;
ATTACH;FMTTYPE=image/jpeg:https://www.larevistadelapalma.com/wp-content/up
 loads/2024/10/Los-sabandenos.jpg
CATEGORIES:Conciertos,Música
LOCATION:Teatro Circo de Marte\, Calle Virgen de La Luz\, 5\, Santa Cruz de
  La Palma\, 38700\, España
GEO:28.682989;-17.765755
X-APPLE-STRUCTURED-LOCATION;VALUE=URI;X-ADDRESS=Calle Virgen de La Luz\, 5\
 , Santa Cruz de La Palma\, 38700\, España;X-APPLE-RADIUS=100;X-TITLE=Teat
 ro Circo de Marte:geo:28.682989,-17.765755
END:VEVENT
END:VCALENDARBEGIN:VCALENDAR
VERSION:2.0
PRODID:-//wp-events-plugin.com//7.2.3.1//EN
TZID:Europe/London
X-WR-TIMEZONE:Europe/London
BEGIN:VEVENT
UID:3332@larevistadelapalma.com
DTSTART:20241026T190000Z
DTEND:20241026T203000Z
DTSTAMP:20241016T221549Z
URL:https://www.larevistadelapalma.com/events/concierto-solidario-los-saba
 ndenos/
SUMMARY:"Memorias del ayer"\, concierto solidario con Los Sabandeños
DESCRIPTION:La Asociación Cultural Nuestra Señora de las Nieves\, en su 3
 0º aniversario\, y la Asociación de Niños Especiales de La Palma\, le i
 nvitan a un evento muy especial. Un festival con Los Sabandeños\, que tie
 ne como objetivo recaudar fondos para apoyar las actividades y proyectos d
 e la Asociación de Niños Especiales de La Palma\, que trabaja incansable
 mente para mejorar la calidad de vida de los niños con necesidades especi
 ales en nuestra comunidad.\nComprar entradas &gt\;&gt\;
ATTACH;FMTTYPE=image/jpeg:https://www.larevistadelapalma.com/wp-content/up
 loads/2024/10/Los-sabandenos.jpg
CATEGORIES:Conciertos,Música
LOCATION:Teatro Circo de Marte\, Calle Virgen de La Luz\, 5\, Santa Cruz de
  La Palma\, 38700\, España
GEO:28.682989;-17.765755
X-APPLE-STRUCTURED-LOCATION;VALUE=URI;X-ADDRESS=Calle Virgen de La Luz\, 5\
 , Santa Cruz de La Palma\, 38700\, España;X-APPLE-RADIUS=100;X-TITLE=Teat
 ro Circo de Marte:geo:28.682989,-17.765755
END:VEVENT
END:VCALENDAR