BEGIN:VCALENDAR
VERSION:2.0
PRODID:-//wp-events-plugin.com//7.2.3.1//EN
TZID:Europe/London
X-WR-TIMEZONE:Europe/London
BEGIN:VEVENT
UID:3465@larevistadelapalma.com
DTSTART:20241220T200000Z
DTEND:20241220T213000Z
DTSTAMP:20241211T144527Z
URL:https://www.larevistadelapalma.com/events/concierto-star-of-gospel/
SUMMARY:Concierto "Star of Gospel"
DESCRIPTION:Un concierto que forma parte de la 19ª edición del Gospel Can
 arias Fest y que contará con cinco artistas con amplia trayectoria en el 
 mundo de la música\, como son Brigitte Emaga\, Gwen Thomas\, Attih Soul\,
  Sandra Tangerina y Sergio Cebrián.
ATTACH;FMTTYPE=image/jpeg:https://www.larevistadelapalma.com/wp-content/up
 loads/2024/12/Cartel-Star-of-Gospel-El-Paso-Bonanza-web-2024.jpg
CATEGORIES:Conciertos,Música
LOCATION:Municipio de El Paso\, El Paso\, La Palma \, El Paso\, 38750\, Esp
 aña
GEO:28.652378;-17.880396
X-APPLE-STRUCTURED-LOCATION;VALUE=URI;X-ADDRESS=El Paso\, La Palma \, El Pa
 so\, 38750\, España;X-APPLE-RADIUS=100;X-TITLE=Municipio de El Paso:geo:2
 8.652378,-17.880396
END:VEVENT
END:VCALENDARBEGIN:VCALENDAR
VERSION:2.0
PRODID:-//wp-events-plugin.com//7.2.3.1//EN
TZID:Europe/London
X-WR-TIMEZONE:Europe/London
BEGIN:VEVENT
UID:3465@larevistadelapalma.com
DTSTART:20241220T200000Z
DTEND:20241220T213000Z
DTSTAMP:20241211T144527Z
URL:https://www.larevistadelapalma.com/events/concierto-star-of-gospel/
SUMMARY:Concierto "Star of Gospel"
DESCRIPTION:Un concierto que forma parte de la 19ª edición del Gospel Can
 arias Fest y que contará con cinco artistas con amplia trayectoria en el 
 mundo de la música\, como son Brigitte Emaga\, Gwen Thomas\, Attih Soul\,
  Sandra Tangerina y Sergio Cebrián.
ATTACH;FMTTYPE=image/jpeg:https://www.larevistadelapalma.com/wp-content/up
 loads/2024/12/Cartel-Star-of-Gospel-El-Paso-Bonanza-web-2024.jpg
CATEGORIES:Conciertos,Música
LOCATION:Municipio de El Paso\, El Paso\, La Palma \, El Paso\, 38750\, Esp
 aña
GEO:28.652378;-17.880396
X-APPLE-STRUCTURED-LOCATION;VALUE=URI;X-ADDRESS=El Paso\, La Palma \, El Pa
 so\, 38750\, España;X-APPLE-RADIUS=100;X-TITLE=Municipio de El Paso:geo:2
 8.652378,-17.880396
END:VEVENT
END:VCALENDAR