BEGIN:VCALENDAR
VERSION:2.0
PRODID:-//wp-events-plugin.com//7.2.3.1//EN
TZID:Europe/London
X-WR-TIMEZONE:Europe/London
BEGIN:VEVENT
UID:3796@larevistadelapalma.com
DTSTART:20250618T173000Z
DTEND:20250618T213000Z
DTSTAMP:20250605T214707Z
URL:https://www.larevistadelapalma.com/events/concierto-un-siglo-de-lustro
 s-voces-para-anunciar-la-bajada/
SUMMARY:Concierto "Un siglo de lustros: Voces para anunciar la Bajada"
DESCRIPTION:Unas semanas antes de que den comienzo los actos de las Fiestas
  Lustrales de La Bajada de La Virgen en La Palma\, la peña de la Danza de
  Los Enanos y la Banda de Música San Miguel de La Palma ofrecen este conc
 ierto que rinde homenaje a las composiciones interpretadas a lo largo del
  siglo XX en la antesala de la Danza de Enanos.\nComprar entradas &gt\;&gt
 \;\nDos funciones: A las 18:30 horas y  a las 20:30 horas.\n• Banda Mun
 icipal de Música San Miguel\, dirigida por Diego Arrocha.\n• Peña de l
 a Danza de Enanos\, bajo la dirección musical de Fernando Martel.\n• Pr
 esentado por Domingo Cabrera\, maestro de ceremonias.
ATTACH;FMTTYPE=image/jpeg:https://www.larevistadelapalma.com/wp-content/up
 loads/2025/06/Concierto-Voces-para-anunciar-la-Bajada.jpg
CATEGORIES:Conciertos,Música
LOCATION:Teatro Circo de Marte\, Calle Virgen de La Luz\, 5\, Santa Cruz de
  La Palma\, 38700\, España
GEO:28.682989;-17.765755
X-APPLE-STRUCTURED-LOCATION;VALUE=URI;X-ADDRESS=Calle Virgen de La Luz\, 5\
 , Santa Cruz de La Palma\, 38700\, España;X-APPLE-RADIUS=100;X-TITLE=Teat
 ro Circo de Marte:geo:28.682989,-17.765755
END:VEVENT
END:VCALENDARBEGIN:VCALENDAR
VERSION:2.0
PRODID:-//wp-events-plugin.com//7.2.3.1//EN
TZID:Europe/London
X-WR-TIMEZONE:Europe/London
BEGIN:VEVENT
UID:3796@larevistadelapalma.com
DTSTART:20250618T173000Z
DTEND:20250618T213000Z
DTSTAMP:20250605T214707Z
URL:https://www.larevistadelapalma.com/events/concierto-un-siglo-de-lustro
 s-voces-para-anunciar-la-bajada/
SUMMARY:Concierto "Un siglo de lustros: Voces para anunciar la Bajada"
DESCRIPTION:Unas semanas antes de que den comienzo los actos de las Fiestas
  Lustrales de La Bajada de La Virgen en La Palma\, la peña de la Danza de
  Los Enanos y la Banda de Música San Miguel de La Palma ofrecen este conc
 ierto que rinde homenaje a las composiciones interpretadas a lo largo del
  siglo XX en la antesala de la Danza de Enanos.\nComprar entradas &gt\;&gt
 \;\nDos funciones: A las 18:30 horas y  a las 20:30 horas.\n• Banda Mun
 icipal de Música San Miguel\, dirigida por Diego Arrocha.\n• Peña de l
 a Danza de Enanos\, bajo la dirección musical de Fernando Martel.\n• Pr
 esentado por Domingo Cabrera\, maestro de ceremonias.
ATTACH;FMTTYPE=image/jpeg:https://www.larevistadelapalma.com/wp-content/up
 loads/2025/06/Concierto-Voces-para-anunciar-la-Bajada.jpg
CATEGORIES:Conciertos,Música
LOCATION:Teatro Circo de Marte\, Calle Virgen de La Luz\, 5\, Santa Cruz de
  La Palma\, 38700\, España
GEO:28.682989;-17.765755
X-APPLE-STRUCTURED-LOCATION;VALUE=URI;X-ADDRESS=Calle Virgen de La Luz\, 5\
 , Santa Cruz de La Palma\, 38700\, España;X-APPLE-RADIUS=100;X-TITLE=Teat
 ro Circo de Marte:geo:28.682989,-17.765755
END:VEVENT
END:VCALENDAR