BEGIN:VCALENDAR
VERSION:2.0
PRODID:-//wp-events-plugin.com//7.2.3.1//EN
TZID:Europe/London
X-WR-TIMEZONE:Europe/London
BEGIN:VEVENT
UID:3645@larevistadelapalma.com
DTSTART:20250315T180000Z
DTEND:20250315T210000Z
DTSTAMP:20250313T211152Z
URL:https://www.larevistadelapalma.com/events/conciertos-san-patricio-sant
 a-cruz/
SUMMARY:Conciertos para celebrar San Patricio: "The Jig Kickers" y "Deira".
DESCRIPTION:La Plaza de Santo Domingo\, en Santa Cruz de La Palma\, acoger
 á el concierto de "The Jig Kickers" y "Deira".\n\nThe Jig Kickers es un c
 uarteto de folk irlandés de Badajoz \, un proyecto con músicos profesion
 ales que ofrecen un espectáculo inolvidable.\n\nDeira\, es un trío forma
 do por músicos de Asturias y Andalucía que inició su andadura en 2019. 
 Exploran las conexiones de la música asturiana y la escocesa desde una pe
 rspectiva moderna.
ATTACH;FMTTYPE=image/jpeg:https://www.larevistadelapalma.com/wp-content/up
 loads/2025/03/san-patricio.jpg
CATEGORIES:Conciertos,Música
LOCATION:Plaza de Santo Domingo en Santa Cruz de La Palma\, Plaza Santo Dom
 ingo\, Santa Cruz de La Palma\, 38700\, España
GEO:28.682691;-17.766334
X-APPLE-STRUCTURED-LOCATION;VALUE=URI;X-ADDRESS=Plaza Santo Domingo\, Santa
  Cruz de La Palma\, 38700\, España;X-APPLE-RADIUS=100;X-TITLE=Plaza de Sa
 nto Domingo en Santa Cruz de La Palma:geo:28.682691,-17.766334
END:VEVENT
END:VCALENDARBEGIN:VCALENDAR
VERSION:2.0
PRODID:-//wp-events-plugin.com//7.2.3.1//EN
TZID:Europe/London
X-WR-TIMEZONE:Europe/London
BEGIN:VEVENT
UID:3645@larevistadelapalma.com
DTSTART:20250315T180000Z
DTEND:20250315T210000Z
DTSTAMP:20250313T211152Z
URL:https://www.larevistadelapalma.com/events/conciertos-san-patricio-sant
 a-cruz/
SUMMARY:Conciertos para celebrar San Patricio: "The Jig Kickers" y "Deira".
DESCRIPTION:La Plaza de Santo Domingo\, en Santa Cruz de La Palma\, acoger
 á el concierto de "The Jig Kickers" y "Deira".\n\nThe Jig Kickers es un c
 uarteto de folk irlandés de Badajoz \, un proyecto con músicos profesion
 ales que ofrecen un espectáculo inolvidable.\n\nDeira\, es un trío forma
 do por músicos de Asturias y Andalucía que inició su andadura en 2019. 
 Exploran las conexiones de la música asturiana y la escocesa desde una pe
 rspectiva moderna.
ATTACH;FMTTYPE=image/jpeg:https://www.larevistadelapalma.com/wp-content/up
 loads/2025/03/san-patricio.jpg
CATEGORIES:Conciertos,Música
LOCATION:Plaza de Santo Domingo en Santa Cruz de La Palma\, Plaza Santo Dom
 ingo\, Santa Cruz de La Palma\, 38700\, España
GEO:28.682691;-17.766334
X-APPLE-STRUCTURED-LOCATION;VALUE=URI;X-ADDRESS=Plaza Santo Domingo\, Santa
  Cruz de La Palma\, 38700\, España;X-APPLE-RADIUS=100;X-TITLE=Plaza de Sa
 nto Domingo en Santa Cruz de La Palma:geo:28.682691,-17.766334
END:VEVENT
END:VCALENDAR