BEGIN:VCALENDAR
VERSION:2.0
PRODID:-//wp-events-plugin.com//7.2.3.1//EN
TZID:Europe/London
X-WR-TIMEZONE:Europe/London
BEGIN:VEVENT
UID:2866@larevistadelapalma.com
DTSTART:20240526T230000Z
DTEND:20240526T230000Z
DTSTAMP:20240327T004355Z
URL:https://www.larevistadelapalma.com/events/concurso-de-redaccion-premio
 -fernando-cabrera-de-astronomia/
SUMMARY:Concurso de redacción Premio Fernando Cabrera de Astronomía
DESCRIPTION:El plazo para presentar trabajos se mantendrá abierto hasta el
  27 de mayo. Los premios consistirán en material didáctico\, instrumento
 s de observación y un viaje.
ATTACH;FMTTYPE=image/jpeg:https://www.larevistadelapalma.com/wp-content/up
 loads/2024/03/Premio-Fernando-cabrera-de-Astronomia.jpg
CATEGORIES:Otras propuestas,Varios
END:VEVENT
END:VCALENDARBEGIN:VCALENDAR
VERSION:2.0
PRODID:-//wp-events-plugin.com//7.2.3.1//EN
TZID:Europe/London
X-WR-TIMEZONE:Europe/London
BEGIN:VEVENT
UID:2866@larevistadelapalma.com
DTSTART:20240526T230000Z
DTEND:20240526T230000Z
DTSTAMP:20240327T004355Z
URL:https://www.larevistadelapalma.com/events/concurso-de-redaccion-premio
 -fernando-cabrera-de-astronomia/
SUMMARY:Concurso de redacción Premio Fernando Cabrera de Astronomía
DESCRIPTION:El plazo para presentar trabajos se mantendrá abierto hasta el
  27 de mayo. Los premios consistirán en material didáctico\, instrumento
 s de observación y un viaje.
ATTACH;FMTTYPE=image/jpeg:https://www.larevistadelapalma.com/wp-content/up
 loads/2024/03/Premio-Fernando-cabrera-de-Astronomia.jpg
CATEGORIES:Otras propuestas,Varios
END:VEVENT
END:VCALENDAR