BEGIN:VCALENDAR
VERSION:2.0
PRODID:-//wp-events-plugin.com//7.2.3.1//EN
TZID:Europe/London
X-WR-TIMEZONE:Europe/London
BEGIN:VEVENT
UID:4072@larevistadelapalma.com
DTSTART:20251204T180000Z
DTEND:20251204T193000Z
DTSTAMP:20251127T135149Z
URL:https://www.larevistadelapalma.com/events/conferencia-las-raices-del-m
 al-con-jose-cabrera-forneiro/
SUMMARY:Conferencia "Las raíces del mal"\, con José Cabrera Forneiro
DESCRIPTION:El doctor Cabrera nos hablará de su ensayo y de su recorrido p
 ersonal\, social\, político\, histórico y científico con la maldad como
  elemento nuclear. No en vano\, su experiencia como psiquiatra forense le 
 ha situado en multitud de ocasiones en el epicentro de ese factor oscuro.\
 n\n¿Qué han dicho sobre él los filósofos\, los antropólogos o los mé
 dicos a lo largo de los siglos? ¿Es consustancial al ser humano? ¿Qué l
 o provoca? ¿Debe la sociedad asumirlo de forma natural o tenemos que comb
 atirlo? Si es así\, ¿es posible luchar contra él en cualquiera de sus a
 ristas sádicas\, crueles\, egoístas\, psicopáticas o maquiavélicas? ¿
 No será un invento del hombre?\n\nEn la biblioteca de la Real Cosmológic
 a.
ATTACH;FMTTYPE=image/jpeg:https://www.larevistadelapalma.com/wp-content/up
 loads/2025/11/las-raices-del-mal.jpg
CATEGORIES:Otras propuestas,Varios
LOCATION:Real Sociedad Cosmológica\, C. Van de Walle\, 6\, Santa Cruz de l
 a Palma\, Santa Cruz de Tenerife\, 38700\, España
GEO:28.683437;-17.765238
X-APPLE-STRUCTURED-LOCATION;VALUE=URI;X-ADDRESS=C. Van de Walle\, 6\, Santa
  Cruz de la Palma\, Santa Cruz de Tenerife\, 38700\, España;X-APPLE-RADIU
 S=100;X-TITLE=Real Sociedad Cosmológica:geo:28.683437,-17.765238
END:VEVENT
END:VCALENDARBEGIN:VCALENDAR
VERSION:2.0
PRODID:-//wp-events-plugin.com//7.2.3.1//EN
TZID:Europe/London
X-WR-TIMEZONE:Europe/London
BEGIN:VEVENT
UID:4072@larevistadelapalma.com
DTSTART:20251204T180000Z
DTEND:20251204T193000Z
DTSTAMP:20251127T135149Z
URL:https://www.larevistadelapalma.com/events/conferencia-las-raices-del-m
 al-con-jose-cabrera-forneiro/
SUMMARY:Conferencia "Las raíces del mal"\, con José Cabrera Forneiro
DESCRIPTION:El doctor Cabrera nos hablará de su ensayo y de su recorrido p
 ersonal\, social\, político\, histórico y científico con la maldad como
  elemento nuclear. No en vano\, su experiencia como psiquiatra forense le 
 ha situado en multitud de ocasiones en el epicentro de ese factor oscuro.\
 n\n¿Qué han dicho sobre él los filósofos\, los antropólogos o los mé
 dicos a lo largo de los siglos? ¿Es consustancial al ser humano? ¿Qué l
 o provoca? ¿Debe la sociedad asumirlo de forma natural o tenemos que comb
 atirlo? Si es así\, ¿es posible luchar contra él en cualquiera de sus a
 ristas sádicas\, crueles\, egoístas\, psicopáticas o maquiavélicas? ¿
 No será un invento del hombre?\n\nEn la biblioteca de la Real Cosmológic
 a.
ATTACH;FMTTYPE=image/jpeg:https://www.larevistadelapalma.com/wp-content/up
 loads/2025/11/las-raices-del-mal.jpg
CATEGORIES:Otras propuestas,Varios
LOCATION:Real Sociedad Cosmológica\, C. Van de Walle\, 6\, Santa Cruz de l
 a Palma\, Santa Cruz de Tenerife\, 38700\, España
GEO:28.683437;-17.765238
X-APPLE-STRUCTURED-LOCATION;VALUE=URI;X-ADDRESS=C. Van de Walle\, 6\, Santa
  Cruz de la Palma\, Santa Cruz de Tenerife\, 38700\, España;X-APPLE-RADIU
 S=100;X-TITLE=Real Sociedad Cosmológica:geo:28.683437,-17.765238
END:VEVENT
END:VCALENDAR