BEGIN:VCALENDAR
VERSION:2.0
PRODID:-//wp-events-plugin.com//7.2.3.1//EN
TZID:Europe/London
X-WR-TIMEZONE:Europe/London
BEGIN:VEVENT
UID:3280@larevistadelapalma.com
DTSTART;VALUE=DATE:20241004
DTEND;VALUE=DATE:20241006
DTSTAMP:20240929T181220Z
URL:https://www.larevistadelapalma.com/events/congreso-de-indumentarias-tr
 adicionales-de-la-isla/
SUMMARY:Congreso de Indumentarias Tradicionales de la Isla (INSCRIPCIONES C
 ERRADAS)
DESCRIPTION:El Cabildo pone en valor las indumentarias tradicionales de la 
 Isla con la celebración de un congreso de expertos.\n\nSe celebrará en e
 l Museo Insular de San Francisco los días 4 y 5 de octubre.\n\nEl Cabildo
  de La Palma\, a través de la Consejería de Cultura y Patrimonio Histór
 ico\, prepara la celebración del primer Congreso de Indumentarias Tradici
 onales de la Isla\, con el que se pretende poner en valor la historia\, cu
 ltura e identidad\, así como el trabajo de las manos artesanas para conse
 rvar estas vestimentas. \n\nEl acto de presentación de la cita\, que con
 tó con la presencia del consejero del área\, Pablo Díaz Cobiella\, y la
  directora del congreso\, Mónica González Perdomo\, sirvió para poner e
 n valor el objetivo del congreso con la creación de un Consejo de las Ind
 umentarias Tradicionales de La Palma. \n\n\n\nEsta cita contará con las 
 principales personas que han dedicado su vida al cuidado de las tradicione
 s y folclore palmero acogiendo\, por primera vez en La Palma\, un espacio 
 para proteger e impulsar la indumentaria tradicional.\n\nLa directora del 
 congreso\, Mónica González Perdomo\, describió que se ha diseñado un p
 rograma con presencia de personas expertas y en el que tendrá mucho peso 
 los grupos folclóricos y los artesanos y artesanas de La Palma.\n\nSe rea
 lizarán más de una veintena de ponencias y mesas redondas para tratar di
 ferentes temas relacionados con la historia\, los complementos o materiale
 s\, entre otros\, y talleres para el correcto uso de esta vestimenta. \n\
 nLa programación aquí &gt\;&gt\;\n\nLas personas interesadas en particip
 ar de este evento pueden hacerlo realizando su inscripción en este enlace
 .  ¡CUPO COMPLETO!\n\n 	El Congreso de Indumentarias Tradicionales de La
  Palma llena el cupo de 80 inscripciones en tan sólo dos horas\, desde q
 ue se abriera la inscripción de participantes el pasado miércoles\, se a
 gotaron las 80 inscripciones disponibles para esta cita.\n 	Se estudia la 
 posibilidad de retransmitir en streaming las sesiones para llegar a las pe
 rsonas que no han podido formalizar la inscripción.\nEn tan sólo dos hor
 as\, desde que se abriera la inscripción de participantes el pasado miér
 coles\, se agotaron las 80 inscripciones disponibles para esta cita.El con
 sejero de Cultura y Patrimonio Histórico\, Pablo Díaz Cobiella\, agradec
 e la gran acogida y la expectación que está recibiendo este evento en su
  primera edición. Además\, ante la imposibilidad de ampliar\nel aforo\, 
 desde el Cabildo de La Palma se está estudiando la posibilidad de retrans
 mitir las sesiones a través de las redes sociales de la Institución.\n\n
 &nbsp\;
ATTACH;FMTTYPE=image/jpeg:https://www.larevistadelapalma.com/wp-content/up
 loads/2024/09/Congreso-de-Indumentaria-La-Palma.jpg
CATEGORIES:Formación,Otras propuestas
LOCATION:Museo Insular de La Palma\, Plaza de San Francisco\, 3\, Santa Cru
 z de La Palma\, 38700\, España
GEO:28.687;-17.762092
X-APPLE-STRUCTURED-LOCATION;VALUE=URI;X-ADDRESS=Plaza de San Francisco\, 3\
 , Santa Cruz de La Palma\, 38700\, España;X-APPLE-RADIUS=100;X-TITLE=Muse
 o Insular de La Palma:geo:28.687,-17.762092
END:VEVENT
END:VCALENDARBEGIN:VCALENDAR
VERSION:2.0
PRODID:-//wp-events-plugin.com//7.2.3.1//EN
TZID:Europe/London
X-WR-TIMEZONE:Europe/London
BEGIN:VEVENT
UID:3280@larevistadelapalma.com
DTSTART;VALUE=DATE:20241004
DTEND;VALUE=DATE:20241006
DTSTAMP:20240929T181220Z
URL:https://www.larevistadelapalma.com/events/congreso-de-indumentarias-tr
 adicionales-de-la-isla/
SUMMARY:Congreso de Indumentarias Tradicionales de la Isla (INSCRIPCIONES C
 ERRADAS)
DESCRIPTION:El Cabildo pone en valor las indumentarias tradicionales de la 
 Isla con la celebración de un congreso de expertos.\n\nSe celebrará en e
 l Museo Insular de San Francisco los días 4 y 5 de octubre.\n\nEl Cabildo
  de La Palma\, a través de la Consejería de Cultura y Patrimonio Histór
 ico\, prepara la celebración del primer Congreso de Indumentarias Tradici
 onales de la Isla\, con el que se pretende poner en valor la historia\, cu
 ltura e identidad\, así como el trabajo de las manos artesanas para conse
 rvar estas vestimentas. \n\nEl acto de presentación de la cita\, que con
 tó con la presencia del consejero del área\, Pablo Díaz Cobiella\, y la
  directora del congreso\, Mónica González Perdomo\, sirvió para poner e
 n valor el objetivo del congreso con la creación de un Consejo de las Ind
 umentarias Tradicionales de La Palma. \n\n\n\nEsta cita contará con las 
 principales personas que han dedicado su vida al cuidado de las tradicione
 s y folclore palmero acogiendo\, por primera vez en La Palma\, un espacio 
 para proteger e impulsar la indumentaria tradicional.\n\nLa directora del 
 congreso\, Mónica González Perdomo\, describió que se ha diseñado un p
 rograma con presencia de personas expertas y en el que tendrá mucho peso 
 los grupos folclóricos y los artesanos y artesanas de La Palma.\n\nSe rea
 lizarán más de una veintena de ponencias y mesas redondas para tratar di
 ferentes temas relacionados con la historia\, los complementos o materiale
 s\, entre otros\, y talleres para el correcto uso de esta vestimenta. \n\
 nLa programación aquí &gt\;&gt\;\n\nLas personas interesadas en particip
 ar de este evento pueden hacerlo realizando su inscripción en este enlace
 .  ¡CUPO COMPLETO!\n\n 	El Congreso de Indumentarias Tradicionales de La
  Palma llena el cupo de 80 inscripciones en tan sólo dos horas\, desde q
 ue se abriera la inscripción de participantes el pasado miércoles\, se a
 gotaron las 80 inscripciones disponibles para esta cita.\n 	Se estudia la 
 posibilidad de retransmitir en streaming las sesiones para llegar a las pe
 rsonas que no han podido formalizar la inscripción.\nEn tan sólo dos hor
 as\, desde que se abriera la inscripción de participantes el pasado miér
 coles\, se agotaron las 80 inscripciones disponibles para esta cita.El con
 sejero de Cultura y Patrimonio Histórico\, Pablo Díaz Cobiella\, agradec
 e la gran acogida y la expectación que está recibiendo este evento en su
  primera edición. Además\, ante la imposibilidad de ampliar\nel aforo\, 
 desde el Cabildo de La Palma se está estudiando la posibilidad de retrans
 mitir las sesiones a través de las redes sociales de la Institución.\n\n
 &nbsp\;
ATTACH;FMTTYPE=image/jpeg:https://www.larevistadelapalma.com/wp-content/up
 loads/2024/09/Congreso-de-Indumentaria-La-Palma.jpg
CATEGORIES:Formación,Otras propuestas
LOCATION:Museo Insular de La Palma\, Plaza de San Francisco\, 3\, Santa Cru
 z de La Palma\, 38700\, España
GEO:28.687;-17.762092
X-APPLE-STRUCTURED-LOCATION;VALUE=URI;X-ADDRESS=Plaza de San Francisco\, 3\
 , Santa Cruz de La Palma\, 38700\, España;X-APPLE-RADIUS=100;X-TITLE=Muse
 o Insular de La Palma:geo:28.687,-17.762092
END:VEVENT
END:VCALENDAR