BEGIN:VCALENDAR
VERSION:2.0
PRODID:-//wp-events-plugin.com//7.2.3.1//EN
TZID:Europe/London
X-WR-TIMEZONE:Europe/London
BEGIN:VEVENT
UID:4007@larevistadelapalma.com
DTSTART:20251006T090000Z
DTEND:20251010T190000Z
DTSTAMP:20251008T115506Z
URL:https://www.larevistadelapalma.com/events/construyendo-desde-la-experi
 mentacion-creativa/
SUMMARY:Construyendo desde la Experimentación Creativa
DESCRIPTION:Muestra abierta de obras de procesos arte terapéuticos y de ex
 presión artística de personas beneficiarias de los servicios de Rehabili
 tación Psicosocial de Salud Mental de La Palma.
ATTACH;FMTTYPE=image/jpeg:https://www.larevistadelapalma.com/wp-content/up
 loads/2023/06/Casa-Principal-de-Salazar-ext-1.png
CATEGORIES:Exposiciones
LOCATION:Casa principal de Salazar\, Calle Odaly\, 22\, Santa Cruz de La Pa
 lma\, 38700\, España
GEO:28.682275;-17.765795
X-APPLE-STRUCTURED-LOCATION;VALUE=URI;X-ADDRESS=Calle Odaly\, 22\, Santa Cr
 uz de La Palma\, 38700\, España;X-APPLE-RADIUS=100;X-TITLE=Casa principal
  de Salazar:geo:28.682275,-17.765795
END:VEVENT
END:VCALENDARBEGIN:VCALENDAR
VERSION:2.0
PRODID:-//wp-events-plugin.com//7.2.3.1//EN
TZID:Europe/London
X-WR-TIMEZONE:Europe/London
BEGIN:VEVENT
UID:4007@larevistadelapalma.com
DTSTART:20251006T090000Z
DTEND:20251010T190000Z
DTSTAMP:20251008T115506Z
URL:https://www.larevistadelapalma.com/events/construyendo-desde-la-experi
 mentacion-creativa/
SUMMARY:Construyendo desde la Experimentación Creativa
DESCRIPTION:Muestra abierta de obras de procesos arte terapéuticos y de ex
 presión artística de personas beneficiarias de los servicios de Rehabili
 tación Psicosocial de Salud Mental de La Palma.
ATTACH;FMTTYPE=image/jpeg:https://www.larevistadelapalma.com/wp-content/up
 loads/2023/06/Casa-Principal-de-Salazar-ext-1.png
CATEGORIES:Exposiciones
LOCATION:Casa principal de Salazar\, Calle Odaly\, 22\, Santa Cruz de La Pa
 lma\, 38700\, España
GEO:28.682275;-17.765795
X-APPLE-STRUCTURED-LOCATION;VALUE=URI;X-ADDRESS=Calle Odaly\, 22\, Santa Cr
 uz de La Palma\, 38700\, España;X-APPLE-RADIUS=100;X-TITLE=Casa principal
  de Salazar:geo:28.682275,-17.765795
END:VEVENT
END:VCALENDAR