BEGIN:VCALENDAR
VERSION:2.0
PRODID:-//wp-events-plugin.com//7.2.3.1//EN
TZID:Europe/London
X-WR-TIMEZONE:Europe/London
BEGIN:VEVENT
UID:3410@larevistadelapalma.com
DTSTART:20241123T120000Z
DTEND:20241123T133000Z
DTSTAMP:20241118T170917Z
URL:https://www.larevistadelapalma.com/events/contigo-almediodia-con-101-b
 rass-band/
SUMMARY:Contigo Almediodía con 101 Brass Band
DESCRIPTION:\n101 Brass Band nace en Tenerife (Islas Canarias) a principios
  de 2014 fruto de la inquietud musical y curiosidad de sus componentes\, t
 omando como referencia agrupaciones de metales balcánicas\, sudamericanas
  y estadounidenses\, siempre bajo el lema de hacer disfrutar y transmitir 
 toda la energía posible al público.\n\n\n\nLa banda\, conocida entre sus
  numerosos seguidores como "La 101"\, debe su nombre a una conocida línea
  de guaguas del norte de Tenerife que une los municipios de La Orotava y L
 a Laguna haciendo parada en todos los pueblos que hay en el trayecto.\nLa 
 versatilidad es uno de los puntos fuertes de 101 Brass Band pudiendo adapt
 arse a diferentes formatos siempre manteniendo la misma filosofía que con
 siste en apostar por la diversión del público. Actuando tanto en escenar
 ios como en formato callejero e incluso pudiendo realizar pasacalles.\n\n
ATTACH;FMTTYPE=image/jpeg:https://www.larevistadelapalma.com/wp-content/up
 loads/2024/11/101-brass-band.jpg
CATEGORIES:Conciertos,Música
LOCATION:Plaza de España en Los Llanos de Aridane\, Plaza de España\, Los
  Llanos de Aridane\, 38760\, España
GEO:28.658934;-17.913174
X-APPLE-STRUCTURED-LOCATION;VALUE=URI;X-ADDRESS=Plaza de España\, Los Llan
 os de Aridane\, 38760\, España;X-APPLE-RADIUS=100;X-TITLE=Plaza de Españ
 a en Los Llanos de Aridane:geo:28.658934,-17.913174
END:VEVENT
END:VCALENDARBEGIN:VCALENDAR
VERSION:2.0
PRODID:-//wp-events-plugin.com//7.2.3.1//EN
TZID:Europe/London
X-WR-TIMEZONE:Europe/London
BEGIN:VEVENT
UID:3410@larevistadelapalma.com
DTSTART:20241123T120000Z
DTEND:20241123T133000Z
DTSTAMP:20241118T170917Z
URL:https://www.larevistadelapalma.com/events/contigo-almediodia-con-101-b
 rass-band/
SUMMARY:Contigo Almediodía con 101 Brass Band
DESCRIPTION:\n101 Brass Band nace en Tenerife (Islas Canarias) a principios
  de 2014 fruto de la inquietud musical y curiosidad de sus componentes\, t
 omando como referencia agrupaciones de metales balcánicas\, sudamericanas
  y estadounidenses\, siempre bajo el lema de hacer disfrutar y transmitir 
 toda la energía posible al público.\n\n\n\nLa banda\, conocida entre sus
  numerosos seguidores como "La 101"\, debe su nombre a una conocida línea
  de guaguas del norte de Tenerife que une los municipios de La Orotava y L
 a Laguna haciendo parada en todos los pueblos que hay en el trayecto.\nLa 
 versatilidad es uno de los puntos fuertes de 101 Brass Band pudiendo adapt
 arse a diferentes formatos siempre manteniendo la misma filosofía que con
 siste en apostar por la diversión del público. Actuando tanto en escenar
 ios como en formato callejero e incluso pudiendo realizar pasacalles.\n\n
ATTACH;FMTTYPE=image/jpeg:https://www.larevistadelapalma.com/wp-content/up
 loads/2024/11/101-brass-band.jpg
CATEGORIES:Conciertos,Música
LOCATION:Plaza de España en Los Llanos de Aridane\, Plaza de España\, Los
  Llanos de Aridane\, 38760\, España
GEO:28.658934;-17.913174
X-APPLE-STRUCTURED-LOCATION;VALUE=URI;X-ADDRESS=Plaza de España\, Los Llan
 os de Aridane\, 38760\, España;X-APPLE-RADIUS=100;X-TITLE=Plaza de Españ
 a en Los Llanos de Aridane:geo:28.658934,-17.913174
END:VEVENT
END:VCALENDAR