BEGIN:VCALENDAR
VERSION:2.0
PRODID:-//wp-events-plugin.com//7.2.3.1//EN
TZID:Europe/London
X-WR-TIMEZONE:Europe/London
BEGIN:VEVENT
UID:3478@larevistadelapalma.com
DTSTART:20241231T120000Z
DTEND:20241231T133000Z
DTSTAMP:20241209T152416Z
URL:https://www.larevistadelapalma.com/events/contigo-almediodia-especial-
 fin-de-ano/
SUMMARY:Contigo Almediodía especial fin de año
DESCRIPTION: Los Llanos de Aridane comienza este Fin de Año en Plaza de E
 spaña\, a las 13 horas\, con las versiones de pop y rock de los grupos  
 Miss Music Band y Escuela de Calor. 
ATTACH;FMTTYPE=image/jpeg:https://www.larevistadelapalma.com/wp-content/up
 loads/2024/12/Contigo-Al-mediodia-Fin-ano.jpg
CATEGORIES:Conciertos,Música
LOCATION:Plaza de España en Los Llanos de Aridane\, Plaza de España\, Los
  Llanos de Aridane\, 38760\, España
GEO:28.658934;-17.913174
X-APPLE-STRUCTURED-LOCATION;VALUE=URI;X-ADDRESS=Plaza de España\, Los Llan
 os de Aridane\, 38760\, España;X-APPLE-RADIUS=100;X-TITLE=Plaza de Españ
 a en Los Llanos de Aridane:geo:28.658934,-17.913174
END:VEVENT
END:VCALENDARBEGIN:VCALENDAR
VERSION:2.0
PRODID:-//wp-events-plugin.com//7.2.3.1//EN
TZID:Europe/London
X-WR-TIMEZONE:Europe/London
BEGIN:VEVENT
UID:3478@larevistadelapalma.com
DTSTART:20241231T120000Z
DTEND:20241231T133000Z
DTSTAMP:20241209T152416Z
URL:https://www.larevistadelapalma.com/events/contigo-almediodia-especial-
 fin-de-ano/
SUMMARY:Contigo Almediodía especial fin de año
DESCRIPTION: Los Llanos de Aridane comienza este Fin de Año en Plaza de E
 spaña\, a las 13 horas\, con las versiones de pop y rock de los grupos  
 Miss Music Band y Escuela de Calor. 
ATTACH;FMTTYPE=image/jpeg:https://www.larevistadelapalma.com/wp-content/up
 loads/2024/12/Contigo-Al-mediodia-Fin-ano.jpg
CATEGORIES:Conciertos,Música
LOCATION:Plaza de España en Los Llanos de Aridane\, Plaza de España\, Los
  Llanos de Aridane\, 38760\, España
GEO:28.658934;-17.913174
X-APPLE-STRUCTURED-LOCATION;VALUE=URI;X-ADDRESS=Plaza de España\, Los Llan
 os de Aridane\, 38760\, España;X-APPLE-RADIUS=100;X-TITLE=Plaza de Españ
 a en Los Llanos de Aridane:geo:28.658934,-17.913174
END:VEVENT
END:VCALENDAR