BEGIN:VCALENDAR
VERSION:2.0
PRODID:-//wp-events-plugin.com//7.2.3.1//EN
TZID:Europe/London
X-WR-TIMEZONE:Europe/London
BEGIN:VEVENT
UID:4433@larevistadelapalma.com
DTSTART:20251231T120000Z
DTEND:20251231T134500Z
DTSTAMP:20251221T185535Z
URL:https://www.larevistadelapalma.com/events/contigo-almediodia-fin-de-ga
 llo/
SUMMARY:Contigo ALmediodía Fin de Gallo
DESCRIPTION:Una jornada a puro rock con Los Vándalos\, banda argentina con
  una larga trayectoria en el rock nacional. Y los Stereos\, reversionando
  los grandes himnos de los 80\, 90 y 2000 con una impronta más rockera y 
 llena de energía.\n\nClásicos para cantar y disfrutar juntos.
ATTACH;FMTTYPE=image/jpeg:https://www.larevistadelapalma.com/wp-content/up
 loads/2025/12/Contigo-almediodia-fin-de-gallo-25.jpg
CATEGORIES:Festivales/Fiestas,Música
LOCATION:Plaza de España en Los Llanos de Aridane\, Plaza de España\, Los
  Llanos de Aridane\, 38760\, España
GEO:28.658934;-17.913174
X-APPLE-STRUCTURED-LOCATION;VALUE=URI;X-ADDRESS=Plaza de España\, Los Llan
 os de Aridane\, 38760\, España;X-APPLE-RADIUS=100;X-TITLE=Plaza de Españ
 a en Los Llanos de Aridane:geo:28.658934,-17.913174
END:VEVENT
END:VCALENDARBEGIN:VCALENDAR
VERSION:2.0
PRODID:-//wp-events-plugin.com//7.2.3.1//EN
TZID:Europe/London
X-WR-TIMEZONE:Europe/London
BEGIN:VEVENT
UID:4433@larevistadelapalma.com
DTSTART:20251231T120000Z
DTEND:20251231T134500Z
DTSTAMP:20251221T185535Z
URL:https://www.larevistadelapalma.com/events/contigo-almediodia-fin-de-ga
 llo/
SUMMARY:Contigo ALmediodía Fin de Gallo
DESCRIPTION:Una jornada a puro rock con Los Vándalos\, banda argentina con
  una larga trayectoria en el rock nacional. Y los Stereos\, reversionando
  los grandes himnos de los 80\, 90 y 2000 con una impronta más rockera y 
 llena de energía.\n\nClásicos para cantar y disfrutar juntos.
ATTACH;FMTTYPE=image/jpeg:https://www.larevistadelapalma.com/wp-content/up
 loads/2025/12/Contigo-almediodia-fin-de-gallo-25.jpg
CATEGORIES:Festivales/Fiestas,Música
LOCATION:Plaza de España en Los Llanos de Aridane\, Plaza de España\, Los
  Llanos de Aridane\, 38760\, España
GEO:28.658934;-17.913174
X-APPLE-STRUCTURED-LOCATION;VALUE=URI;X-ADDRESS=Plaza de España\, Los Llan
 os de Aridane\, 38760\, España;X-APPLE-RADIUS=100;X-TITLE=Plaza de Españ
 a en Los Llanos de Aridane:geo:28.658934,-17.913174
END:VEVENT
END:VCALENDAR