BEGIN:VCALENDAR
VERSION:2.0
PRODID:-//wp-events-plugin.com//7.2.3.1//EN
TZID:Europe/London
X-WR-TIMEZONE:Europe/London
BEGIN:VEVENT
UID:2814@larevistadelapalma.com
DTSTART:20240525T120000Z
DTEND:20240525T133000Z
DTSTAMP:20240223T214750Z
URL:https://www.larevistadelapalma.com/events/contigo-almediodia-mojinos-e
 scozios/
SUMMARY:Contigo Almediodía: Mojinos Escozíos
DESCRIPTION:Este año los conciertos Contigo Almediodía cumplen su 18 aniv
 ersario\, y desde marzo lo vienen celebrando con los conciertos de la band
 a española Seguridad Social\, el Homenaje a Mecano ‘Me cuesta tanto olv
 idarte’\, celebrado en el mes de abril\, y para marzo nos reservan la ac
 tuación de Mojinos Escozíos.\n\nCon más de 20 años en activo\, el pecu
 liar "Rocanrol" de 'El Sevilla''\, ''Chico''\, ''Vidalito''\, ''Zippy'' y 
 ''El Puto'' se caracteriza por el humor\, la parodia y la irreverencia de 
 sus letras.\n\nhttps://www.youtube.com/watch?v=amkhYQJ1j1w\n\n&nbsp\;\n\n&
 nbsp\;\n\n&nbsp\;
ATTACH;FMTTYPE=image/jpeg:https://www.larevistadelapalma.com/wp-content/up
 loads/2024/02/Mojinos-escozios.jpg
CATEGORIES:Conciertos,Música
LOCATION:Plaza de España en Los Llanos de Aridane\, Plaza de España\, Los
  Llanos de Aridane\, 38760\, España
GEO:28.658934;-17.913174
X-APPLE-STRUCTURED-LOCATION;VALUE=URI;X-ADDRESS=Plaza de España\, Los Llan
 os de Aridane\, 38760\, España;X-APPLE-RADIUS=100;X-TITLE=Plaza de Españ
 a en Los Llanos de Aridane:geo:28.658934,-17.913174
END:VEVENT
END:VCALENDARBEGIN:VCALENDAR
VERSION:2.0
PRODID:-//wp-events-plugin.com//7.2.3.1//EN
TZID:Europe/London
X-WR-TIMEZONE:Europe/London
BEGIN:VEVENT
UID:2814@larevistadelapalma.com
DTSTART:20240525T120000Z
DTEND:20240525T133000Z
DTSTAMP:20240223T214750Z
URL:https://www.larevistadelapalma.com/events/contigo-almediodia-mojinos-e
 scozios/
SUMMARY:Contigo Almediodía: Mojinos Escozíos
DESCRIPTION:Este año los conciertos Contigo Almediodía cumplen su 18 aniv
 ersario\, y desde marzo lo vienen celebrando con los conciertos de la band
 a española Seguridad Social\, el Homenaje a Mecano ‘Me cuesta tanto olv
 idarte’\, celebrado en el mes de abril\, y para marzo nos reservan la ac
 tuación de Mojinos Escozíos.\n\nCon más de 20 años en activo\, el pecu
 liar "Rocanrol" de 'El Sevilla''\, ''Chico''\, ''Vidalito''\, ''Zippy'' y 
 ''El Puto'' se caracteriza por el humor\, la parodia y la irreverencia de 
 sus letras.\n\nhttps://www.youtube.com/watch?v=amkhYQJ1j1w\n\n&nbsp\;\n\n&
 nbsp\;\n\n&nbsp\;
ATTACH;FMTTYPE=image/jpeg:https://www.larevistadelapalma.com/wp-content/up
 loads/2024/02/Mojinos-escozios.jpg
CATEGORIES:Conciertos,Música
LOCATION:Plaza de España en Los Llanos de Aridane\, Plaza de España\, Los
  Llanos de Aridane\, 38760\, España
GEO:28.658934;-17.913174
X-APPLE-STRUCTURED-LOCATION;VALUE=URI;X-ADDRESS=Plaza de España\, Los Llan
 os de Aridane\, 38760\, España;X-APPLE-RADIUS=100;X-TITLE=Plaza de Españ
 a en Los Llanos de Aridane:geo:28.658934,-17.913174
END:VEVENT
END:VCALENDAR