BEGIN:VCALENDAR
VERSION:2.0
PRODID:-//wp-events-plugin.com//7.2.3.1//EN
TZID:Europe/London
X-WR-TIMEZONE:Europe/London
BEGIN:VEVENT
UID:4013@larevistadelapalma.com
DTSTART;VALUE=DATE:20251013
DTEND;VALUE=DATE:20251029
DTSTAMP:20251013T205950Z
URL:https://www.larevistadelapalma.com/events/convocacion-expo-arte-climat
 ico/
SUMMARY:La Palma Renovable convoca a artistas para la expo "Arte Climático
 " en el IV Festival de la Buena Energía
DESCRIPTION:La fecha límite para el envío de propuestas es el 28 de octub
 re y la exposición se celebrará del 17 al 28 de noviembre de 2025 en el 
 Museo de Arte Contemporáneo de Santa Cruz de La Palma.\n\nLa Asociación 
 Socioambiental La Palma Renovable anuncia la apertura del plazo para la pr
 esentación de propuestas artísticas que formarán parte de la exposició
 n "Arte Climático"\, en el marco de la cuarta edición del Festival de la
  Buena Energía. Esta convocatoria busca generar un espacio de reflexión 
 y diálogo sobre los urgentes retos medioambientales de la actualidad a tr
 avés de la creación artística contemporánea.\n\nLa exposición "Arte C
 limático" se celebrará del 17 al 28 de noviembre de 2025 en el Museo de 
 Arte Contemporáneo de Santa Cruz de La Palma. \nSe invita a participar a 
 artistas\, tanto individuales como colectivos\, con propuestas que aborden
  la transición energética\, el cambio climático y la pobreza energétic
 a desde cualquier técnica y formato\, incluyendo pintura\, escultura\, fo
 tografía\, videoarte\, performance\, instalación o formatos híbridos. E
 l objetivo es ofrecer una visión crítica\, inspiradora o innovadora sobr
 e estas temáticas cruciales.\nLa fecha límite para el envío de propuest
 as es el 28 de octubre de 2025. Las personas interesadas deberán enviar s
 u propuesta en formato digital al correo electrónico festival@lapalmareno
 vable.es. La documentación debe incluir la ficha técnica de la obra (tí
 tulo\, año\, técnica\, dimensiones) y material gráfico o audiovisual qu
 e permita evaluar la pieza. Las obras seleccionadas serán anunciadas tras
  la evaluación por parte de la organización.\n\nLas obras seleccionadas 
 deberán estar finalizadas y listas para su correcta exhibición. El monta
 je de la exposición tendrá lugar el 17 de noviembre\, y el desmontaje y 
 recogida se realizará el 28 de noviembre. Es importante destacar que el t
 ransporte de las obras hasta el lugar de la exposición y su posterior rec
 ogida correrá a cargo de los artistas participantes.\n\nComo parte del co
 mpromiso con la divulgación y la formación\, se ofrecerá una sesión fo
 rmativa gratuita y voluntaria el próximo 16 de octubre para aquellos part
 icipantes que deseen ampliar su conocimiento sobre la temática central de
  la exposición\, cuya fecha y lugar se comunicarán con antelación sufic
 iente.\n\nLa inauguración de "Arte Climático" será un evento especial a
 l que se invitará a todos los/as artistas participantes\, promoviendo el 
 encuentro y el intercambio en torno a la cultura y la sostenibilidad. La P
 alma Renovable agradece de antemano el compromiso del sector artístico en
  la sensibilización y el impulso hacia un futuro más sostenible y energ
 éticamente soberano.\n Todas las bases y detalles de la convocatoria est
 án disponibles en la web de La Palma Renovable.\nEl Festival de la Buena 
 Energía está organizado por La Palma Renovable\, proyecto financiado por
  el Cabildo de La Palma\, está producido por la Oficina Agroecológica y 
 se realiza en colaboración con el Ayuntamiento de Santa Cruz de La Palma 
 y el Cabildo de La Palma.
ATTACH;FMTTYPE=image/jpeg:https://www.larevistadelapalma.com/wp-content/up
 loads/2025/10/Arteclimatico-2-scaled.jpg
CATEGORIES:Exposiciones
END:VEVENT
END:VCALENDARBEGIN:VCALENDAR
VERSION:2.0
PRODID:-//wp-events-plugin.com//7.2.3.1//EN
TZID:Europe/London
X-WR-TIMEZONE:Europe/London
BEGIN:VEVENT
UID:4013@larevistadelapalma.com
DTSTART;VALUE=DATE:20251013
DTEND;VALUE=DATE:20251029
DTSTAMP:20251013T205950Z
URL:https://www.larevistadelapalma.com/events/convocacion-expo-arte-climat
 ico/
SUMMARY:La Palma Renovable convoca a artistas para la expo "Arte Climático
 " en el IV Festival de la Buena Energía
DESCRIPTION:La fecha límite para el envío de propuestas es el 28 de octub
 re y la exposición se celebrará del 17 al 28 de noviembre de 2025 en el 
 Museo de Arte Contemporáneo de Santa Cruz de La Palma.\n\nLa Asociación 
 Socioambiental La Palma Renovable anuncia la apertura del plazo para la pr
 esentación de propuestas artísticas que formarán parte de la exposició
 n "Arte Climático"\, en el marco de la cuarta edición del Festival de la
  Buena Energía. Esta convocatoria busca generar un espacio de reflexión 
 y diálogo sobre los urgentes retos medioambientales de la actualidad a tr
 avés de la creación artística contemporánea.\n\nLa exposición "Arte C
 limático" se celebrará del 17 al 28 de noviembre de 2025 en el Museo de 
 Arte Contemporáneo de Santa Cruz de La Palma. \nSe invita a participar a 
 artistas\, tanto individuales como colectivos\, con propuestas que aborden
  la transición energética\, el cambio climático y la pobreza energétic
 a desde cualquier técnica y formato\, incluyendo pintura\, escultura\, fo
 tografía\, videoarte\, performance\, instalación o formatos híbridos. E
 l objetivo es ofrecer una visión crítica\, inspiradora o innovadora sobr
 e estas temáticas cruciales.\nLa fecha límite para el envío de propuest
 as es el 28 de octubre de 2025. Las personas interesadas deberán enviar s
 u propuesta en formato digital al correo electrónico festival@lapalmareno
 vable.es. La documentación debe incluir la ficha técnica de la obra (tí
 tulo\, año\, técnica\, dimensiones) y material gráfico o audiovisual qu
 e permita evaluar la pieza. Las obras seleccionadas serán anunciadas tras
  la evaluación por parte de la organización.\n\nLas obras seleccionadas 
 deberán estar finalizadas y listas para su correcta exhibición. El monta
 je de la exposición tendrá lugar el 17 de noviembre\, y el desmontaje y 
 recogida se realizará el 28 de noviembre. Es importante destacar que el t
 ransporte de las obras hasta el lugar de la exposición y su posterior rec
 ogida correrá a cargo de los artistas participantes.\n\nComo parte del co
 mpromiso con la divulgación y la formación\, se ofrecerá una sesión fo
 rmativa gratuita y voluntaria el próximo 16 de octubre para aquellos part
 icipantes que deseen ampliar su conocimiento sobre la temática central de
  la exposición\, cuya fecha y lugar se comunicarán con antelación sufic
 iente.\n\nLa inauguración de "Arte Climático" será un evento especial a
 l que se invitará a todos los/as artistas participantes\, promoviendo el 
 encuentro y el intercambio en torno a la cultura y la sostenibilidad. La P
 alma Renovable agradece de antemano el compromiso del sector artístico en
  la sensibilización y el impulso hacia un futuro más sostenible y energ
 éticamente soberano.\n Todas las bases y detalles de la convocatoria est
 án disponibles en la web de La Palma Renovable.\nEl Festival de la Buena 
 Energía está organizado por La Palma Renovable\, proyecto financiado por
  el Cabildo de La Palma\, está producido por la Oficina Agroecológica y 
 se realiza en colaboración con el Ayuntamiento de Santa Cruz de La Palma 
 y el Cabildo de La Palma.
ATTACH;FMTTYPE=image/jpeg:https://www.larevistadelapalma.com/wp-content/up
 loads/2025/10/Arteclimatico-2-scaled.jpg
CATEGORIES:Exposiciones
END:VEVENT
END:VCALENDAR