BEGIN:VCALENDAR
VERSION:2.0
PRODID:-//wp-events-plugin.com//7.2.3.1//EN
TZID:Europe/London
X-WR-TIMEZONE:Europe/London
BEGIN:VEVENT
UID:4455@larevistadelapalma.com
DTSTART:20260117T163000Z
DTEND:20260117T174500Z
DTSTAMP:20260108T012906Z
URL:https://www.larevistadelapalma.com/events/coral-municipal-de-tijarafe-
 azucar-cana-fuego-y-sal/
SUMMARY:Coral Municipal de Tijarafe: “Azúcar\, caña\, fuego y sal”
DESCRIPTION:La Coral Municipal de Tijarafe hace un recorrido sonoro entre l
 as dos orillas del Atlántico.\n\n Plaza de La Punta.
ATTACH;FMTTYPE=image/jpeg:https://www.larevistadelapalma.com/wp-content/up
 loads/2026/01/01-17-Azucar-cana-fuego-y-sal-Tijarafe.jpg
CATEGORIES:Conciertos,Música
LOCATION:Municipio de Tijarafe\, Municipio de Tijarafe\, Tijarafe\, 38780\,
  España
GEO:28.711091;-17.956181
X-APPLE-STRUCTURED-LOCATION;VALUE=URI;X-ADDRESS=Municipio de Tijarafe\, Tij
 arafe\, 38780\, España;X-APPLE-RADIUS=100;X-TITLE=Municipio de Tijarafe:g
 eo:28.711091,-17.956181
END:VEVENT
END:VCALENDARBEGIN:VCALENDAR
VERSION:2.0
PRODID:-//wp-events-plugin.com//7.2.3.1//EN
TZID:Europe/London
X-WR-TIMEZONE:Europe/London
BEGIN:VEVENT
UID:4455@larevistadelapalma.com
DTSTART:20260117T163000Z
DTEND:20260117T174500Z
DTSTAMP:20260108T012906Z
URL:https://www.larevistadelapalma.com/events/coral-municipal-de-tijarafe-
 azucar-cana-fuego-y-sal/
SUMMARY:Coral Municipal de Tijarafe: “Azúcar\, caña\, fuego y sal”
DESCRIPTION:La Coral Municipal de Tijarafe hace un recorrido sonoro entre l
 as dos orillas del Atlántico.\n\n Plaza de La Punta.
ATTACH;FMTTYPE=image/jpeg:https://www.larevistadelapalma.com/wp-content/up
 loads/2026/01/01-17-Azucar-cana-fuego-y-sal-Tijarafe.jpg
CATEGORIES:Conciertos,Música
LOCATION:Municipio de Tijarafe\, Municipio de Tijarafe\, Tijarafe\, 38780\,
  España
GEO:28.711091;-17.956181
X-APPLE-STRUCTURED-LOCATION;VALUE=URI;X-ADDRESS=Municipio de Tijarafe\, Tij
 arafe\, 38780\, España;X-APPLE-RADIUS=100;X-TITLE=Municipio de Tijarafe:g
 eo:28.711091,-17.956181
END:VEVENT
END:VCALENDAR