BEGIN:VCALENDAR
VERSION:2.0
PRODID:-//wp-events-plugin.com//7.2.3.1//EN
TZID:Europe/London
X-WR-TIMEZONE:Europe/London
BEGIN:VEVENT
UID:3888@larevistadelapalma.com
DTSTART;VALUE=DATE:20250818
DTEND;VALUE=DATE:20250901
DTSTAMP:20250828T213031Z
URL:https://www.larevistadelapalma.com/events/cortonaos-film-festival/
SUMMARY:Primera edición de Cortonaos Film Festival
DESCRIPTION:\nNace el CORTONAOS Film Festival\, un proyecto tendrá lugar d
 el 18 al 31 de agosto\, y que tratará de realzar la figura de este icóni
 co entorno a través de la grabación de cortometrajes con una duración d
 e entre 3 y 7 minutos y con la temática de preservación de nuestra costa
  y océano.\nSe podrán enviar propuestas hasta el día 25 vía WeTransfer
  a cortonaosfflapalma@gmail.com\n\n\nPROGRAMACIÓN\nLa programación se di
 vidirá en dos fases. \n\nComenzarán con la semana de la concienciación 
 y la formación audiovisual el 18 de agosto que se llevará a cabo en las 
 instalaciones del Hotel Meliá La Palma. Talleres de cine interconectados 
 con los que se repasarán todas las fases necesarias para realizar un roda
 je profesional\, desde el guion inicial\, a la grabación y el montaje. Lo
 s asistentes estarán tutelados en todo momento por profesionales del sect
 or que orientarán la formación a la parte práctica incentivando la part
 icipación en la sección “Cortonaos” esa misma semana.\n\nRespecto a 
 la conciencia medioambiental y el respeto de los océanos se llevará a ca
 bo la Mañana Azul con talleres medioambientales y proyecciones que expliq
 uen las claves para proteger nuestro ecosistema marino y las costas\, poni
 endo el acento en prácticas sostenibles como el ecoturismo y la economía
  azul.\n\nLa situación laboral y humana de la mujer se tratará en la Tar
 de Violeta. Coloquios\, proyecciones y mesas de trabajo con mujeres cineas
 tas de varias generaciones que explicarán su experiencia en todos los ám
 bitos del cine\, las posibilidades actuales y las barreras de género que 
 todavía existen aunque sea en menor medida.\n\nEl fin de semana del 29 al
  31 de agosto Puerto Naos recuperará su esencia cultural con una multitud
  de actividades para personas de todas las edades\, locales y turistas inc
 luidos. A lo largo de estos días se llevará a cabo el NaoMarket en el pa
 seo marítimo de Puerto Naos que incluirá una zona gastro con los distint
 os sabores del mundo\, música\, photocall 360º\, venta de merchandising\
 , libros y películas y por supuesto proyecciones de los cortometrajes de 
 las distintas secciones.\n\nLa gala de clausura se llevará a cabo el sáb
 ado 30 de agosto con el homenaje a nuestra estrella invitada que inaugurar
 á el paseo del talento de Puerto Naos en el que tendrán cabida los mejor
 es artistas cinematográficos\, escogidos además de por su talento\, por 
 su elevada sensibilidad y conciencia medioambiental. Posteriormente se pro
 yectarán los cortometrajes filmados dentro de la sección Cortonaos dando
  a conocer el jurado los ganadores\, que una vez recojan sus galardones da
 rán paso a un cierre musical en directo.\nBASES\nSe  han publicado las b
 ases de la sección Cortonaos\, la esencia de este festival y la semilla q
 ue pretende calar en las nuevas generaciones. Integrar la concienciación 
 medioambiental dentro de nuestras vidas. Cortometrajes de ficción y docum
 entales que usarán la playa y el paseo marítimo de Puerto Naos como un p
 lató natural en el que mostrar sus distintas inquietudes y sensibilidades
 .\n\nRecordar también que desde hace unos días ya están publicadas las 
 bases de la sección internacional y nacional y de la sección canaria. Do
 s secciones complementarias que pretenden plasmar la situación de los mar
 es y las costas de nuestro archipiélago y de otros entornos más lejanos 
 pero que tienen problemáticas medioambientales y sociales similares.\n\nE
 sta iniciativa ha sido impulsada por el Ayuntamiento de Los Llanos de Arid
 ane a través de la Concejalía de Cultura. Por la Consejería de Cultura 
 del Cabildo Insular de La Palma. Con el apoyo de Sodepal\, la Film Commiss
 ion de La Palma y el Gobierno de Canarias a través de Canary Islands Film
  así como otras áreas del Ayuntamiento de Los Llanos de Aridane y el Cab
 ildo insular y otras empresas patrocinadoras y colaboradoras de la isla.\n
 Info e inscripciones aquí &gt\;&gt\;\n\n
ATTACH;FMTTYPE=image/jpeg:https://www.larevistadelapalma.com/wp-content/up
 loads/2025/07/5fc0aaf8-f9b7-409e-b224-8301a30ccb06.jpeg
CATEGORIES:Cine,Cine y Literatura
LOCATION:Playa de Puerto Naos\, Puerto Naos\, Los Llanos de Aridane \, 3876
 9\, España
GEO:28.587524;-17.910531
X-APPLE-STRUCTURED-LOCATION;VALUE=URI;X-ADDRESS=Puerto Naos\, Los Llanos de
  Aridane \, 38769\, España;X-APPLE-RADIUS=100;X-TITLE=Playa de Puerto Nao
 s:geo:28.587524,-17.910531
END:VEVENT
END:VCALENDARBEGIN:VCALENDAR
VERSION:2.0
PRODID:-//wp-events-plugin.com//7.2.3.1//EN
TZID:Europe/London
X-WR-TIMEZONE:Europe/London
BEGIN:VEVENT
UID:3888@larevistadelapalma.com
DTSTART;VALUE=DATE:20250818
DTEND;VALUE=DATE:20250901
DTSTAMP:20250828T213031Z
URL:https://www.larevistadelapalma.com/events/cortonaos-film-festival/
SUMMARY:Primera edición de Cortonaos Film Festival
DESCRIPTION:\nNace el CORTONAOS Film Festival\, un proyecto tendrá lugar d
 el 18 al 31 de agosto\, y que tratará de realzar la figura de este icóni
 co entorno a través de la grabación de cortometrajes con una duración d
 e entre 3 y 7 minutos y con la temática de preservación de nuestra costa
  y océano.\nSe podrán enviar propuestas hasta el día 25 vía WeTransfer
  a cortonaosfflapalma@gmail.com\n\n\nPROGRAMACIÓN\nLa programación se di
 vidirá en dos fases. \n\nComenzarán con la semana de la concienciación 
 y la formación audiovisual el 18 de agosto que se llevará a cabo en las 
 instalaciones del Hotel Meliá La Palma. Talleres de cine interconectados 
 con los que se repasarán todas las fases necesarias para realizar un roda
 je profesional\, desde el guion inicial\, a la grabación y el montaje. Lo
 s asistentes estarán tutelados en todo momento por profesionales del sect
 or que orientarán la formación a la parte práctica incentivando la part
 icipación en la sección “Cortonaos” esa misma semana.\n\nRespecto a 
 la conciencia medioambiental y el respeto de los océanos se llevará a ca
 bo la Mañana Azul con talleres medioambientales y proyecciones que expliq
 uen las claves para proteger nuestro ecosistema marino y las costas\, poni
 endo el acento en prácticas sostenibles como el ecoturismo y la economía
  azul.\n\nLa situación laboral y humana de la mujer se tratará en la Tar
 de Violeta. Coloquios\, proyecciones y mesas de trabajo con mujeres cineas
 tas de varias generaciones que explicarán su experiencia en todos los ám
 bitos del cine\, las posibilidades actuales y las barreras de género que 
 todavía existen aunque sea en menor medida.\n\nEl fin de semana del 29 al
  31 de agosto Puerto Naos recuperará su esencia cultural con una multitud
  de actividades para personas de todas las edades\, locales y turistas inc
 luidos. A lo largo de estos días se llevará a cabo el NaoMarket en el pa
 seo marítimo de Puerto Naos que incluirá una zona gastro con los distint
 os sabores del mundo\, música\, photocall 360º\, venta de merchandising\
 , libros y películas y por supuesto proyecciones de los cortometrajes de 
 las distintas secciones.\n\nLa gala de clausura se llevará a cabo el sáb
 ado 30 de agosto con el homenaje a nuestra estrella invitada que inaugurar
 á el paseo del talento de Puerto Naos en el que tendrán cabida los mejor
 es artistas cinematográficos\, escogidos además de por su talento\, por 
 su elevada sensibilidad y conciencia medioambiental. Posteriormente se pro
 yectarán los cortometrajes filmados dentro de la sección Cortonaos dando
  a conocer el jurado los ganadores\, que una vez recojan sus galardones da
 rán paso a un cierre musical en directo.\nBASES\nSe  han publicado las b
 ases de la sección Cortonaos\, la esencia de este festival y la semilla q
 ue pretende calar en las nuevas generaciones. Integrar la concienciación 
 medioambiental dentro de nuestras vidas. Cortometrajes de ficción y docum
 entales que usarán la playa y el paseo marítimo de Puerto Naos como un p
 lató natural en el que mostrar sus distintas inquietudes y sensibilidades
 .\n\nRecordar también que desde hace unos días ya están publicadas las 
 bases de la sección internacional y nacional y de la sección canaria. Do
 s secciones complementarias que pretenden plasmar la situación de los mar
 es y las costas de nuestro archipiélago y de otros entornos más lejanos 
 pero que tienen problemáticas medioambientales y sociales similares.\n\nE
 sta iniciativa ha sido impulsada por el Ayuntamiento de Los Llanos de Arid
 ane a través de la Concejalía de Cultura. Por la Consejería de Cultura 
 del Cabildo Insular de La Palma. Con el apoyo de Sodepal\, la Film Commiss
 ion de La Palma y el Gobierno de Canarias a través de Canary Islands Film
  así como otras áreas del Ayuntamiento de Los Llanos de Aridane y el Cab
 ildo insular y otras empresas patrocinadoras y colaboradoras de la isla.\n
 Info e inscripciones aquí &gt\;&gt\;\n\n
ATTACH;FMTTYPE=image/jpeg:https://www.larevistadelapalma.com/wp-content/up
 loads/2025/07/5fc0aaf8-f9b7-409e-b224-8301a30ccb06.jpeg
CATEGORIES:Cine,Cine y Literatura
LOCATION:Playa de Puerto Naos\, Puerto Naos\, Los Llanos de Aridane \, 3876
 9\, España
GEO:28.587524;-17.910531
X-APPLE-STRUCTURED-LOCATION;VALUE=URI;X-ADDRESS=Puerto Naos\, Los Llanos de
  Aridane \, 38769\, España;X-APPLE-RADIUS=100;X-TITLE=Playa de Puerto Nao
 s:geo:28.587524,-17.910531
END:VEVENT
END:VCALENDAR