BEGIN:VCALENDAR
VERSION:2.0
PRODID:-//wp-events-plugin.com//7.2.3.1//EN
TZID:Europe/London
X-WR-TIMEZONE:Europe/London
BEGIN:VEVENT
UID:3696@larevistadelapalma.com
DTSTART:20250430T190000Z
DTEND:20250430T203000Z
DTSTAMP:20250502T181802Z
URL:https://www.larevistadelapalma.com/events/coti-la-palma/
SUMMARY:APLAZADO - Concierto de Coti en el Circo de Marte de La Palma
DESCRIPTION:\n 	\n\nAquellas personas que hayan adquirido su entrada y no p
 uedan o no quieran asistir al evento en la nueva fecha  podrán solicitar
  la devolución del precio de la misma.\n\n\nEl cantautor Coti estará en 
 La Palma en el que será el primer concierto de la gira DIAL 2025. Un form
 ato que plantea un “diálogo” entre público y artista en un contexto 
 único y con trascendencia regional y nacional. El formato\, que ya se ha 
 llevado a cabo en otro contexto canario de interés turístico como es el 
 Auditorio de Los Jameos del Agua en Lanzarote\, comienza con una entrevist
 a previa cercana e íntima con el artista\, donde se invita al público as
 istente a participar.\n\nPosteriormente\, la actuación del artista consta
  de un formato íntimo\, prevaleciendo las cualidades y características d
 el contexto donde se realiza\, en este caso\, el Circo de Marte de Santa C
 ruz de La Palma: un escenario único para un formato único. No solo el p
 úblico asistente podrá disfrutar del concierto y de la entrevista al art
 ista invitado\, Coti\, sino que el evento será retransmitido por streamin
 g para el resto del país.\n\nEn este sentido cobran valor las caracterís
 ticas del proyecto de Cadena DIAL porque apuesta en sus contenidos por la 
 cultura y también en dar visibilidad al patrimonio cultural de La Palma y
  a su oferta turística.\nComprar entradas &gt\;&gt\;\nCONCIERTO APLAZADO\
 n
ATTACH;FMTTYPE=image/jpeg:https://www.larevistadelapalma.com/wp-content/up
 loads/2025/04/Coti.jpg
CATEGORIES:Conciertos,Música
LOCATION:Teatro Circo de Marte\, Calle Virgen de La Luz\, 5\, Santa Cruz de
  La Palma\, 38700\, España
GEO:28.682989;-17.765755
X-APPLE-STRUCTURED-LOCATION;VALUE=URI;X-ADDRESS=Calle Virgen de La Luz\, 5\
 , Santa Cruz de La Palma\, 38700\, España;X-APPLE-RADIUS=100;X-TITLE=Teat
 ro Circo de Marte:geo:28.682989,-17.765755
END:VEVENT
END:VCALENDARBEGIN:VCALENDAR
VERSION:2.0
PRODID:-//wp-events-plugin.com//7.2.3.1//EN
TZID:Europe/London
X-WR-TIMEZONE:Europe/London
BEGIN:VEVENT
UID:3696@larevistadelapalma.com
DTSTART:20250430T190000Z
DTEND:20250430T203000Z
DTSTAMP:20250502T181802Z
URL:https://www.larevistadelapalma.com/events/coti-la-palma/
SUMMARY:APLAZADO - Concierto de Coti en el Circo de Marte de La Palma
DESCRIPTION:\n 	\n\nAquellas personas que hayan adquirido su entrada y no p
 uedan o no quieran asistir al evento en la nueva fecha  podrán solicitar
  la devolución del precio de la misma.\n\n\nEl cantautor Coti estará en 
 La Palma en el que será el primer concierto de la gira DIAL 2025. Un form
 ato que plantea un “diálogo” entre público y artista en un contexto 
 único y con trascendencia regional y nacional. El formato\, que ya se ha 
 llevado a cabo en otro contexto canario de interés turístico como es el 
 Auditorio de Los Jameos del Agua en Lanzarote\, comienza con una entrevist
 a previa cercana e íntima con el artista\, donde se invita al público as
 istente a participar.\n\nPosteriormente\, la actuación del artista consta
  de un formato íntimo\, prevaleciendo las cualidades y características d
 el contexto donde se realiza\, en este caso\, el Circo de Marte de Santa C
 ruz de La Palma: un escenario único para un formato único. No solo el p
 úblico asistente podrá disfrutar del concierto y de la entrevista al art
 ista invitado\, Coti\, sino que el evento será retransmitido por streamin
 g para el resto del país.\n\nEn este sentido cobran valor las caracterís
 ticas del proyecto de Cadena DIAL porque apuesta en sus contenidos por la 
 cultura y también en dar visibilidad al patrimonio cultural de La Palma y
  a su oferta turística.\nComprar entradas &gt\;&gt\;\nCONCIERTO APLAZADO\
 n
ATTACH;FMTTYPE=image/jpeg:https://www.larevistadelapalma.com/wp-content/up
 loads/2025/04/Coti.jpg
CATEGORIES:Conciertos,Música
LOCATION:Teatro Circo de Marte\, Calle Virgen de La Luz\, 5\, Santa Cruz de
  La Palma\, 38700\, España
GEO:28.682989;-17.765755
X-APPLE-STRUCTURED-LOCATION;VALUE=URI;X-ADDRESS=Calle Virgen de La Luz\, 5\
 , Santa Cruz de La Palma\, 38700\, España;X-APPLE-RADIUS=100;X-TITLE=Teat
 ro Circo de Marte:geo:28.682989,-17.765755
END:VEVENT
END:VCALENDAR