BEGIN:VCALENDAR
VERSION:2.0
PRODID:-//wp-events-plugin.com//7.2.3.1//EN
TZID:Europe/London
X-WR-TIMEZONE:Europe/London
BEGIN:VEVENT
UID:169@larevistadelapalma.com
DTSTART:20230722T190000Z
DTEND:20230722T201500Z
DTSTAMP:20230717T112520Z
URL:https://www.larevistadelapalma.com/events/cuentos-charo-pita-casa-roja
 -de-mazo-2/
SUMMARY:Cuentos para adultos con Charo Pita en La Casa Roja de Mazo
DESCRIPTION:Cuentos para adultos con Charo Pita en el VII Ciclo de Narraci
 ón Oral La Solera Cuenta. Entrada libre.
ATTACH;FMTTYPE=image/jpeg:https://www.larevistadelapalma.com/wp-content/up
 loads/2023/07/La-solera-cuenta-charo-pita.jpg
CATEGORIES:Cine y Literatura,Literatura
LOCATION:Museo Casa Roja\, C. Maximiliano Pérez Díaz\, 23\, Villa de Mazo
 \, 38730\, España
GEO:28.607435;-17.77894
X-APPLE-STRUCTURED-LOCATION;VALUE=URI;X-ADDRESS=C. Maximiliano Pérez Díaz
 \, 23\, Villa de Mazo\, 38730\, España;X-APPLE-RADIUS=100;X-TITLE=Museo C
 asa Roja:geo:28.607435,-17.77894
END:VEVENT
END:VCALENDARBEGIN:VCALENDAR
VERSION:2.0
PRODID:-//wp-events-plugin.com//7.2.3.1//EN
TZID:Europe/London
X-WR-TIMEZONE:Europe/London
BEGIN:VEVENT
UID:169@larevistadelapalma.com
DTSTART:20230722T190000Z
DTEND:20230722T201500Z
DTSTAMP:20230717T112520Z
URL:https://www.larevistadelapalma.com/events/cuentos-charo-pita-casa-roja
 -de-mazo-2/
SUMMARY:Cuentos para adultos con Charo Pita en La Casa Roja de Mazo
DESCRIPTION:Cuentos para adultos con Charo Pita en el VII Ciclo de Narraci
 ón Oral La Solera Cuenta. Entrada libre.
ATTACH;FMTTYPE=image/jpeg:https://www.larevistadelapalma.com/wp-content/up
 loads/2023/07/La-solera-cuenta-charo-pita.jpg
CATEGORIES:Cine y Literatura,Literatura
LOCATION:Museo Casa Roja\, C. Maximiliano Pérez Díaz\, 23\, Villa de Mazo
 \, 38730\, España
GEO:28.607435;-17.77894
X-APPLE-STRUCTURED-LOCATION;VALUE=URI;X-ADDRESS=C. Maximiliano Pérez Díaz
 \, 23\, Villa de Mazo\, 38730\, España;X-APPLE-RADIUS=100;X-TITLE=Museo C
 asa Roja:geo:28.607435,-17.77894
END:VEVENT
END:VCALENDAR