BEGIN:VCALENDAR
VERSION:2.0
PRODID:-//wp-events-plugin.com//7.2.3.1//EN
TZID:Europe/London
X-WR-TIMEZONE:Europe/London
BEGIN:VEVENT
UID:776@larevistadelapalma.com
DTSTART:20231020T200000Z
DTEND:20231020T213000Z
DTSTAMP:20231018T131857Z
URL:https://www.larevistadelapalma.com/events/cuentos-de-amor-humor-y-otro
 s-estados-embarazosos-con-la-compania-cruzado-magico/
SUMMARY:"Cuentos de amor\, humor y otros estados embarazosos"\, con la Comp
 añía Cruzado Mágico
DESCRIPTION:\nEn Breña Alta conmemoran el Día de las Bibliotecas con una 
 serie de actividades culturales\, entre la que se encuentra "Cuentos de am
 or\, humor y otros estados embarazosos" a cargo de María J. Batista de Cr
 uzado Mágico\, en la Biblioteca Municipal "Raimundo Concepción Machín"
 .\n\n\n\n
ATTACH;FMTTYPE=image/jpeg:https://www.larevistadelapalma.com/wp-content/up
 loads/2023/10/Cuentos-de-amor-humor-y-otros-estados-embarazosos-Cruzado-Ma
 gico.jpg
CATEGORIES:Cine y Literatura,Literatura
LOCATION:Biblioteca Municipal de Breña Alta\, Calle la Dura 1 (piso 1)\, B
 reña Alta\, 38710\, España
GEO:28.661532;-17.7889
X-APPLE-STRUCTURED-LOCATION;VALUE=URI;X-ADDRESS=Calle la Dura 1 (piso 1)\, 
 Breña Alta\, 38710\, España;X-APPLE-RADIUS=100;X-TITLE=Biblioteca Munici
 pal de Breña Alta:geo:28.661532,-17.7889
END:VEVENT
END:VCALENDARBEGIN:VCALENDAR
VERSION:2.0
PRODID:-//wp-events-plugin.com//7.2.3.1//EN
TZID:Europe/London
X-WR-TIMEZONE:Europe/London
BEGIN:VEVENT
UID:776@larevistadelapalma.com
DTSTART:20231020T200000Z
DTEND:20231020T213000Z
DTSTAMP:20231018T131857Z
URL:https://www.larevistadelapalma.com/events/cuentos-de-amor-humor-y-otro
 s-estados-embarazosos-con-la-compania-cruzado-magico/
SUMMARY:"Cuentos de amor\, humor y otros estados embarazosos"\, con la Comp
 añía Cruzado Mágico
DESCRIPTION:\nEn Breña Alta conmemoran el Día de las Bibliotecas con una 
 serie de actividades culturales\, entre la que se encuentra "Cuentos de am
 or\, humor y otros estados embarazosos" a cargo de María J. Batista de Cr
 uzado Mágico\, en la Biblioteca Municipal "Raimundo Concepción Machín"
 .\n\n\n\n
ATTACH;FMTTYPE=image/jpeg:https://www.larevistadelapalma.com/wp-content/up
 loads/2023/10/Cuentos-de-amor-humor-y-otros-estados-embarazosos-Cruzado-Ma
 gico.jpg
CATEGORIES:Cine y Literatura,Literatura
LOCATION:Biblioteca Municipal de Breña Alta\, Calle la Dura 1 (piso 1)\, B
 reña Alta\, 38710\, España
GEO:28.661532;-17.7889
X-APPLE-STRUCTURED-LOCATION;VALUE=URI;X-ADDRESS=Calle la Dura 1 (piso 1)\, 
 Breña Alta\, 38710\, España;X-APPLE-RADIUS=100;X-TITLE=Biblioteca Munici
 pal de Breña Alta:geo:28.661532,-17.7889
END:VEVENT
END:VCALENDAR