BEGIN:VCALENDAR
VERSION:2.0
PRODID:-//wp-events-plugin.com//7.2.3.1//EN
TZID:Europe/London
X-WR-TIMEZONE:Europe/London
BEGIN:VEVENT
UID:144@larevistadelapalma.com
DTSTART:20230708T190000Z
DTEND:20230708T201500Z
DTSTAMP:20230703T211831Z
URL:https://www.larevistadelapalma.com/events/cuentos-para-adultos-con-mar
 ia-fraile-en-la-casa-roja-de-mazo/
SUMMARY:Cuentos para adultos con María Fraile en La Casa Roja de Mazo
DESCRIPTION:Dentro del VII Ciclo de Narración Oral La Solera Cuenta\, tend
 rá lugar un cuentacuentos para adultos a cargo de la zamorana María Frai
 le
ATTACH;FMTTYPE=image/jpeg:https://www.larevistadelapalma.com/wp-content/up
 loads/2023/07/Maria-Fraile.jpg
CATEGORIES:Cine y Literatura,Literatura
LOCATION:Museo Casa Roja\, C. Maximiliano Pérez Díaz\, 23\, Villa de Mazo
 \, 38730\, España
GEO:28.607435;-17.77894
X-APPLE-STRUCTURED-LOCATION;VALUE=URI;X-ADDRESS=C. Maximiliano Pérez Díaz
 \, 23\, Villa de Mazo\, 38730\, España;X-APPLE-RADIUS=100;X-TITLE=Museo C
 asa Roja:geo:28.607435,-17.77894
END:VEVENT
END:VCALENDARBEGIN:VCALENDAR
VERSION:2.0
PRODID:-//wp-events-plugin.com//7.2.3.1//EN
TZID:Europe/London
X-WR-TIMEZONE:Europe/London
BEGIN:VEVENT
UID:144@larevistadelapalma.com
DTSTART:20230708T190000Z
DTEND:20230708T201500Z
DTSTAMP:20230703T211831Z
URL:https://www.larevistadelapalma.com/events/cuentos-para-adultos-con-mar
 ia-fraile-en-la-casa-roja-de-mazo/
SUMMARY:Cuentos para adultos con María Fraile en La Casa Roja de Mazo
DESCRIPTION:Dentro del VII Ciclo de Narración Oral La Solera Cuenta\, tend
 rá lugar un cuentacuentos para adultos a cargo de la zamorana María Frai
 le
ATTACH;FMTTYPE=image/jpeg:https://www.larevistadelapalma.com/wp-content/up
 loads/2023/07/Maria-Fraile.jpg
CATEGORIES:Cine y Literatura,Literatura
LOCATION:Museo Casa Roja\, C. Maximiliano Pérez Díaz\, 23\, Villa de Mazo
 \, 38730\, España
GEO:28.607435;-17.77894
X-APPLE-STRUCTURED-LOCATION;VALUE=URI;X-ADDRESS=C. Maximiliano Pérez Díaz
 \, 23\, Villa de Mazo\, 38730\, España;X-APPLE-RADIUS=100;X-TITLE=Museo C
 asa Roja:geo:28.607435,-17.77894
END:VEVENT
END:VCALENDAR