BEGIN:VCALENDAR
VERSION:2.0
PRODID:-//wp-events-plugin.com//7.2.3.1//EN
TZID:Europe/London
X-WR-TIMEZONE:Europe/London
BEGIN:VEVENT
UID:922@larevistadelapalma.com
DTSTART:20231219T190000Z
DTEND:20231219T204500Z
DTSTAMP:20231213T010812Z
URL:https://www.larevistadelapalma.com/events/cultura-contra-la-barbarie-u
 n-concierto-solidario-con-el-pueblo-palestino-en-el-paso/
SUMMARY:“Cultura contra la Barbarie”\, un concierto solidario con el pu
 eblo palestino en El Paso
DESCRIPTION:Muerdo\, Material de Contrabando\, Xente y Miguel Villalba pond
 rán el toque musical a una gala presentada por Petite Lorena.
ATTACH;FMTTYPE=image/jpeg:https://www.larevistadelapalma.com/wp-content/up
 loads/2023/12/Concierto-solidario-Palestina.jpg
CATEGORIES:Conciertos,Música
LOCATION:Casa de la Cultura Braulio Martín Hernández de El Paso\, Av. Isl
 as Canarias\, 9\,\, El Paso\, 38750\, España
GEO:28.652923;-17.880463
X-APPLE-STRUCTURED-LOCATION;VALUE=URI;X-ADDRESS=Av. Islas Canarias\, 9\,\, 
 El Paso\, 38750\, España;X-APPLE-RADIUS=100;X-TITLE=Casa de la Cultura Br
 aulio Martín Hernández de El Paso:geo:28.652923,-17.880463
END:VEVENT
END:VCALENDARBEGIN:VCALENDAR
VERSION:2.0
PRODID:-//wp-events-plugin.com//7.2.3.1//EN
TZID:Europe/London
X-WR-TIMEZONE:Europe/London
BEGIN:VEVENT
UID:922@larevistadelapalma.com
DTSTART:20231219T190000Z
DTEND:20231219T204500Z
DTSTAMP:20231213T010812Z
URL:https://www.larevistadelapalma.com/events/cultura-contra-la-barbarie-u
 n-concierto-solidario-con-el-pueblo-palestino-en-el-paso/
SUMMARY:“Cultura contra la Barbarie”\, un concierto solidario con el pu
 eblo palestino en El Paso
DESCRIPTION:Muerdo\, Material de Contrabando\, Xente y Miguel Villalba pond
 rán el toque musical a una gala presentada por Petite Lorena.
ATTACH;FMTTYPE=image/jpeg:https://www.larevistadelapalma.com/wp-content/up
 loads/2023/12/Concierto-solidario-Palestina.jpg
CATEGORIES:Conciertos,Música
LOCATION:Casa de la Cultura Braulio Martín Hernández de El Paso\, Av. Isl
 as Canarias\, 9\,\, El Paso\, 38750\, España
GEO:28.652923;-17.880463
X-APPLE-STRUCTURED-LOCATION;VALUE=URI;X-ADDRESS=Av. Islas Canarias\, 9\,\, 
 El Paso\, 38750\, España;X-APPLE-RADIUS=100;X-TITLE=Casa de la Cultura Br
 aulio Martín Hernández de El Paso:geo:28.652923,-17.880463
END:VEVENT
END:VCALENDAR