BEGIN:VCALENDAR
VERSION:2.0
PRODID:-//wp-events-plugin.com//7.2.3.1//EN
TZID:Europe/London
X-WR-TIMEZONE:Europe/London
BEGIN:VEVENT
UID:3285@larevistadelapalma.com
DTSTART:20241011T150000Z
DTEND:20241011T190000Z
DTSTAMP:20240925T215949Z
URL:https://www.larevistadelapalma.com/events/curso-basico-de-guia-interpr
 ete-online/
SUMMARY:Curso básico de guía intérprete (online)
DESCRIPTION:Gratuito- presencial  y online.\n\nCurso básico de Interpreta
 ción del Patrimonio "Contar el Volcán"\, promovido desde el Área de Tur
 ismo del Ayuntamiento de Los Llanos de Aridane\, este curso nace con el ob
 jetivo de dotar de herramientas eficaces de divulgación del patrimonio na
 tural y cultural a jóvenes de último curso de Bachillerato o de FP2 de c
 ualquier especialidad\, principalmente del municipio y a guías turístico
 s y de naturaleza.\n\nImparte María Mengual\, experta en interpretación 
 del patrimonio\, que contará con la participación de Juanjo Suárez Heri
 tage Interpretation y de Javier Dóniz.\n\n 	Sábado 5 de octubre\, de 10:
 30 a 13:30 horas\, (Casa de la Cultura de Los Llanos de Aridane)\n 	Vierne
 s 11 de octubre\, de 16:00 a 20:30 horas.(Online)\n\n&nbsp\;
ATTACH;FMTTYPE=image/jpeg:https://www.larevistadelapalma.com/wp-content/up
 loads/2024/09/Curso-basico-guia-interprete.jpg
CATEGORIES:Formación,Otras propuestas
END:VEVENT
END:VCALENDARBEGIN:VCALENDAR
VERSION:2.0
PRODID:-//wp-events-plugin.com//7.2.3.1//EN
TZID:Europe/London
X-WR-TIMEZONE:Europe/London
BEGIN:VEVENT
UID:3285@larevistadelapalma.com
DTSTART:20241011T150000Z
DTEND:20241011T190000Z
DTSTAMP:20240925T215949Z
URL:https://www.larevistadelapalma.com/events/curso-basico-de-guia-interpr
 ete-online/
SUMMARY:Curso básico de guía intérprete (online)
DESCRIPTION:Gratuito- presencial  y online.\n\nCurso básico de Interpreta
 ción del Patrimonio "Contar el Volcán"\, promovido desde el Área de Tur
 ismo del Ayuntamiento de Los Llanos de Aridane\, este curso nace con el ob
 jetivo de dotar de herramientas eficaces de divulgación del patrimonio na
 tural y cultural a jóvenes de último curso de Bachillerato o de FP2 de c
 ualquier especialidad\, principalmente del municipio y a guías turístico
 s y de naturaleza.\n\nImparte María Mengual\, experta en interpretación 
 del patrimonio\, que contará con la participación de Juanjo Suárez Heri
 tage Interpretation y de Javier Dóniz.\n\n 	Sábado 5 de octubre\, de 10:
 30 a 13:30 horas\, (Casa de la Cultura de Los Llanos de Aridane)\n 	Vierne
 s 11 de octubre\, de 16:00 a 20:30 horas.(Online)\n\n&nbsp\;
ATTACH;FMTTYPE=image/jpeg:https://www.larevistadelapalma.com/wp-content/up
 loads/2024/09/Curso-basico-guia-interprete.jpg
CATEGORIES:Formación,Otras propuestas
END:VEVENT
END:VCALENDAR