BEGIN:VCALENDAR
VERSION:2.0
PRODID:-//wp-events-plugin.com//7.2.3.1//EN
TZID:Europe/London
X-WR-TIMEZONE:Europe/London
BEGIN:VEVENT
UID:3299@larevistadelapalma.com
DTSTART;VALUE=DATE:20241014
DTEND;VALUE=DATE:20241015
DTSTAMP:20240928T200210Z
URL:https://www.larevistadelapalma.com/events/curso-de-ceramica-esmaltada/
SUMMARY:Curso de cerámica esmaltada
DESCRIPTION:\nDel 14 al 18 de octubre. \n\n\n 	De lunes a viernes\, en hor
 ario de 10:00 a 13:00h.\n 	Precio: 5€ el día\n 	Plazas limitadas\n 	Ubi
 cación: Escuela Insular de Artesanía - Villa de Mazo\n 	Impartido por Ma
 rina Valls\n\n\n\nInfo: 744 665 336\n\n
ATTACH;FMTTYPE=image/jpeg:https://www.larevistadelapalma.com/wp-content/up
 loads/2024/09/Curso-de-ceramica-esmaltada.jpg
CATEGORIES:Formación,Otras propuestas
LOCATION:Municipio de Villa de Mazo\, Villa de Mazo\, Villa de Mazo\, 38730
 \, España
GEO:28.622071;-17.780675
X-APPLE-STRUCTURED-LOCATION;VALUE=URI;X-ADDRESS=Villa de Mazo\, Villa de Ma
 zo\, 38730\, España;X-APPLE-RADIUS=100;X-TITLE=Municipio de Villa de Mazo
 :geo:28.622071,-17.780675
END:VEVENT
END:VCALENDARBEGIN:VCALENDAR
VERSION:2.0
PRODID:-//wp-events-plugin.com//7.2.3.1//EN
TZID:Europe/London
X-WR-TIMEZONE:Europe/London
BEGIN:VEVENT
UID:3299@larevistadelapalma.com
DTSTART;VALUE=DATE:20241014
DTEND;VALUE=DATE:20241015
DTSTAMP:20240928T200210Z
URL:https://www.larevistadelapalma.com/events/curso-de-ceramica-esmaltada/
SUMMARY:Curso de cerámica esmaltada
DESCRIPTION:\nDel 14 al 18 de octubre. \n\n\n 	De lunes a viernes\, en hor
 ario de 10:00 a 13:00h.\n 	Precio: 5€ el día\n 	Plazas limitadas\n 	Ubi
 cación: Escuela Insular de Artesanía - Villa de Mazo\n 	Impartido por Ma
 rina Valls\n\n\n\nInfo: 744 665 336\n\n
ATTACH;FMTTYPE=image/jpeg:https://www.larevistadelapalma.com/wp-content/up
 loads/2024/09/Curso-de-ceramica-esmaltada.jpg
CATEGORIES:Formación,Otras propuestas
LOCATION:Municipio de Villa de Mazo\, Villa de Mazo\, Villa de Mazo\, 38730
 \, España
GEO:28.622071;-17.780675
X-APPLE-STRUCTURED-LOCATION;VALUE=URI;X-ADDRESS=Villa de Mazo\, Villa de Ma
 zo\, 38730\, España;X-APPLE-RADIUS=100;X-TITLE=Municipio de Villa de Mazo
 :geo:28.622071,-17.780675
END:VEVENT
END:VCALENDAR